BEGIN:VCALENDAR
VERSION:2.0
PRODID:-//Asheville Community Yoga - ECPv6.15.20//NONSGML v1.0//EN
CALSCALE:GREGORIAN
METHOD:PUBLISH
X-ORIGINAL-URL:https://ashevillecommunityyoga.org
X-WR-CALDESC:Events for Asheville Community Yoga
REFRESH-INTERVAL;VALUE=DURATION:PT1H
X-Robots-Tag:noindex
X-PUBLISHED-TTL:PT1H
BEGIN:VTIMEZONE
TZID:America/New_York
BEGIN:DAYLIGHT
TZOFFSETFROM:-0500
TZOFFSETTO:-0400
TZNAME:EDT
DTSTART:20210314T070000
END:DAYLIGHT
BEGIN:STANDARD
TZOFFSETFROM:-0400
TZOFFSETTO:-0500
TZNAME:EST
DTSTART:20211107T060000
END:STANDARD
BEGIN:DAYLIGHT
TZOFFSETFROM:-0500
TZOFFSETTO:-0400
TZNAME:EDT
DTSTART:20220313T070000
END:DAYLIGHT
BEGIN:STANDARD
TZOFFSETFROM:-0400
TZOFFSETTO:-0500
TZNAME:EST
DTSTART:20221106T060000
END:STANDARD
BEGIN:DAYLIGHT
TZOFFSETFROM:-0500
TZOFFSETTO:-0400
TZNAME:EDT
DTSTART:20230312T070000
END:DAYLIGHT
BEGIN:STANDARD
TZOFFSETFROM:-0400
TZOFFSETTO:-0500
TZNAME:EST
DTSTART:20231105T060000
END:STANDARD
END:VTIMEZONE
BEGIN:VEVENT
DTSTART;TZID=America/New_York:20221119T100000
DTEND;TZID=America/New_York:20221119T150000
DTSTAMP:20260425T212250
CREATED:20221110T142602Z
LAST-MODIFIED:20221110T145709Z
UID:23580-1668852000-1668870000@ashevillecommunityyoga.org
SUMMARY:Holiday Art Market
DESCRIPTION:Saturday\, November 19th 2022 from 10 a.m. to 3 p.m. \n\n\n\nat Asheville Community Yoga (Studio C) \n\n\n\n\n\n\n\nA percentage of each vendor’s proceeds will go towards our Fall Community Fundraiser!  \n\n\n\nCome shop for loved ones or for yourself at our Holiday Art Market! We will have 24 talented Artists vending a wide variety of crafts\, as well as live music and snacks.  \n\n\n\nThere will be a special Fundraising Raffle Basket at this event\, composed of one piece of Art from each vendor!
URL:https://ashevillecommunityyoga.org/event/holiday-art-market/
LOCATION:Asheville Community Yoga\, 8 Brookdale Rd\, Asheville\, North Carolina\, 28804\, United States
CATEGORIES:Community Events
END:VEVENT
END:VCALENDAR