BEGIN:VCALENDAR
VERSION:2.0
PRODID:-//Asheville Community Yoga - ECPv6.15.20//NONSGML v1.0//EN
CALSCALE:GREGORIAN
METHOD:PUBLISH
X-WR-CALNAME:Asheville Community Yoga
X-ORIGINAL-URL:https://ashevillecommunityyoga.org
X-WR-CALDESC:Events for Asheville Community Yoga
REFRESH-INTERVAL;VALUE=DURATION:PT1H
X-Robots-Tag:noindex
X-PUBLISHED-TTL:PT1H
BEGIN:VTIMEZONE
TZID:America/New_York
BEGIN:DAYLIGHT
TZOFFSETFROM:-0500
TZOFFSETTO:-0400
TZNAME:EDT
DTSTART:20220313T070000
END:DAYLIGHT
BEGIN:STANDARD
TZOFFSETFROM:-0400
TZOFFSETTO:-0500
TZNAME:EST
DTSTART:20221106T060000
END:STANDARD
BEGIN:DAYLIGHT
TZOFFSETFROM:-0500
TZOFFSETTO:-0400
TZNAME:EDT
DTSTART:20230312T070000
END:DAYLIGHT
BEGIN:STANDARD
TZOFFSETFROM:-0400
TZOFFSETTO:-0500
TZNAME:EST
DTSTART:20231105T060000
END:STANDARD
BEGIN:DAYLIGHT
TZOFFSETFROM:-0500
TZOFFSETTO:-0400
TZNAME:EDT
DTSTART:20240310T070000
END:DAYLIGHT
BEGIN:STANDARD
TZOFFSETFROM:-0400
TZOFFSETTO:-0500
TZNAME:EST
DTSTART:20241103T060000
END:STANDARD
END:VTIMEZONE
BEGIN:VEVENT
DTSTART;TZID=America/New_York:20230304T100000
DTEND;TZID=America/New_York:20230304T120000
DTSTAMP:20260425T164245
CREATED:20230201T185121Z
LAST-MODIFIED:20230201T185122Z
UID:23902-1677924000-1677931200@ashevillecommunityyoga.org
SUMMARY:Astrology Elements: Discover the Wisdom of Astro- Yoga w/ Mary Kathryn Jackson
DESCRIPTION:at Asheville Community Yoga \n\n\n\n\n\n\n\nGain a basic understanding of astrology and how it impacts human behavior and the human experience in this practical\, informative\, and playful workshop. Together\, we’ll discover the gifts and lessons of the zodiac signs\, planets\, and their elements. Through astro-yoga\, we’ll align the yoga asana practice with the wisdom of astrology\, so you can incorporate it into your daily routine. You’ll leave feeling grounded\, inspired\, and equipped with accessible tools to carry you forward. \n\n\n\nYou can expect: \n\n\n\n• An interactive discussion on foundational astrology principles and how they can inform your relationships\, work\, strengths and challenges\, life purpose\, life lessons\, and more \n\n\n\n• Astro-themed yoga asana to integrate the knowledge of the discussion \n\n\n\n• Play and exploration of the astrology elements and planetary energies through movement\, contemplative practice\, etc.  \n\n\n\n• Expect to have fun — laughter is likely! \n\n\n\nWhether you’re a novice or an experienced astrology lover\, this workshop will offer you a new perspective with practical directives to integrate into your life. \n\n\n\nMary Kathryn’s intention is to facilitate a space for learning\, play\, growth\, connection\, and guidance—and to share the wisdom of the cosmos! She is an experienced certified life coach\, trained professional astrologer\, energy medicine practitioner\, and yoga teacher. Learn more about Mary Kathryn and her teaching style here: www.marykathrynjackson.com/.  \n\n\n\nNo experience needed. Beginner astrology and yoga students are welcome and encouraged to join! Please reach out if you have any questions. \n\n\n\nCost: $30\, Financial Assistance Available \n\n\n\n\n\n\n\nPLEASE NOTE: We encourage pre-registration for all programming. Registering in advance guarantees your spot and helps the studio have adequate staffing. If fewer than 5 participants register the event may be canceled. \n\n\n\nPlease create a mindbody account for each participant if registering more than 1 person. If you have any questions regarding registration\, drop-in fees\, etc… please email Sarah sarah@ashevillecommunityyoga.org 
URL:https://ashevillecommunityyoga.org/event/astrology-elements-discover-the-wisdom-of-astro-yoga-w-mary-kathryn-jackson/
LOCATION:Asheville Community Yoga\, 8 Brookdale Rd\, Asheville\, North Carolina\, 28804\, United States
CATEGORIES:Workshops
END:VEVENT
END:VCALENDAR