BEGIN:VCALENDAR
VERSION:2.0
PRODID:-//Asheville Community Yoga - ECPv6.15.20//NONSGML v1.0//EN
CALSCALE:GREGORIAN
METHOD:PUBLISH
X-WR-CALNAME:Asheville Community Yoga
X-ORIGINAL-URL:https://ashevillecommunityyoga.org
X-WR-CALDESC:Events for Asheville Community Yoga
REFRESH-INTERVAL;VALUE=DURATION:PT1H
X-Robots-Tag:noindex
X-PUBLISHED-TTL:PT1H
BEGIN:VTIMEZONE
TZID:America/New_York
BEGIN:DAYLIGHT
TZOFFSETFROM:-0500
TZOFFSETTO:-0400
TZNAME:EDT
DTSTART:20220313T070000
END:DAYLIGHT
BEGIN:STANDARD
TZOFFSETFROM:-0400
TZOFFSETTO:-0500
TZNAME:EST
DTSTART:20221106T060000
END:STANDARD
BEGIN:DAYLIGHT
TZOFFSETFROM:-0500
TZOFFSETTO:-0400
TZNAME:EDT
DTSTART:20230312T070000
END:DAYLIGHT
BEGIN:STANDARD
TZOFFSETFROM:-0400
TZOFFSETTO:-0500
TZNAME:EST
DTSTART:20231105T060000
END:STANDARD
BEGIN:DAYLIGHT
TZOFFSETFROM:-0500
TZOFFSETTO:-0400
TZNAME:EDT
DTSTART:20240310T070000
END:DAYLIGHT
BEGIN:STANDARD
TZOFFSETFROM:-0400
TZOFFSETTO:-0500
TZNAME:EST
DTSTART:20241103T060000
END:STANDARD
END:VTIMEZONE
BEGIN:VEVENT
DTSTART;TZID=America/New_York:20230423T101500
DTEND;TZID=America/New_York:20230423T121500
DTSTAMP:20260425T152559
CREATED:20230314T142018Z
LAST-MODIFIED:20230314T142020Z
UID:24081-1682244900-1682252100@ashevillecommunityyoga.org
SUMMARY:Yoga At The Wall w/ Katie Freshman
DESCRIPTION:at Asheville Community Yoga \n\n\n\n\n\n\n\nOf the many props available for your yoga practice\, the wall is one of the most relatively available prop within our home and studio spaces. By offering comfort and support for the body to release in restorative postures. The wall provides stability\, balance\, and even the potential to deepen into a stretch. Encouraging more safety and greater security for the body when learning inversions\, as well as offering building blocks to variations. Arm balances can also find the support of the wall\, freeing us with each attempt of our fears and doubts within the mind. Helpful in finding alignment as well as a reminder to keep certain body parts active; the wall can enhance your overall practice.  \n\n\n\nDuring this two hour session we will utilize the studios wall space to investigate alignment principles\, stretching\, and support within the postures. Leaving with a well rounded exploration of the wall as a beneficial prop for our asana practice. Our journey at the wall may reveal the comfort of poses reclined\, seated\, standing\, balancing and inverting. You are not required to try each pose\, this is a workshop to encourage us to meet the practice where we need it. May the wall hold us. \n\n\n\nCost: $30\, Financial Assistance Available \n\n\n\n\n\n\n\nPLEASE NOTE: We encourage pre-registration for all programming. Registering in advance guarantees your spot and helps the studio have adequate staffing. If fewer than 5 participants register the event may be canceled. \n\n\n\nPlease create a mindbody account for each participant if registering more than 1 person. If you have any questions regarding registration\, drop-in fees\, etc… please email Sarah sarah@ashevillecommunityyoga.org 
URL:https://ashevillecommunityyoga.org/event/yoga-at-the-wall-w-katie-freshman/
LOCATION:Asheville Community Yoga\, 8 Brookdale Rd\, Asheville\, North Carolina\, 28804\, United States
CATEGORIES:Workshops
END:VEVENT
END:VCALENDAR