BEGIN:VCALENDAR
VERSION:2.0
PRODID:-//Asheville Community Yoga - ECPv6.15.20//NONSGML v1.0//EN
CALSCALE:GREGORIAN
METHOD:PUBLISH
X-WR-CALNAME:Asheville Community Yoga
X-ORIGINAL-URL:https://ashevillecommunityyoga.org
X-WR-CALDESC:Events for Asheville Community Yoga
REFRESH-INTERVAL;VALUE=DURATION:PT1H
X-Robots-Tag:noindex
X-PUBLISHED-TTL:PT1H
BEGIN:VTIMEZONE
TZID:America/New_York
BEGIN:DAYLIGHT
TZOFFSETFROM:-0500
TZOFFSETTO:-0400
TZNAME:EDT
DTSTART:20220313T070000
END:DAYLIGHT
BEGIN:STANDARD
TZOFFSETFROM:-0400
TZOFFSETTO:-0500
TZNAME:EST
DTSTART:20221106T060000
END:STANDARD
BEGIN:DAYLIGHT
TZOFFSETFROM:-0500
TZOFFSETTO:-0400
TZNAME:EDT
DTSTART:20230312T070000
END:DAYLIGHT
BEGIN:STANDARD
TZOFFSETFROM:-0400
TZOFFSETTO:-0500
TZNAME:EST
DTSTART:20231105T060000
END:STANDARD
BEGIN:DAYLIGHT
TZOFFSETFROM:-0500
TZOFFSETTO:-0400
TZNAME:EDT
DTSTART:20240310T070000
END:DAYLIGHT
BEGIN:STANDARD
TZOFFSETFROM:-0400
TZOFFSETTO:-0500
TZNAME:EST
DTSTART:20241103T060000
END:STANDARD
END:VTIMEZONE
BEGIN:VEVENT
DTSTART;TZID=America/New_York:20230504T180000
DTEND;TZID=America/New_York:20230504T200000
DTSTAMP:20260425T141732
CREATED:20230420T202659Z
LAST-MODIFIED:20230501T225939Z
UID:236225-1683223200-1683230400@ashevillecommunityyoga.org
SUMMARY:Free Fundraiser Celebration Show
DESCRIPTION:(with performances by Free Creatures and Ariel Garcia) \n\n\n\n\n\nIn the courtyard at Asheville Community Yoga \n\n\n\n\n\n\n\nWe successfully raised $150\,000 through our community fundraiser!  \n\n\n\nCome celebrate with us on Thursday May 4th from 6 p.m.- 8 p.m! All are welcome! \n\n\n\nFree Creatures ( an Oregon-based trio) will be performing\, and our dear staff member and teacher Ariel Garcia will be be opening for the group. This is a free event and all you need to bring is your dancing shoes! The Bun Intended (Home-made Thai street food)\, Milk and Honey (local American fare)\, and Kombucha from Buchi will be available!  \n\n\n\nKids are welcome. Please RSVP in advance through the link below.  \n\n\n\n\n\n\n\n \n\n\n\nPlease create a mindbody account for each participant if registering more than 1 person. If you have any questions regarding registration\, … please email Sarah sarah@ashevillecommunityyoga.org 
URL:https://ashevillecommunityyoga.org/event/free-fundraiser-celebration-show/
LOCATION:Asheville Community Yoga\, 8 Brookdale Rd\, Asheville\, North Carolina\, 28804\, United States
CATEGORIES:Workshops
END:VEVENT
END:VCALENDAR