BEGIN:VCALENDAR
VERSION:2.0
PRODID:-//Asheville Community Yoga - ECPv6.15.20//NONSGML v1.0//EN
CALSCALE:GREGORIAN
METHOD:PUBLISH
X-WR-CALNAME:Asheville Community Yoga
X-ORIGINAL-URL:https://ashevillecommunityyoga.org
X-WR-CALDESC:Events for Asheville Community Yoga
REFRESH-INTERVAL;VALUE=DURATION:PT1H
X-Robots-Tag:noindex
X-PUBLISHED-TTL:PT1H
BEGIN:VTIMEZONE
TZID:America/New_York
BEGIN:DAYLIGHT
TZOFFSETFROM:-0500
TZOFFSETTO:-0400
TZNAME:EDT
DTSTART:20220313T070000
END:DAYLIGHT
BEGIN:STANDARD
TZOFFSETFROM:-0400
TZOFFSETTO:-0500
TZNAME:EST
DTSTART:20221106T060000
END:STANDARD
BEGIN:DAYLIGHT
TZOFFSETFROM:-0500
TZOFFSETTO:-0400
TZNAME:EDT
DTSTART:20230312T070000
END:DAYLIGHT
BEGIN:STANDARD
TZOFFSETFROM:-0400
TZOFFSETTO:-0500
TZNAME:EST
DTSTART:20231105T060000
END:STANDARD
BEGIN:DAYLIGHT
TZOFFSETFROM:-0500
TZOFFSETTO:-0400
TZNAME:EDT
DTSTART:20240310T070000
END:DAYLIGHT
BEGIN:STANDARD
TZOFFSETFROM:-0400
TZOFFSETTO:-0500
TZNAME:EST
DTSTART:20241103T060000
END:STANDARD
END:VTIMEZONE
BEGIN:VEVENT
DTSTART;TZID=America/New_York:20230813T101500
DTEND;TZID=America/New_York:20230813T121500
DTSTAMP:20260425T105644
CREATED:20230714T182709Z
LAST-MODIFIED:20230714T182710Z
UID:236531-1691921700-1691928900@ashevillecommunityyoga.org
SUMMARY:Yoga for Perimenopause & Menopause w/ Dr. Krystal Kinnunen
DESCRIPTION:at Asheville Community Yoga  \n\n\n\n\n\n\n\nCome join us for a heartwarming gathering where women come together to celebrate this cherished journey of transformation\, as they step into the role of wise guardians of knowledge. \n\n\n\nIn the company of Dr. Krystal (DACM\, LAc)\, a compassionate guide\, we will delve into the wisdom of East Asian Medicine\, discovering its powerful insights on embracing longevity and gracefully navigating the process of aging. Through gentle and nurturing yoga postures tailored specifically for women\, we’ll offer our bodies loving support. And as you unwind and relax\, soothing acupuncture treatments will be provided\, ensuring a truly rejuvenating experience. \n\n\n\nThis experience is not just about individual growth; we’ll create a warm and inclusive space for sharing and connection. We will engage in an intimate sharing circle\, where stories and wisdom are freely exchanged\, fostering a deep sense of community. As the event concludes\, you’ll walk away feeling replenished\, empowered\, and fully equipped to embrace the next chapter of your journey.  \n\n\n\nCost: $30  \n\n\n\nFinancial Aid Available  \n\n\n\n\n\n\n\nPLEASE NOTE: We encourage pre-registration for all programming. Registering in advance guarantees your spot and helps the studio have adequate staffing. If fewer than 5 participants register the event may be canceled. \n\n\n\nPlease create a mindbody account for each participant if registering more than 1 person. If you have any questions regarding registration\, need help registering\, or would like to request financial aid\, please email Sarah Newsome: Sarah@AshevilleCommunityYoga.org 
URL:https://ashevillecommunityyoga.org/event/yoga-for-perimenopause-menopause-w-dr-krystal-kinnunen/
LOCATION:Asheville Community Yoga\, 8 Brookdale Rd\, Asheville\, North Carolina\, 28804\, United States
CATEGORIES:Workshops
END:VEVENT
END:VCALENDAR