BEGIN:VCALENDAR
VERSION:2.0
PRODID:-//Asheville Community Yoga - ECPv6.15.20//NONSGML v1.0//EN
CALSCALE:GREGORIAN
METHOD:PUBLISH
X-ORIGINAL-URL:https://ashevillecommunityyoga.org
X-WR-CALDESC:Events for Asheville Community Yoga
REFRESH-INTERVAL;VALUE=DURATION:PT1H
X-Robots-Tag:noindex
X-PUBLISHED-TTL:PT1H
BEGIN:VTIMEZONE
TZID:America/New_York
BEGIN:DAYLIGHT
TZOFFSETFROM:-0500
TZOFFSETTO:-0400
TZNAME:EDT
DTSTART:20220313T070000
END:DAYLIGHT
BEGIN:STANDARD
TZOFFSETFROM:-0400
TZOFFSETTO:-0500
TZNAME:EST
DTSTART:20221106T060000
END:STANDARD
BEGIN:DAYLIGHT
TZOFFSETFROM:-0500
TZOFFSETTO:-0400
TZNAME:EDT
DTSTART:20230312T070000
END:DAYLIGHT
BEGIN:STANDARD
TZOFFSETFROM:-0400
TZOFFSETTO:-0500
TZNAME:EST
DTSTART:20231105T060000
END:STANDARD
BEGIN:DAYLIGHT
TZOFFSETFROM:-0500
TZOFFSETTO:-0400
TZNAME:EDT
DTSTART:20240310T070000
END:DAYLIGHT
BEGIN:STANDARD
TZOFFSETFROM:-0400
TZOFFSETTO:-0500
TZNAME:EST
DTSTART:20241103T060000
END:STANDARD
END:VTIMEZONE
BEGIN:VEVENT
DTSTART;TZID=America/New_York:20230924T101500
DTEND;TZID=America/New_York:20230924T121500
DTSTAMP:20260425T092746
CREATED:20230919T222701Z
LAST-MODIFIED:20230919T222702Z
UID:236829-1695550500-1695557700@ashevillecommunityyoga.org
SUMMARY:Chant Your Heart- An Introduction to Mantra w/ Rian Austin
DESCRIPTION:at Asheville Community Yoga \n\n\n\n\n\n\n\n \n\n\n\nMantra is a powerful tool to liberate the mind and heart. The root of the word\, mantra\, is manas (mind) + tra (to protect). When we gather in community to chant\, we bring this practice to life. We always leave a little brighter. \n\n\n\nIn this workshop\, you will be introduced to a variety of mantras and their significance. You will cultivate the power of your voice. You will experience mantra as meditation and as celebration. As we chant\, these sacred sounds resonate deep in our consciousness. They guide us home. \n\n\n\nYou may be playing with mantra for the first time or rekindling a consistent practice; just bring your authentic presence. Chant your heart and know the joy of sacred sound! \n\n\n\nCost: $30 \n\n\n\nFinancial Aid Available \n\n\n\n\n\n\n\nPLEASE NOTE: We encourage pre-registration for all programming. Registering in advance guarantees your spot and helps the studio have adequate staffing. If fewer than 5 participants register the event may be canceled. \n\n\n\nPlease create a mindbody account for each participant if registering more than 1 person. If you have any questions regarding registration\, or financial aid\, please email Sarah sarah@ashevillecommunityyoga.org 
URL:https://ashevillecommunityyoga.org/event/chant-your-heart-an-introduction-to-mantra-w-rian-austin-2/
LOCATION:Asheville Community Yoga\, 8 Brookdale Rd\, Asheville\, North Carolina\, 28804\, United States
CATEGORIES:Workshops
END:VEVENT
END:VCALENDAR