BEGIN:VCALENDAR
VERSION:2.0
PRODID:-//Asheville Community Yoga - ECPv6.15.20//NONSGML v1.0//EN
CALSCALE:GREGORIAN
METHOD:PUBLISH
X-WR-CALNAME:Asheville Community Yoga
X-ORIGINAL-URL:https://ashevillecommunityyoga.org
X-WR-CALDESC:Events for Asheville Community Yoga
REFRESH-INTERVAL;VALUE=DURATION:PT1H
X-Robots-Tag:noindex
X-PUBLISHED-TTL:PT1H
BEGIN:VTIMEZONE
TZID:America/New_York
BEGIN:DAYLIGHT
TZOFFSETFROM:-0500
TZOFFSETTO:-0400
TZNAME:EDT
DTSTART:20230312T070000
END:DAYLIGHT
BEGIN:STANDARD
TZOFFSETFROM:-0400
TZOFFSETTO:-0500
TZNAME:EST
DTSTART:20231105T060000
END:STANDARD
BEGIN:DAYLIGHT
TZOFFSETFROM:-0500
TZOFFSETTO:-0400
TZNAME:EDT
DTSTART:20240310T070000
END:DAYLIGHT
BEGIN:STANDARD
TZOFFSETFROM:-0400
TZOFFSETTO:-0500
TZNAME:EST
DTSTART:20241103T060000
END:STANDARD
BEGIN:DAYLIGHT
TZOFFSETFROM:-0500
TZOFFSETTO:-0400
TZNAME:EDT
DTSTART:20250309T070000
END:DAYLIGHT
BEGIN:STANDARD
TZOFFSETFROM:-0400
TZOFFSETTO:-0500
TZNAME:EST
DTSTART:20251102T060000
END:STANDARD
END:VTIMEZONE
BEGIN:VEVENT
DTSTART;TZID=America/New_York:20241214T101500
DTEND;TZID=America/New_York:20241214T121500
DTSTAMP:20260424T142845
CREATED:20240918T193901Z
LAST-MODIFIED:20241125T162844Z
UID:238362-1734171300-1734178500@ashevillecommunityyoga.org
SUMMARY:Learn the Art of Thai Massage w/ Eli McNamara
DESCRIPTION:Come with a partner or friend and learn how to support one another through the art of Thai massage. Truly a yogic practice\, the Thai approach honors the relationship between giver and receiver\, asserting that both equally benefit from the practice. Thai massage incorporates rocking\, compressions\, and gentle stretching for a full- body experience. Walk away with a short sequence\, or flow\, to share with your loved ones to foster loving kindness through touch. \n \nPlease note: This workshop is limited to 18 participants and you must come with a partner in order to participate. Both people need to register on Mindbody to reserve your space. \n*Modifications and variations will be shared for every technique taught as there is no one-size-fits-all massage. Please arrive in good health and ability to communicate your body’s needs. \n*Bring any thicker yoga mats and/or blankets you may have to create a comfortable mat. The studio also has mats and blankets. \n*You must be a Licensed Massage Therapist in the state of North Carolina to charge for bodywork. Please share this practice responsibly with those you trust. \nCost: $30 per personFinancial Aid Available- Please stop by the front desk\, call\, or email kelsey@ashevillecommunityyoga.org.PLEASE NOTE: We encourage pre-registration for all programming. Registering in advance guarantees your spot and helps the studio have adequate staffing. If fewer than 5 participants register the event may be canceled. \nRefund Policy: We understand that life happens and unforeseen circumstances come up. If life offers up an unexpected event and you need to withdraw from the workshop:  \n\nA full refund will be issued if you need to withdraw 4+ days before the workshop.\n\nIf you need to withdraw within 3 days or fewer\, no refund is provided.  \n\n\nPlease create a Mindbody account for each participant if registering more than 1 person. If you have any questions regarding registration\, please email Kelsey at kelsey@ashevillecommunityyoga.org  
URL:https://ashevillecommunityyoga.org/event/learn-the-art-of-thai-massage-w-eli-mcnamara-4/
LOCATION:Asheville Community Yoga\, 8 Brookdale Rd\, Asheville\, North Carolina\, 28804\, United States
CATEGORIES:Workshops
ATTACH;FMTTYPE=image/jpeg:https://ashevillecommunityyoga.org/wp-content/uploads/2024/09/17666F20-63DF-4E51-B53C-1B2ED7E0CECD-scaled.jpg
END:VEVENT
END:VCALENDAR