BEGIN:VCALENDAR
VERSION:2.0
PRODID:-//Asheville Community Yoga - ECPv6.15.20//NONSGML v1.0//EN
CALSCALE:GREGORIAN
METHOD:PUBLISH
X-WR-CALNAME:Asheville Community Yoga
X-ORIGINAL-URL:https://ashevillecommunityyoga.org
X-WR-CALDESC:Events for Asheville Community Yoga
REFRESH-INTERVAL;VALUE=DURATION:PT1H
X-Robots-Tag:noindex
X-PUBLISHED-TTL:PT1H
BEGIN:VTIMEZONE
TZID:America/New_York
BEGIN:DAYLIGHT
TZOFFSETFROM:-0500
TZOFFSETTO:-0400
TZNAME:EDT
DTSTART:20240310T070000
END:DAYLIGHT
BEGIN:STANDARD
TZOFFSETFROM:-0400
TZOFFSETTO:-0500
TZNAME:EST
DTSTART:20241103T060000
END:STANDARD
BEGIN:DAYLIGHT
TZOFFSETFROM:-0500
TZOFFSETTO:-0400
TZNAME:EDT
DTSTART:20250309T070000
END:DAYLIGHT
BEGIN:STANDARD
TZOFFSETFROM:-0400
TZOFFSETTO:-0500
TZNAME:EST
DTSTART:20251102T060000
END:STANDARD
BEGIN:DAYLIGHT
TZOFFSETFROM:-0500
TZOFFSETTO:-0400
TZNAME:EDT
DTSTART:20260308T070000
END:DAYLIGHT
BEGIN:STANDARD
TZOFFSETFROM:-0400
TZOFFSETTO:-0500
TZNAME:EST
DTSTART:20261101T060000
END:STANDARD
END:VTIMEZONE
BEGIN:VEVENT
DTSTART;TZID=America/New_York:20250108T123000
DTEND;TZID=America/New_York:20250226T134500
DTSTAMP:20260424T114349
CREATED:20241118T184237Z
LAST-MODIFIED:20250217T163844Z
UID:238798-1736339400-1740577500@ashevillecommunityyoga.org
SUMMARY:Snuggle & Stretch Baby and Me Yoga w/ Jocilyn & Josie (8-Week Drop-in Series)
DESCRIPTION:The journey into parenthood\, whether for the first time or with multiple children\, is an ever-evolving and never-ending adventure. \nPlease note: This is an 8-week class offering on Wednesdays from 12:30-1:45pm. You are welcome to join any or all of these classes\, but they will be capped at 15 students & their children\, to allow for ample integration. Please consider registering in advance\, and if you cannot make it\, please plan to cancel as soon as you know\, in order to free up the space for another parent.Click here to register for Wednesday\, February 19Click here to register for Wednesday\, February 26 \nIn order to cater to those experiencing the first year of this transition\, we developed this course designed for new parents/caregivers seeking a safe and nurturing space to breathe\, stretch and bond with their new bundle of joy. We wish to create an experience that will allow parents/caregivers to benefit from the physical\, emotional and spiritual connection between themselves and their little ones.  \nOne can anticipate light breathwork\, gentle movements\, restorative postures\, baby massages\, and more.  \nThis class is for 0-12 month old babies or pre-walkers. Crawlers are welcome. If you have twins\, please consider bringing an additional person with you\, if possible.  \nGuardians\, please bring your own blankets.  Mats and blocks will be provided for this class.  For sanitation purposes\, bolsters can only be used if covered/protected by a blanket brought by parents/caregivers.   \nOpening circleCentering/Breathwork/ConnectionGentle YogaBaby Yoga/MassageClosing Song \nClasses are priced with a sliding scale of $10-$20. \nPLEASE NOTE: We encourage pre-registration for all programming. Registering in advance guarantees your spot and helps the studio have adequate staffing.  \nRefund Policy: We understand that life happens and unforeseen circumstances come up. If life offers up an unexpected event and you need to withdraw from the class:  \n\nA full refund will be issued if you need to withdraw 48 hours before the class. Please reach out for your refund\, as it will not be automatically applied to your account.\n\nIf you need to withdraw after the 48 hour window\, no refund is provided.  \n\n\nPlease create a Mindbody account for each participant if registering more than 1 person. If you have any questions regarding registration\, please email Kelsey at  kelsey@ashevillecommunityyoga.org \nAFTER THE CLASSES:  \n\n\n\n“Parent & Baby Holistic Connection Circle with Dr. Ellie MacGregor \nJoin us for a heart-centered gathering designed to foster community among parents and caregivers of babies 0–12 months old. Led by Dr. Ellie MacGregor\, founder of Middle Path Integrative Pediatrics and host of the I Heal Kids podcast\, this unique offering blends meaningful conversation\, shared experiences\, and expert-led discussions on holistic health topics for your little one. Dr. Ellie\, a fellowship-trained expert in integrative\, osteopathic\, and functional medicine\, facilitates open dialogue in a supportive\, judgment-free space. Together\, we’ll connect\, learn\, and grow\, nurturing both your baby and yourself on this beautiful parenting journey.” \n\n 
URL:https://ashevillecommunityyoga.org/event/4-week-series-snuggle-stretch-baby-and-me-yoga-w-jocilyn-josie/
LOCATION:Asheville Community Yoga\, 8 Brookdale Rd\, Asheville\, North Carolina\, 28804\, United States
CATEGORIES:Series
ATTACH;FMTTYPE=image/jpeg:https://ashevillecommunityyoga.org/wp-content/uploads/2024/09/IMG_5988-scaled.jpg
END:VEVENT
BEGIN:VEVENT
DTSTART;TZID=America/New_York:20250209T101500
DTEND;TZID=America/New_York:20250209T121500
DTSTAMP:20260424T114349
CREATED:20241202T203524Z
LAST-MODIFIED:20250207T055348Z
UID:238871-1739096100-1739103300@ashevillecommunityyoga.org
SUMMARY:How To Build A Home Practice w/ Dana Maria
DESCRIPTION:In this 2 hour all levels workshop we will learn some  basic building blocks that will  aid in putting together your own sequences and approach your home practice with confidence. \n\n\nEstablishing an independent home practice is a rite of passage for yoga practitioners. It’s the point at which we really learn to move at our own pace\, listen and respond to our bodies\, and develop greater consistency and frequency in our yoga practice. Practicing on our own empowers us and gives us new freedom to explore.  \nWhy do you practice yoga? \nWhatever it is that brings you to the mat\, be clear in your intention. \nEstablish a regular personal practice\, and yoga’s benefits—including a steady mind and strong\, flexible body—will come. \n \n\n \nCost: $30Financial Aid Available- Please stop by the front desk or email Kelsey@ashevillecommunityyoga.org \n \nPLEASE NOTE: We encourage pre-registration for all programming. Registering in advance guarantees your spot and helps the studio have adequate staffing. If fewer than 5 participants register the event may be canceled. \nRefund Policy: We understand that life happens and unforeseen circumstances come up. If life offers up an unexpected event and you need to withdraw from the workshop: \n\nA full refund will be issued if you need to withdraw 4+ days before the workshop.\nIf you need to withdraw within 3 days or fewer\, no refund is provided.\n\nPlease create a Mindbody account for each participant if registering more than 1 person. If you have any questions regarding registration\, please email Kelsey at  kelsey@ashevillecommunityyoga.org 
URL:https://ashevillecommunityyoga.org/event/how-to-build-a-home-practice-w-dana-maria/
LOCATION:Asheville Community Yoga\, 8 Brookdale Rd\, Asheville\, North Carolina\, 28804\, United States
CATEGORIES:Workshops
ATTACH;FMTTYPE=image/jpeg:https://ashevillecommunityyoga.org/wp-content/uploads/2024/12/IMG_8685-scaled.jpeg
END:VEVENT
BEGIN:VEVENT
DTSTART;TZID=America/New_York:20250209T130000
DTEND;TZID=America/New_York:20250209T150000
DTSTAMP:20260424T114349
CREATED:20250107T151104Z
LAST-MODIFIED:20250207T055617Z
UID:239187-1739106000-1739113200@ashevillecommunityyoga.org
SUMMARY:Partner Yoga & Easy Thai Massage w/ Leaflin Winecoff
DESCRIPTION:Partner yoga is a great way to connect with your asana practice in a new way\, while deepening connection with a loved one. Thai yoga massage (sometimes called “lazy person’s yoga”) is an ancient practice that can be described as a symbiotic healing dance\, where the benefits of yoga are experienced by both the giver and the receiver.  \nWe use hands\, feet\, elbows\, knees\, rhythm and gravity to gently open the energetic channels of the body\, restoring ease and flow. This practice is done fully clothed on a mat on the floor\, and typically does not use oils. The aim of this workshop is to foster connection through curiosity\, compassion\, and communication\, and awaken our innate healing capabilities! \nWe’ll warm up with a few simple partner yoga practices before delving into some basic (but extremely effective!) Thai massage techniques. The basics of intelligent body mechanics\, giving and receiving\, and cultivation of loving kindness are paramount to to this practice\, and will be cultivated throughout. \nThis is not a training to become a professional bodyworker\, but is meant to provide participants with useful tools to be shared with friends and loved ones. The hope is that you’ll leave feeling great in your own body\, and inspired to help others feel great in theirs! *Please do come with a partner you feel comfortable practicing with.  \nPlease note: This workshop is limited to 18 participants and you must come with a partner in order to participate. Both people need to register on Mindbody to reserve your space. \n*Modifications and variations will be shared for every technique taught as there is no one-size-fits-all massage. Please arrive in good health and ability to communicate your body’s needs. \n*You must be a Licensed Massage Therapist in the state of North Carolina to charge for bodywork. Please share this practice responsibly with those you trust. \nCost: $30 per personFinancial Aid Available- Please stop by the front desk\, call\, or email kelsey@ashevillecommunityyoga.org. \n*This workshop is currently full. \nPLEASE NOTE: We encourage pre-registration for all programming. Registering in advance guarantees your spot and helps the studio have adequate staffing. If fewer than 5 participants register the event may be canceled. \nRefund Policy: We understand that life happens and unforeseen circumstances come up. If life offers up an unexpected event and you need to withdraw from the workshop:  \n\nA full refund will be issued if you need to withdraw 4+ days before the workshop.\n\nIf you need to withdraw within 3 days or fewer\, no refund is provided.  \n\n\nPlease create a Mindbody account for each participant if registering more than 1 person. If you have any questions regarding registration\, please email Kelsey at kelsey@ashevillecommunityyoga.org  
URL:https://ashevillecommunityyoga.org/event/partner-yoga-easy-thai-massage-w-leaflin-winecoff/
LOCATION:Asheville Community Yoga\, 8 Brookdale Rd\, Asheville\, North Carolina\, 28804\, United States
CATEGORIES:Workshops
ATTACH;FMTTYPE=image/jpeg:https://ashevillecommunityyoga.org/wp-content/uploads/2024/12/Leaflin.jpeg
END:VEVENT
END:VCALENDAR