BEGIN:VCALENDAR
VERSION:2.0
PRODID:-//Asheville Community Yoga - ECPv6.15.20//NONSGML v1.0//EN
CALSCALE:GREGORIAN
METHOD:PUBLISH
X-ORIGINAL-URL:https://ashevillecommunityyoga.org
X-WR-CALDESC:Events for Asheville Community Yoga
REFRESH-INTERVAL;VALUE=DURATION:PT1H
X-Robots-Tag:noindex
X-PUBLISHED-TTL:PT1H
BEGIN:VTIMEZONE
TZID:America/New_York
BEGIN:DAYLIGHT
TZOFFSETFROM:-0500
TZOFFSETTO:-0400
TZNAME:EDT
DTSTART:20240310T070000
END:DAYLIGHT
BEGIN:STANDARD
TZOFFSETFROM:-0400
TZOFFSETTO:-0500
TZNAME:EST
DTSTART:20241103T060000
END:STANDARD
BEGIN:DAYLIGHT
TZOFFSETFROM:-0500
TZOFFSETTO:-0400
TZNAME:EDT
DTSTART:20250309T070000
END:DAYLIGHT
BEGIN:STANDARD
TZOFFSETFROM:-0400
TZOFFSETTO:-0500
TZNAME:EST
DTSTART:20251102T060000
END:STANDARD
BEGIN:DAYLIGHT
TZOFFSETFROM:-0500
TZOFFSETTO:-0400
TZNAME:EDT
DTSTART:20260308T070000
END:DAYLIGHT
BEGIN:STANDARD
TZOFFSETFROM:-0400
TZOFFSETTO:-0500
TZNAME:EST
DTSTART:20261101T060000
END:STANDARD
END:VTIMEZONE
BEGIN:VEVENT
DTSTART;TZID=America/New_York:20250411T170000
DTEND;TZID=America/New_York:20250411T190000
DTSTAMP:20260424T090420
CREATED:20250225T181010Z
LAST-MODIFIED:20250227T200924Z
UID:239890-1744390800-1744398000@ashevillecommunityyoga.org
SUMMARY:Yogi Book Club
DESCRIPTION:Free Community Event!\n \nGrab your book and save the date! \nGather in community to discuss The Heart of The Buddha’s Teaching by Thich Nhat Hanh. Community Members are welcome to join even if they are unable to finish the book\, as there is much value to be gained from discussion.  \nPlease consider signing up in advance so we know to expect you! \n*ACY does not provide copies of the book. \nPlease create a Mindbody account for each participant if registering more than 1 person. If you have any questions regarding registration\, please email Kelsey at  kelsey@ashevillecommunityyoga.org
URL:https://ashevillecommunityyoga.org/event/yogi-book-club/
LOCATION:Asheville Community Yoga\, 8 Brookdale Rd\, Asheville\, North Carolina\, 28804\, United States
CATEGORIES:Community Events,Workshops
ATTACH;FMTTYPE=image/png:https://ashevillecommunityyoga.org/wp-content/uploads/2025/02/Screen-Shot-2025-02-25-at-12.34.03-PM.png
END:VEVENT
END:VCALENDAR