BEGIN:VCALENDAR
VERSION:2.0
PRODID:-//Asheville Community Yoga - ECPv6.15.20//NONSGML v1.0//EN
CALSCALE:GREGORIAN
METHOD:PUBLISH
X-WR-CALNAME:Asheville Community Yoga
X-ORIGINAL-URL:https://ashevillecommunityyoga.org
X-WR-CALDESC:Events for Asheville Community Yoga
REFRESH-INTERVAL;VALUE=DURATION:PT1H
X-Robots-Tag:noindex
X-PUBLISHED-TTL:PT1H
BEGIN:VTIMEZONE
TZID:America/New_York
BEGIN:DAYLIGHT
TZOFFSETFROM:-0500
TZOFFSETTO:-0400
TZNAME:EDT
DTSTART:20240310T070000
END:DAYLIGHT
BEGIN:STANDARD
TZOFFSETFROM:-0400
TZOFFSETTO:-0500
TZNAME:EST
DTSTART:20241103T060000
END:STANDARD
BEGIN:DAYLIGHT
TZOFFSETFROM:-0500
TZOFFSETTO:-0400
TZNAME:EDT
DTSTART:20250309T070000
END:DAYLIGHT
BEGIN:STANDARD
TZOFFSETFROM:-0400
TZOFFSETTO:-0500
TZNAME:EST
DTSTART:20251102T060000
END:STANDARD
BEGIN:DAYLIGHT
TZOFFSETFROM:-0500
TZOFFSETTO:-0400
TZNAME:EDT
DTSTART:20260308T070000
END:DAYLIGHT
BEGIN:STANDARD
TZOFFSETFROM:-0400
TZOFFSETTO:-0500
TZNAME:EST
DTSTART:20261101T060000
END:STANDARD
END:VTIMEZONE
BEGIN:VEVENT
DTSTART;TZID=America/New_York:20250616T083000
DTEND;TZID=America/New_York:20250808T150000
DTSTAMP:20260424T045126
CREATED:20240208T162459Z
LAST-MODIFIED:20250101T152708Z
UID:237286-1750062600-1754665200@ashevillecommunityyoga.org
SUMMARY:Summer Camp 2025
DESCRIPTION:Click here to learn more about the curriculum\, tuition\, staff\, and more. \nAsheville Community Yoga is thrilled to be offering a total of 6 weeks of yoga and mindfulness camp this summer for kids ages 5-10! \nOur yoga camp holistically introduces children to the 8 limbs of yoga in digestible and engaging ways.  Summer camp days are filled with a combination of mindfulness\, movement\, yoga games\, activities\, art\, gardening\, and more! \nChildren will connect with their breath\, have fun as they move their bodies\, and tap into their creativity as they express themselves through music\, art\, storytelling and nature.  \nClick here to view full camp details for 2025
URL:https://ashevillecommunityyoga.org/event/summer-camp-2024/
LOCATION:Asheville Community Yoga\, 8 Brookdale Rd\, Asheville\, North Carolina\, 28804\, United States
CATEGORIES:Community Events
ATTACH;FMTTYPE=image/jpeg:https://ashevillecommunityyoga.org/wp-content/uploads/2024/02/DSC_1477.jpg
END:VEVENT
BEGIN:VEVENT
DTSTART;TZID=America/New_York:20250711T173000
DTEND;TZID=America/New_York:20250711T193000
DTSTAMP:20260424T045127
CREATED:20250428T152411Z
LAST-MODIFIED:20250610T133503Z
UID:240321-1752255000-1752262200@ashevillecommunityyoga.org
SUMMARY:Yogi Book Club: Breath by James Nestor
DESCRIPTION:Free Community Event!\n \nGrab your book and save the date! \nGather in community to discuss “Breath: The New Science of a Lost Art” by James Nestor. Community Members are welcome to join even if they are unable to finish the book\, as there is much value to be gained from discussion.  \nPlease sign up in advance so we know to expect you! \n‘Who would have thought something as simple as changing the way we breathe could be so revolutionary for our health\, from snoring to allergies to immunity? A fascinating book\, full of dazzling revelations’ Dr Rangan Chatterjee \nThere is nothing more essential to our health and wellbeing than breathing: take air in\, let it out\, repeat 25\,000 times a day. Yet\, as a species\, humans have lost the ability to breathe correctly\, with grave consequences. In Breath\, journalist James Nestor travels the world to discover the hidden science behind ancient breathing practices to figure out what went wrong and how to fix it. \nModern research is showing us that making even slight adjustments to the way we inhale and exhale can: \n– jump-start athletic performance– rejuvenate internal organs– halt snoring\, allergies\, asthma and autoimmune disease\, and even straighten scoliotic spines \nNone of this should be possible\, and yet it is. Drawing on thousands of years of ancient wisdom and cutting-edge studies in pulmonology\, psychology\, biochemistry and human physiology\, Breath turns the conventional wisdom of what we thought we knew about our most basic biological function on its head. \nYou will never breathe the same again. \n*ACY does not provide copies of the book. Please consider checking one out from a local library\, or ordering one used! \nPlease sign up in advance so we know to expect you! \nPlease create a Mindbody account for each participant if registering more than 1 person. If you have any questions regarding registration\, please email Kelsey at  kelsey@ashevillecommunityyoga.org
URL:https://ashevillecommunityyoga.org/event/yogi-book-club-3/
LOCATION:Asheville Community Yoga\, 8 Brookdale Rd\, Asheville\, North Carolina\, 28804\, United States
CATEGORIES:Community Events
ATTACH;FMTTYPE=image/jpeg:https://ashevillecommunityyoga.org/wp-content/uploads/2025/04/breath-1.jpg
END:VEVENT
END:VCALENDAR