BEGIN:VCALENDAR
VERSION:2.0
PRODID:-//Asheville Community Yoga - ECPv6.15.20//NONSGML v1.0//EN
CALSCALE:GREGORIAN
METHOD:PUBLISH
X-ORIGINAL-URL:https://ashevillecommunityyoga.org
X-WR-CALDESC:Events for Asheville Community Yoga
REFRESH-INTERVAL;VALUE=DURATION:PT1H
X-Robots-Tag:noindex
X-PUBLISHED-TTL:PT1H
BEGIN:VTIMEZONE
TZID:America/New_York
BEGIN:DAYLIGHT
TZOFFSETFROM:-0500
TZOFFSETTO:-0400
TZNAME:EDT
DTSTART:20240310T070000
END:DAYLIGHT
BEGIN:STANDARD
TZOFFSETFROM:-0400
TZOFFSETTO:-0500
TZNAME:EST
DTSTART:20241103T060000
END:STANDARD
BEGIN:DAYLIGHT
TZOFFSETFROM:-0500
TZOFFSETTO:-0400
TZNAME:EDT
DTSTART:20250309T070000
END:DAYLIGHT
BEGIN:STANDARD
TZOFFSETFROM:-0400
TZOFFSETTO:-0500
TZNAME:EST
DTSTART:20251102T060000
END:STANDARD
BEGIN:DAYLIGHT
TZOFFSETFROM:-0500
TZOFFSETTO:-0400
TZNAME:EDT
DTSTART:20260308T070000
END:DAYLIGHT
BEGIN:STANDARD
TZOFFSETFROM:-0400
TZOFFSETTO:-0500
TZNAME:EST
DTSTART:20261101T060000
END:STANDARD
END:VTIMEZONE
BEGIN:VEVENT
DTSTART;TZID=America/New_York:20250906T101500
DTEND;TZID=America/New_York:20250906T121500
DTSTAMP:20260424T013830
CREATED:20250513T144918Z
LAST-MODIFIED:20250904T202611Z
UID:240426-1757153700-1757160900@ashevillecommunityyoga.org
SUMMARY:Yoga for Knee & Wrist Sensitivity w/ Dana Maria
DESCRIPTION:Join us for a supportive and empowering yoga modifications workshop designed specifically for individuals with knee and wrist sensitivity.  \nThis workshop offers practical tools and accessible variations to help you move safely and confidently on your mat.  \nThrough practice and discussion you will learn how to adapt common poses\, use props effectively\, and build strength and mobility without strain. Whether you’re managing an injury or looking for a more comfortable practice\, this session will help you honor your body while still enjoying the full benefits of yoga.  \nDiscover how to find more comfort\, support\, and empowerment to your yoga journey. All bodies and experience levels are welcome! \nFor more information on Dana\, please see her teacher profile here! \n*2 CE credits for registered yoga teachers \n\nCost: $30 \nFinancial Aid Available- Please stop by the front desk or email Kelsey@ashevillecommunityyoga.org \n \nPLEASE NOTE: We encourage pre-registration for all programming. Registering in advance guarantees your spot and helps the studio have adequate staffing. If fewer than 5 participants register the event may be canceled. \nRefund Policy: We understand that life happens and unforeseen circumstances come up. If life offers up an unexpected event and you need to withdraw from the workshop: \n\nA full refund will be issued if you need to withdraw 4+ days before the workshop. Please reach out for your refund\, as it will not be automatically applied to your account.\nIf you need to withdraw within 3 days or fewer\, no refund is provided.\n\nPlease create a Mindbody account for each participant if registering more than 1 person. If you have any questions regarding registration\, please email Kelsey at  kelsey@ashevillecommunityyoga.org 
URL:https://ashevillecommunityyoga.org/event/yoga-for-knee-wrist-sensitivity-w-dana-maria/
LOCATION:Asheville Community Yoga\, 8 Brookdale Rd\, Asheville\, North Carolina\, 28804\, United States
CATEGORIES:CE Courses,Workshops
ATTACH;FMTTYPE=image/jpeg:https://ashevillecommunityyoga.org/wp-content/uploads/2024/12/IMG_8685-scaled.jpeg
END:VEVENT
BEGIN:VEVENT
DTSTART;TZID=America/New_York:20250906T170000
DTEND;TZID=America/New_York:20250906T190000
DTSTAMP:20260424T013830
CREATED:20250623T140237Z
LAST-MODIFIED:20250624T141306Z
UID:240602-1757178000-1757185200@ashevillecommunityyoga.org
SUMMARY:Volunteer Appreciation Potluck Party
DESCRIPTION:Free Community Event!\n \nWe are coming together to celebrate ALL the volunteers that serve this community! From the 70 volunteer yoga teachers\, daily volunteers cleaning our bathrooms\, those that help clean our studios every day\, those that help keep our landscaping tidy and our campus green\, the Zen & Now volunteers that organize the clothing and help keep the shop looking fresh\, and so many more…. there are hundreds of hands making Asheville Community Yoga possible. \nThis gathering is meant for community connection\, and showering volunteers with appreciation. Please join us as we give thanks to the volunteers who help make this space accessible and welcoming for all.  \nIf you’d like to bring a dish or treat\, please sign up here.  This will help to ensure we have diversity in the food offerings. If you have a special talent you’d like to offer for entertainment\, come by the desk to apply!
URL:https://ashevillecommunityyoga.org/event/volunteer-appreciation-potluck-party/
LOCATION:Asheville Community Yoga\, 8 Brookdale Rd\, Asheville\, North Carolina\, 28804\, United States
CATEGORIES:Community Events
ATTACH;FMTTYPE=image/png:https://ashevillecommunityyoga.org/wp-content/uploads/2025/06/Events-Volunteer-Potluck-Sept.-25-1.png
END:VEVENT
END:VCALENDAR