BEGIN:VCALENDAR
VERSION:2.0
PRODID:-//Asheville Community Yoga - ECPv6.15.20//NONSGML v1.0//EN
CALSCALE:GREGORIAN
METHOD:PUBLISH
X-ORIGINAL-URL:https://ashevillecommunityyoga.org
X-WR-CALDESC:Events for Asheville Community Yoga
REFRESH-INTERVAL;VALUE=DURATION:PT1H
X-Robots-Tag:noindex
X-PUBLISHED-TTL:PT1H
BEGIN:VTIMEZONE
TZID:America/New_York
BEGIN:DAYLIGHT
TZOFFSETFROM:-0500
TZOFFSETTO:-0400
TZNAME:EDT
DTSTART:20240310T070000
END:DAYLIGHT
BEGIN:STANDARD
TZOFFSETFROM:-0400
TZOFFSETTO:-0500
TZNAME:EST
DTSTART:20241103T060000
END:STANDARD
BEGIN:DAYLIGHT
TZOFFSETFROM:-0500
TZOFFSETTO:-0400
TZNAME:EDT
DTSTART:20250309T070000
END:DAYLIGHT
BEGIN:STANDARD
TZOFFSETFROM:-0400
TZOFFSETTO:-0500
TZNAME:EST
DTSTART:20251102T060000
END:STANDARD
BEGIN:DAYLIGHT
TZOFFSETFROM:-0500
TZOFFSETTO:-0400
TZNAME:EDT
DTSTART:20260308T070000
END:DAYLIGHT
BEGIN:STANDARD
TZOFFSETFROM:-0400
TZOFFSETTO:-0500
TZNAME:EST
DTSTART:20261101T060000
END:STANDARD
END:VTIMEZONE
BEGIN:VEVENT
DTSTART;TZID=America/New_York:20251221T101500
DTEND;TZID=America/New_York:20251221T121500
DTSTAMP:20260423T200004
CREATED:20250821T205239Z
LAST-MODIFIED:20250904T202819Z
UID:240929-1766312100-1766319300@ashevillecommunityyoga.org
SUMMARY:Return to Light: A Winter Solstice Workshop w/ Dana Maria
DESCRIPTION:Honor the Winter Solstice with a calming\, reflective practice to help you slow down\, realign\, and reconnect. \nThis workshop blends gentle movement\, yin yoga\, breathwork\, and meditation to support rest and renewal as we transition into winter and the new year.  \nInspired by ancient traditions celebrating the return of light\, this experience offers a chance to pause\, release the noise of the season\, and root into what truly matters. \nThis 2-hour workshop is fully guided and experiential.  \nWe’ll move through: -Opening circle + Solstice reflection -Breathwork + meditation-Slow\, intuitive flow -Yin yoga for winter meridians (kidney/bladder) -Restorative savasana + visualization -Journaling and closing reflection  \nParticipants will leave with: -Tools to calm the nervous system and quiet the mind -Breath and movement practices for seasonal balance -Space to reflect and set heartfelt intentions -A sense of grounding\, clarity\, and renewal \n  \nFor more information on Dana\, please see her teacher profile here! \n \n\nCost: $30 \nFinancial Aid Available- Please stop by the front desk or email Kelsey@ashevillecommunityyoga.org \n \nPLEASE NOTE: We encourage pre-registration for all programming. Registering in advance guarantees your spot and helps the studio have adequate staffing. If fewer than 5 participants register the event may be canceled. \nRefund Policy: We understand that life happens and unforeseen circumstances come up. If life offers up an unexpected event and you need to withdraw from the workshop: \n\nA full refund will be issued if you need to withdraw 4+ days before the workshop. Please reach out for your refund\, as it will not be automatically applied to your account.\nIf you need to withdraw within 3 days or fewer\, no refund is provided.\n\nPlease create a Mindbody account for each participant if registering more than 1 person. If you have any questions regarding registration\, please email Kelsey at  kelsey@ashevillecommunityyoga.org 
URL:https://ashevillecommunityyoga.org/event/return-to-light-a-winter-solstice-workshop-w-dana-maria/
LOCATION:Asheville Community Yoga\, 8 Brookdale Rd\, Asheville\, North Carolina\, 28804\, United States
CATEGORIES:Workshops
ATTACH;FMTTYPE=image/jpeg:https://ashevillecommunityyoga.org/wp-content/uploads/2024/12/IMG_8685-scaled.jpeg
END:VEVENT
END:VCALENDAR