BEGIN:VCALENDAR
VERSION:2.0
PRODID:-//Asheville Community Yoga - ECPv6.15.20//NONSGML v1.0//EN
CALSCALE:GREGORIAN
METHOD:PUBLISH
X-WR-CALNAME:Asheville Community Yoga
X-ORIGINAL-URL:https://ashevillecommunityyoga.org
X-WR-CALDESC:Events for Asheville Community Yoga
REFRESH-INTERVAL;VALUE=DURATION:PT1H
X-Robots-Tag:noindex
X-PUBLISHED-TTL:PT1H
BEGIN:VTIMEZONE
TZID:America/New_York
BEGIN:DAYLIGHT
TZOFFSETFROM:-0500
TZOFFSETTO:-0400
TZNAME:EDT
DTSTART:20250309T070000
END:DAYLIGHT
BEGIN:STANDARD
TZOFFSETFROM:-0400
TZOFFSETTO:-0500
TZNAME:EST
DTSTART:20251102T060000
END:STANDARD
BEGIN:DAYLIGHT
TZOFFSETFROM:-0500
TZOFFSETTO:-0400
TZNAME:EDT
DTSTART:20260308T070000
END:DAYLIGHT
BEGIN:STANDARD
TZOFFSETFROM:-0400
TZOFFSETTO:-0500
TZNAME:EST
DTSTART:20261101T060000
END:STANDARD
BEGIN:DAYLIGHT
TZOFFSETFROM:-0500
TZOFFSETTO:-0400
TZNAME:EDT
DTSTART:20270314T070000
END:DAYLIGHT
BEGIN:STANDARD
TZOFFSETFROM:-0400
TZOFFSETTO:-0500
TZNAME:EST
DTSTART:20271107T060000
END:STANDARD
END:VTIMEZONE
BEGIN:VEVENT
DTSTART;TZID=America/New_York:20260111T100000
DTEND;TZID=America/New_York:20260111T130000
DTSTAMP:20260423T183442
CREATED:20251117T200537Z
LAST-MODIFIED:20251212T012437Z
UID:241371-1768125600-1768136400@ashevillecommunityyoga.org
SUMMARY:Therapeutic Yoga for Bone Health (In-Person & Virtual) w/ Diane Saccone
DESCRIPTION:A Multimodal Approach to Osteoporosis & Fracture Prevention\nThe benefits of yoga for preventing fractures are multi-faceted. Rather than focusing on just one aspect of fracture prevention\, a yoga practice carefully tailored for osteoporosis covers all the different aspects of fracture prevention to create a balanced routine that addresses not just thinning bones but also the factors that predispose us to loss of mobility and increasing frailty with age. \nThe newest Osteoporosis research has proven that we can turn the challenge of thinning bones into a powerful catalyst for creating greater levels of health\, well-being and energy as we get older. \nThe recipe for preventing osteoporosis-related fractures and frailty is also the recipe for successful aging; the key to enjoying optimal health and well-being all through life. \nIn this workshop you will learn about cutting-edge developments in the field of osteoporosis prevention and treatment\, learn exciting new findings on what it takes to prevent fractures and the specifics of how a yoga and exercise practice can address the main risk factors for osteoporotic fractures.  \nYou will learn:  \n\nHow and why osteoporosis develops and the best ways to prevent it\nHow to interpret DEXA scan numbers and the limitations of current diagnostic approaches\nWhy preventing fractures and preventing frailty as we get older involves more than simply focusing on low bone mass\, and how yoga helps\nThe different ways yoga can help curb fracture risk and the best ways to practice yoga to address a range of risk factors for fractures\nDifferent types of strength-building and how to integrate them into your yoga practice\nHow to target strength-building to prevent the most common types of fractures\, including vertebral fractures\, hip fractures\, and more\nKey precautions for practicing yoga for osteoporosis and any other type of exercise\nThe essential movements you must do every single day to keep your posture and spine strong to help prevent vertebral fractures. \n\nThis workshop will be offered virtually as well as in-person and a workbook will be provided.  \nCost: $45- Financial Aid is Available \nClick Here to Register for In-Person \nClick Here to Register for Virtual \nDiane Saccone\, MS MT (ASACP) ERYT 500 spent the majority of her career in the field of Clinical Laboratory medicine changing careers after her move with her husband to Western North Carolina in 2005. She also developed the active older adult program at the YMCA of Western North Carolina where she served as the Director of Healthy Aging Initiatives and traveled through the Y of the USA as a subject matter expert on aging; lecturing and teaching evidence based falls prevention programs across the country. For more information on Diane\, please see her teacher profile here! \n\n PLEASE NOTE: We encourage pre-registration for all programming. Registering in advance guarantees your spot and helps the studio have adequate staffing. If fewer than 5 participants register the event may be canceled. \nRefund Policy: We understand that life happens and unforeseen circumstances come up. If life offers up an unexpected event and you need to withdraw from the workshop: \n\n\nA full refund will be issued if you need to withdraw 4+ days before the workshop. Please reach out for your refund\, as it will not be automatically applied to your account.\n\nIf you need to withdraw within 3 days or fewer\, no refund is provided.
URL:https://ashevillecommunityyoga.org/event/yoga-for-bone-health-in-person-virtual-w-diane-saccone/
LOCATION:Asheville Community Yoga\, 8 Brookdale Rd\, Asheville\, North Carolina\, 28804\, United States
CATEGORIES:Workshops
ATTACH;FMTTYPE=image/jpeg:https://ashevillecommunityyoga.org/wp-content/uploads/2022/07/diane-head-shot-e1673632365258.jpeg
END:VEVENT
END:VCALENDAR