BEGIN:VCALENDAR
VERSION:2.0
PRODID:-//Asheville Community Yoga - ECPv6.15.20//NONSGML v1.0//EN
CALSCALE:GREGORIAN
METHOD:PUBLISH
X-ORIGINAL-URL:https://ashevillecommunityyoga.org
X-WR-CALDESC:Events for Asheville Community Yoga
REFRESH-INTERVAL;VALUE=DURATION:PT1H
X-Robots-Tag:noindex
X-PUBLISHED-TTL:PT1H
BEGIN:VTIMEZONE
TZID:America/New_York
BEGIN:DAYLIGHT
TZOFFSETFROM:-0500
TZOFFSETTO:-0400
TZNAME:EDT
DTSTART:20250309T070000
END:DAYLIGHT
BEGIN:STANDARD
TZOFFSETFROM:-0400
TZOFFSETTO:-0500
TZNAME:EST
DTSTART:20251102T060000
END:STANDARD
BEGIN:DAYLIGHT
TZOFFSETFROM:-0500
TZOFFSETTO:-0400
TZNAME:EDT
DTSTART:20260308T070000
END:DAYLIGHT
BEGIN:STANDARD
TZOFFSETFROM:-0400
TZOFFSETTO:-0500
TZNAME:EST
DTSTART:20261101T060000
END:STANDARD
BEGIN:DAYLIGHT
TZOFFSETFROM:-0500
TZOFFSETTO:-0400
TZNAME:EDT
DTSTART:20270314T070000
END:DAYLIGHT
BEGIN:STANDARD
TZOFFSETFROM:-0400
TZOFFSETTO:-0500
TZNAME:EST
DTSTART:20271107T060000
END:STANDARD
END:VTIMEZONE
BEGIN:VEVENT
DTSTART;TZID=America/New_York:20260121T104500
DTEND;TZID=America/New_York:20260128T114500
DTSTAMP:20260423T183506
CREATED:20251129T135715Z
LAST-MODIFIED:20260120T160957Z
UID:241168-1768992300-1769600700@ashevillecommunityyoga.org
SUMMARY:Snuggle & Stretch Baby and Me Yoga w/ Jocilyn & Josie  (4-Week Drop-in Series)
DESCRIPTION:The journey into parenthood\, whether for the first time or with multiple children\, is an ever-evolving and never-ending adventure. \nPlease note: This is a 4-week class offering on Wednesdays from 10:45am-11:45am. You are welcome to join any or all of these classes\, but they will be capped at 15 students & their children\, to allow for ample integration. Please consider registering in advance\, and if you cannot make it\, please plan to cancel as soon as you know. There will not be a waitlist for this series\, but if spaces are open day-of\, parents are welcome to sign up last minute. \nClick here to register for Wednesday\, January 21stClick here to register for Wednesday\, January 28th \nClasses are priced with a sliding scale of $10-$20. Please use the drop-down menu to pay what you can to support the teachers and our non-profit. \nIn order to cater to those experiencing the first year of this transition\, we developed this course designed for new parents/caregivers seeking a safe and nurturing space to breathe\, stretch and bond with their new bundle of joy. We wish to create an experience that will allow parents/caregivers to benefit from the physical\, emotional and spiritual connection between themselves and their little ones.  \nOne can anticipate light breathwork\, gentle movements\, restorative postures\, baby massages\, and more.  \nThis class is for 0-12 month old babies or pre-walkers. Crawlers are welcome. If you have twins\, please consider bringing an additional person with you\, if possible.  \nGuardians\, please bring your own blankets.  Mats and blocks will be provided for this class.  For sanitation purposes\, bolsters can only be used if covered/protected by a blanket brought by parents/caregivers.   \nOpening circleCentering/Breathwork/ConnectionGentle YogaBaby Yoga/MassageClosing Song \nPLEASE NOTE: We encourage pre-registration for all programming. Registering in advance guarantees your spot and helps the studio have adequate staffing.  \nRefund Policy: We understand that life happens and unforeseen circumstances come up. If life offers up an unexpected event and you need to withdraw from the class:  \n\nA full refund will be issued if you need to withdraw 48 hours before the class. Please reach out for your refund\, as it will not be automatically applied to your account.\n\nIf you need to withdraw after the 48 hour window\, no refund is provided.  \n\n\nPlease create a Mindbody account for each participant if registering more than 1 person. If you have any questions regarding registration\, please email Kelsey at  kelsey@ashevillecommunityyoga.org  \nLate Policy: Doors will close at the workshop start time. We encourage you to arrive at least 15 minutes before the workshop start time to ensure there is ample time to park\, check in and settle in to your space. We do have a 10 minute grace period\, and we encourage you to call the studio to let us know if you are running behind. If you are later than 10 minutes after the start of the workshop\, there is a chance you will not be able to enter and no refund will be given. \n\nCapacity: Please note: Some workshops will fill to capacity of 28 students.\n 
URL:https://ashevillecommunityyoga.org/event/snuggle-stretch-baby-and-me-yoga-w-jocilyn-josie-katherine-4-week-drop-in-series/
LOCATION:Asheville Community Yoga\, 8 Brookdale Rd\, Asheville\, North Carolina\, 28804\, United States
CATEGORIES:Series
ATTACH;FMTTYPE=image/jpeg:https://ashevillecommunityyoga.org/wp-content/uploads/2025/11/IMG_1812-scaled.jpeg
END:VEVENT
BEGIN:VEVENT
DTSTART;TZID=America/New_York:20260122T183000
DTEND;TZID=America/New_York:20260122T203000
DTSTAMP:20260423T183506
CREATED:20251118T164455Z
LAST-MODIFIED:20260120T161123Z
UID:241398-1769106600-1769113800@ashevillecommunityyoga.org
SUMMARY:Yoga & Somatic Experiencing 3 Week Series with Ocean Gettys LCSW
DESCRIPTION:Please note: This date refers to the first of 3 sessions.This course will occur over 3 consecutive Thursday evenings: January 22nd\, January 29th & February 5th from 6:30-8:30pm. \nWeek 1: Common Purposes of Yoga & Somatic Experiencing and Understanding Common Patterns of Dysregulation in the Nervous System \nWeek 2: Applying Foundational Somatic Experiencing Principles to Our Yoga Practice to Support Nervous System Regulation and Repair \nWeek 3: The Importance of Relationship in Yoga & Somatic Experiencing: Exploring Coregulatory Practices. \nThis three part series will allow for deeper regulation\, connection with self and others\, and integration and application of teaching material. In each session\, we will explore themes through mindful sharing\, reflection and practice in circle format with partner and small group discussion and exercises as well. Sessions will be dynamic and engaging with a variety of teaching methods focused on fostering collaborative\, emergent learning.  \nThis series aims to help participants better understand their unique nervous system dysregulation patterns and learn how to move towards regulation and health through their yoga practice and also through relational practices. It also focuses on offering an experience of what it looks and feels like to be in embodied relationship and community with others\, which many of us are longing for but don’t find accessible in our daily lives due to the overvaluing of cognitive based processing within our culture. We’ll look at what it means to truly BE together and know each other through heart\, body\, and mind\, offering a more holistic\, satisfying experience of connection. This offering is structured as a series in order to allow for natural deepening of relational safety and connectedness over time within the group container.  \nThis offering is distinct from Ocean’s Friday class (Gentle Yoga and Somatic Experiencing) and previous workshops in that there will be more opportunity for: \n\n\nQ&A w/ teaching portions \n\n\nJournaling reflection \n\n\nBlend of large group\, partner\, and small group discussion \n\n\nLonger individual practice portion \n\n\nMultiple co-regulatory practices \n\n\nOpening and closing sharing to promote integration and community connectedness \n\n\nSlower pace overall\, more time for each section of series \n\nSpace between sessions for integration & reflection\n\nYou are an integral part of our human community\, and your presence is welcomed and celebrated in this space.  \nOcean is a Licensed Clinical Social Worker who also offers individual somatic based therapy sessions in private practice. For more information on Ocean’s work as a Somatic Experiencing Practitioner please visit Psychology Today. If you’d like to learn more about them\, please see their teacher profile here. They teach a donation-based weekly class: Gentle Yoga & Somatic Experiencing Fridays 2:15pm-3:30pm. \nCost: $75-$125 Sliding Scale. Please use the drop down menu to select the price that best reflects your needs and abilities. \n \nPLEASE NOTE: We encourage pre-registration for all programming. Registering in advance guarantees your spot and helps the studio have adequate staffing. If fewer than 5 participants register the event may be canceled. \nRefund Policy: We understand that life happens and unforeseen circumstances come up. If life offers up an unexpected event and you need to withdraw from the workshop:  \n\nA full refund will be issued if you need to withdraw 4+ days before the workshop. Please reach out for your refund\, as it will not be automatically applied to your account.\n\nIf you need to withdraw within 3 days or fewer\, no refund is provided.  \n\n\nPlease create a Mindbody account for each participant if registering more than 1 person. If you have any questions regarding registration\, or financial aid\, please email Kelsey at  kelsey@ashevillecommunityyoga.org  \nLate Policy: Doors will close at the workshop start time. We encourage you to arrive at least 15 minutes before the workshop start time to ensure there is ample time to park\, check in and settle in to your space. We do have a 10 minute grace period\, and we encourage you to call the studio to let us know if you are running behind. If you are later than 10 minutes after the start of the workshop\, there is a chance you will not be able to enter and no refund will be given. \n\nCapacity: Please note: Some workshops will fill to capacity of 28 students.
URL:https://ashevillecommunityyoga.org/event/yoga-somatic-experiencing-3-part-series-with-ocean-gettys-lcsw/
LOCATION:Asheville Community Yoga\, 8 Brookdale Rd\, Asheville\, North Carolina\, 28804\, United States
CATEGORIES:Workshops
ATTACH;FMTTYPE=image/jpeg:https://ashevillecommunityyoga.org/wp-content/uploads/2025/11/Ocean-beanie.jpg
END:VEVENT
END:VCALENDAR