BEGIN:VCALENDAR
VERSION:2.0
PRODID:-//Asheville Community Yoga - ECPv6.15.20//NONSGML v1.0//EN
CALSCALE:GREGORIAN
METHOD:PUBLISH
X-ORIGINAL-URL:https://ashevillecommunityyoga.org
X-WR-CALDESC:Events for Asheville Community Yoga
REFRESH-INTERVAL;VALUE=DURATION:PT1H
X-Robots-Tag:noindex
X-PUBLISHED-TTL:PT1H
BEGIN:VTIMEZONE
TZID:America/New_York
BEGIN:DAYLIGHT
TZOFFSETFROM:-0500
TZOFFSETTO:-0400
TZNAME:EDT
DTSTART:20250309T070000
END:DAYLIGHT
BEGIN:STANDARD
TZOFFSETFROM:-0400
TZOFFSETTO:-0500
TZNAME:EST
DTSTART:20251102T060000
END:STANDARD
BEGIN:DAYLIGHT
TZOFFSETFROM:-0500
TZOFFSETTO:-0400
TZNAME:EDT
DTSTART:20260308T070000
END:DAYLIGHT
BEGIN:STANDARD
TZOFFSETFROM:-0400
TZOFFSETTO:-0500
TZNAME:EST
DTSTART:20261101T060000
END:STANDARD
BEGIN:DAYLIGHT
TZOFFSETFROM:-0500
TZOFFSETTO:-0400
TZNAME:EDT
DTSTART:20270314T070000
END:DAYLIGHT
BEGIN:STANDARD
TZOFFSETFROM:-0400
TZOFFSETTO:-0500
TZNAME:EST
DTSTART:20271107T060000
END:STANDARD
END:VTIMEZONE
BEGIN:VEVENT
DTSTART;TZID=America/New_York:20260130T173000
DTEND;TZID=America/New_York:20260130T193000
DTSTAMP:20260423T171415
CREATED:20251118T163955Z
LAST-MODIFIED:20260120T161227Z
UID:241419-1769794200-1769801400@ashevillecommunityyoga.org
SUMMARY:Yogi Book Club: Who Do You Want To Be When You Grow Old By Richard J. Leider & David Shapiro
DESCRIPTION:Free Community Event!\n \nGrab your book and save the date! Special guest community member Rob Koegel is co-hosting this round with Stephen Volkman\, so please join us in community to discuss “Who Do You Want to Be When You Grow Old?: The Path of Purposeful Aging” by Richard J. Leider & David Shapiro. \nCommunity Members are welcome to join even if they are unable to finish the book\, as there is much value to be gained from discussion.  \nPlease sign up in advance so we know to expect you! \n*ACY does not provide copies of the book. Please consider checking out from your local library\, or buying used. The audiobook is available as well. \nThis book brings to life the dramatic differences between two views of aging. The first\, by far the most common\, is fearful of “getting old.” The second\, while aware of age-related challenges\, is intrigued by the untapped possibilities of “growing old.” Some of the questions we will explore in our highly interactive discussion are: \nWhat enables some elders to blend wisdom with grace\, purpose with meaning\, and personal transformation with social contribution? What can they teach us about how to make the most of these life-enhancing opportunities? \nHow does living in an ageist society affect how we think about and respond to the complex process of aging? \nHow can we deepen our ability to use the challenges and possibilities of aging to hone our inner strengths and to become more of the person we long to be? \nSince our discussion will be based on the questions\, concerns\, andexperiences of the participants\, please join us even if you have only read part of this book. \nPlease create a Mindbody account for each participant if registering more than 1 person. If you have any questions regarding registration\, please email Kelsey at  kelsey@ashevillecommunityyoga.org \nLate Policy: Doors will close at the workshop start time. We encourage you to arrive at least 15 minutes before the workshop start time to ensure there is ample time to park\, check in and settle in to your space. We do have a 10 minute grace period\, and we encourage you to call the studio to let us know if you are running behind. If you are later than 10 minutes after the start of the workshop\, there is a chance you will not be able to enter and no refund will be given. \n\nCapacity: Please note: Some workshops will fill to capacity of 28 students.
URL:https://ashevillecommunityyoga.org/event/yogi-book-club-who-do-you-want-to-be-when-you-grow-old-by-richard-j-leider-david-shapiro/
LOCATION:Asheville Community Yoga\, 8 Brookdale Rd\, Asheville\, North Carolina\, 28804\, United States
CATEGORIES:Community Events
ATTACH;FMTTYPE=image/jpeg:https://ashevillecommunityyoga.org/wp-content/uploads/2025/11/grow-old.jpeg
END:VEVENT
END:VCALENDAR