BEGIN:VCALENDAR
VERSION:2.0
PRODID:-//Asheville Community Yoga - ECPv6.15.20//NONSGML v1.0//EN
CALSCALE:GREGORIAN
METHOD:PUBLISH
X-WR-CALNAME:Asheville Community Yoga
X-ORIGINAL-URL:https://ashevillecommunityyoga.org
X-WR-CALDESC:Events for Asheville Community Yoga
REFRESH-INTERVAL;VALUE=DURATION:PT1H
X-Robots-Tag:noindex
X-PUBLISHED-TTL:PT1H
BEGIN:VTIMEZONE
TZID:America/New_York
BEGIN:DAYLIGHT
TZOFFSETFROM:-0500
TZOFFSETTO:-0400
TZNAME:EDT
DTSTART:20250309T070000
END:DAYLIGHT
BEGIN:STANDARD
TZOFFSETFROM:-0400
TZOFFSETTO:-0500
TZNAME:EST
DTSTART:20251102T060000
END:STANDARD
BEGIN:DAYLIGHT
TZOFFSETFROM:-0500
TZOFFSETTO:-0400
TZNAME:EDT
DTSTART:20260308T070000
END:DAYLIGHT
BEGIN:STANDARD
TZOFFSETFROM:-0400
TZOFFSETTO:-0500
TZNAME:EST
DTSTART:20261101T060000
END:STANDARD
BEGIN:DAYLIGHT
TZOFFSETFROM:-0500
TZOFFSETTO:-0400
TZNAME:EDT
DTSTART:20270314T070000
END:DAYLIGHT
BEGIN:STANDARD
TZOFFSETFROM:-0400
TZOFFSETTO:-0500
TZNAME:EST
DTSTART:20271107T060000
END:STANDARD
END:VTIMEZONE
BEGIN:VEVENT
DTSTART;TZID=America/New_York:20260212T183000
DTEND;TZID=America/New_York:20260212T203000
DTSTAMP:20260423T171343
CREATED:20251120T224657Z
LAST-MODIFIED:20260120T161426Z
UID:241464-1770921000-1770928200@ashevillecommunityyoga.org
SUMMARY:Partner Yoga & Thai Bodywork w/ Leaflin Winecoff
DESCRIPTION:Partner yoga is a great way to connect with your asana practice in a new way\, while deepening connection with a loved one.  \nThai yoga massage (sometimes called “lazy person’s yoga”) is an ancient practice that can be described as a symbiotic healing dance\, where the benefits of yoga are experienced by both the giver and the receiver. We use hands\, feet\, elbows\, knees\, rhythm and gravity to gently open the energetic channels of the body\, restoring ease and flow. This practice is done fully clothed on a mat on the floor\, and typically does not use oils.  \nThe aim of this workshop is to foster connection through curiosity\, compassion\, and communication\, and awaken our innate healing capabilities! We’ll warm up with a few simple partner yoga practices before delving into some basic (but extremely effective!) Thai -inspired massage techniques.  \nThe basics of intelligent body mechanics\, giving and receiving\, and cultivation of loving kindness are paramount to to this practice\, and will be cultivated throughout. This is not a training to become a professional bodyworker\, but is meant to provide participants with useful tools to be shared with friends and loved ones. The hope is that you’ll leave feeling great in your own body\, and inspired to help others feel great in theirs! *Please do come with a partner you feel comfortable practicing with. \nPlease note: This workshop is limited to 20 participants and you must come with a partner in order to participate. Both people need to register on Mindbody to reserve your space! \n*Modifications and variations will be shared for every technique taught as there is no one-size-fits-all massage. Please arrive in good health and ability to communicate your body’s needs. \n*You must be a Licensed Massage Therapist in the state of North Carolina to charge for bodywork. Please share this practice responsibly with those you trust. \nFor more information on Leaflin\, please see her teacher profile here. She teaches weekly donation-based Gentle Flow on Wednesdays 6:15pm-7:15pm. \n \nCost: $30 per personFinancial Aid Available- Please stop by the front desk\, call\, or email kelsey@ashevillecommunityyoga.org. \nPLEASE NOTE: We encourage pre-registration for all programming. Registering in advance guarantees your spot and helps the studio have adequate staffing. If fewer than 5 participants register the event may be canceled. \nRefund Policy: We understand that life happens and unforeseen circumstances come up. If life offers up an unexpected event and you need to withdraw from the workshop: \n\nA full refund will be issued if you need to withdraw 4+ days before the workshop. Please reach out for your refund\, as it will not be automatically applied to your account.\nIf you need to withdraw within 3 days or fewer\, no refund is provided.\n\nPlease create a Mindbody account for each participant if registering more than 1 person. If you have any questions regarding registration\, please email Kelsey at  kelsey@ashevillecommunityyoga.org \nLate Policy: Doors will close at the workshop start time. We encourage you to arrive at least 15 minutes before the workshop start time to ensure there is ample time to park\, check in and settle in to your space. We do have a 10 minute grace period\, and we encourage you to call the studio to let us know if you are running behind. If you are later than 10 minutes after the start of the workshop\, there is a chance you will not be able to enter and no refund will be given. \n\nCapacity: Please note: Some workshops will fill to capacity of 28 students.
URL:https://ashevillecommunityyoga.org/event/partner-yoga-thai-bodywork-w-leaflin-winecoff/
LOCATION:Asheville Community Yoga\, 8 Brookdale Rd\, Asheville\, North Carolina\, 28804\, United States
CATEGORIES:Workshops
ATTACH;FMTTYPE=image/jpeg:https://ashevillecommunityyoga.org/wp-content/uploads/2024/12/Leaflin.jpeg
END:VEVENT
END:VCALENDAR