BEGIN:VCALENDAR
VERSION:2.0
PRODID:-//Asheville Community Yoga - ECPv6.15.20//NONSGML v1.0//EN
CALSCALE:GREGORIAN
METHOD:PUBLISH
X-ORIGINAL-URL:https://ashevillecommunityyoga.org
X-WR-CALDESC:Events for Asheville Community Yoga
REFRESH-INTERVAL;VALUE=DURATION:PT1H
X-Robots-Tag:noindex
X-PUBLISHED-TTL:PT1H
BEGIN:VTIMEZONE
TZID:America/New_York
BEGIN:DAYLIGHT
TZOFFSETFROM:-0500
TZOFFSETTO:-0400
TZNAME:EDT
DTSTART:20250309T070000
END:DAYLIGHT
BEGIN:STANDARD
TZOFFSETFROM:-0400
TZOFFSETTO:-0500
TZNAME:EST
DTSTART:20251102T060000
END:STANDARD
BEGIN:DAYLIGHT
TZOFFSETFROM:-0500
TZOFFSETTO:-0400
TZNAME:EDT
DTSTART:20260308T070000
END:DAYLIGHT
BEGIN:STANDARD
TZOFFSETFROM:-0400
TZOFFSETTO:-0500
TZNAME:EST
DTSTART:20261101T060000
END:STANDARD
BEGIN:DAYLIGHT
TZOFFSETFROM:-0500
TZOFFSETTO:-0400
TZNAME:EDT
DTSTART:20270314T070000
END:DAYLIGHT
BEGIN:STANDARD
TZOFFSETFROM:-0400
TZOFFSETTO:-0500
TZNAME:EST
DTSTART:20271107T060000
END:STANDARD
END:VTIMEZONE
BEGIN:VEVENT
DTSTART;TZID=America/New_York:20260301T101500
DTEND;TZID=America/New_York:20260301T121500
DTSTAMP:20260423T155142
CREATED:20251120T202200Z
LAST-MODIFIED:20260211T233726Z
UID:241452-1772360100-1772367300@ashevillecommunityyoga.org
SUMMARY:Connect to Creativity with Yoga & Meditation w/ Ann Marie Satterfield
DESCRIPTION:This workshop blends yoga\, meditation\, and breathwork with intuitive artmaking and poetry writing\, creating a space for deep self-exploration and inspired creativity.  \nThrough guided yoga sequences\, we will awaken the body\, quiet the mind\, and cultivate a sense of flow—unlocking new pathways for artistic expression. \n Meditative practices will encourage stillness and presence\, allowing creativity to emerge naturally. With gentle prompts and exercises\, you will translate your inner experience into poetry\, sketches\, or free-form art\, embracing the joy of uninhibited creation.  \nOur workshop will conclude with discussion and sharing in community.  \nThis workshop is perfect for anyone looking to explore their creativity in a mindful and embodied way. No prior experience in yoga or art is necessary—just an open heart and a willingness to explore. Join this sacred space of movement\, stillness\, and creative play\, and let your inspiration flow freely. \nTo learn more about Ann Marie\, please see her teacher profile here. She teaches weekly donation-based Gentle Flow on Thursdays from 5-6pm. \n\n\nCost: $30 \n\nFinancial Aid Available- Please stop by the front desk or email Kelsey@ashevillecommunityyoga.org \n \nPLEASE NOTE: We encourage pre-registration for all programming. Registering in advance guarantees your spot and helps the studio have adequate staffing. If fewer than 5 participants register the event may be canceled. \nRefund Policy: We understand that life happens and unforeseen circumstances come up. If life offers up an unexpected event and you need to withdraw from the workshop: \n\nA full refund will be issued if you need to withdraw 4+ days before the workshop. Please reach out for your refund\, as it will not be automatically applied to your account.\nIf you need to withdraw within 3 days or fewer\, no refund is provided.\n\nPlease create a Mindbody account for each participant if registering more than 1 person. If you have any questions regarding registration\, please email Kelsey at  kelsey@ashevillecommunityyoga.org  \n \nLate Policy: Doors will close at the workshop start time. We encourage you to arrive at least 15 minutes before the workshop start time to ensure there is ample time to park\, check in and settle in to your space. We do have a 10 minute grace period\, and we encourage you to call the studio to let us know if you are running behind. If you are later than 10 minutes after the start of the workshop\, there is a chance you will not be able to enter and no refund will be given. \n\n\n\n\nCapacity: Please note: Some workshops will fill to capacity of 28 students.
URL:https://ashevillecommunityyoga.org/event/connect-to-creativity-with-yoga-meditation-w-ann-marie-satterfield/
LOCATION:Asheville Community Yoga\, 8 Brookdale Rd\, Asheville\, North Carolina\, 28804\, United States
CATEGORIES:Workshops
ATTACH;FMTTYPE=image/jpeg:https://ashevillecommunityyoga.org/wp-content/uploads/2025/02/Ann-Marie-1.jpg
END:VEVENT
BEGIN:VEVENT
DTSTART;TZID=America/New_York:20260301T130000
DTEND;TZID=America/New_York:20260301T150000
DTSTAMP:20260423T155142
CREATED:20251120T195152Z
LAST-MODIFIED:20260211T234734Z
UID:241446-1772370000-1772377200@ashevillecommunityyoga.org
SUMMARY:SOMA Breath Awakening Journey w/ Kyle Espenshade
DESCRIPTION:Note: All breathwork techniques should ideally be done on an empty stomach\, or at least 1-2 hrs after eating a full meal. All levels are welcome. Please see contraindications at the bottom of the description.  \nThe SOMA Breath is designed to give you energy\, clarity\, and improve fitness and endurance in a fun and exciting way.  \nThis 2 hour workshop combines breathwork\, visualization\, and our signature SOMA Breath music that helps you synchronize your breathing to a perfect rhythm. Soma is a name given to a sacred shamanic ritual involving psychedelics\, breathwork and meditation. The rishis of ancient India would partake of this sacred medicine and receive profound visions about the eternal truths of the universe. Originally a tradition that was passed down orally\, they eventually began to write down their Divine downloads in texts such as the Rig Veda. Through their practice\, they were able to achieve complete mastery of their physical body and mental faculties. This special ritual involving special tribal music\, chanting\, proprietary music technology and breathwork will alter your state of consciousness in a profound way without the need for ingesting psychedelics. In a similar way to the rishis you may receive downloads\, visions and moments of great inspiration. \nBoosts & Improves: Oxygen efficiency\, respiratory & cardiovascular health\, immune system\, bodily coherence\, blood sugar levels\, vitality\, stamina\, endurance\, tissue/muscle/cell repair & production\, flow of cerebrospinal fluid\, directed neurogenesis\, concentration\, cognitive function\, memory\, emotional & hormonal balance\, confidence\, growth & circulation of stem-cells for the ultimate healing & regeneration \nReleases & Relieves: Asthma\, arthritis\, aches & pains\, sleep disorders\, high blood pressure\, nasal blockages\, addictive behaviors\, past traumas\, anxiety\, depression\, resentment\, anger & other negative thoughts & emotions \nCONTRAINDICATIONS \nSlow rhythmic breathing techniques of SOMA Breath are safe to be used for anyone\, and can be beneficial for all individuals. Forceful mouth breathing\, prolonged breath holds and extended intense fast breathwork/hyperventilation for more than 5 minutes\, should NOT be practiced in the case of any of the following: \n\nSevere/critical diseases or infections (Esp. if it impairs your ability to breathe)\nHeart issues such has uncontrolled hypertension (usually after a heart attack)\, a pacemaker\, or irregular heart beat (Exception: your doctor gives you specific permission).\nOrgan failure or late-stage terminal illness\nPregnancy\nEpilepsy\n\nSome conditions (Eg: Tinnitus\, hernias) may be aggravated by prolonged breath holds and hyperventilation and careful attention to technique is required. \nFor more info on Kyle and SOMA Alkhemy: please visit his website here. He teaches donation-based Qi Gong weekly on Saturdays from 1:30pm-2:30pm. \nCost: $30Financial Aid Available- Please stop by the front desk or email Kelsey@ashevillecommunityyoga.org  \n \nPLEASE NOTE: We encourage pre-registration for all programming. Registering in advance guarantees your spot and helps the studio have adequate staffing. If fewer than 5 participants register the event may be canceled. \nRefund Policy: We understand that life happens and unforeseen circumstances come up. If life offers up an unexpected event and you need to withdraw from the workshop:  \n\nA full refund will be issued if you need to withdraw 4+ days before the workshop. Please reach out for your refund\, as it will not be automatically applied to your account.\n\n\nIf you need to withdraw within 3 days or fewer\, no refund is provided.  \n\n\nPlease create a Mindbody account for each participant if registering more than 1 person. If you have any questions regarding registration\, or financial aid\, please email Kelsey at  kelsey@ashevillecommunityyoga.org  \nLate Policy: Doors will close at the workshop start time. We encourage you to arrive at least 15 minutes before the workshop start time to ensure there is ample time to park\, check in and settle in to your space. We do have a 10 minute grace period\, and we encourage you to call the studio to let us know if you are running behind. If you are later than 10 minutes after the start of the workshop\, there is a chance you will not be able to enter and no refund will be given. \n\nCapacity: Please note: Some workshops will fill to capacity of 28 students.
URL:https://ashevillecommunityyoga.org/event/soma-breath-awakening-journey-w-kyle-espenshade/
LOCATION:Asheville Community Yoga\, 8 Brookdale Rd\, Asheville\, North Carolina\, 28804\, United States
CATEGORIES:Workshops
ATTACH;FMTTYPE=image/jpeg:https://ashevillecommunityyoga.org/wp-content/uploads/2024/01/Kyle_SomaAlkhemy-1-scaled.jpg
END:VEVENT
END:VCALENDAR