BEGIN:VCALENDAR
VERSION:2.0
PRODID:-//Asheville Community Yoga - ECPv6.15.20//NONSGML v1.0//EN
CALSCALE:GREGORIAN
METHOD:PUBLISH
X-ORIGINAL-URL:https://ashevillecommunityyoga.org
X-WR-CALDESC:Events for Asheville Community Yoga
REFRESH-INTERVAL;VALUE=DURATION:PT1H
X-Robots-Tag:noindex
X-PUBLISHED-TTL:PT1H
BEGIN:VTIMEZONE
TZID:America/New_York
BEGIN:DAYLIGHT
TZOFFSETFROM:-0500
TZOFFSETTO:-0400
TZNAME:EDT
DTSTART:20250309T070000
END:DAYLIGHT
BEGIN:STANDARD
TZOFFSETFROM:-0400
TZOFFSETTO:-0500
TZNAME:EST
DTSTART:20251102T060000
END:STANDARD
BEGIN:DAYLIGHT
TZOFFSETFROM:-0500
TZOFFSETTO:-0400
TZNAME:EDT
DTSTART:20260308T070000
END:DAYLIGHT
BEGIN:STANDARD
TZOFFSETFROM:-0400
TZOFFSETTO:-0500
TZNAME:EST
DTSTART:20261101T060000
END:STANDARD
BEGIN:DAYLIGHT
TZOFFSETFROM:-0500
TZOFFSETTO:-0400
TZNAME:EDT
DTSTART:20270314T070000
END:DAYLIGHT
BEGIN:STANDARD
TZOFFSETFROM:-0400
TZOFFSETTO:-0500
TZNAME:EST
DTSTART:20271107T060000
END:STANDARD
END:VTIMEZONE
BEGIN:VEVENT
DTSTART;TZID=America/New_York:20260319T190000
DTEND;TZID=America/New_York:20260319T203000
DTSTAMP:20260423T155246
CREATED:20251202T183147Z
LAST-MODIFIED:20260120T161750Z
UID:241589-1773946800-1773952200@ashevillecommunityyoga.org
SUMMARY:Standing On the Sky: An Approach to Inversions w/ Leaflin Winecoff
DESCRIPTION:In this workshop we will explore intelligent & empowering methods of approaching inversions. \nStep by step\, we will learn how to prepare the body for inversions\, essentials of alignment\, & how to incorporate bandha for greater ease. Students will leave with a greater sense of trust in themselves\, and the fresh new perspective that inversions have to offer. \nBenefits of inverting:\n~Increased blood flow to the brain & other vital organs \n~Builds core strength\, balance &  proprioceptive awareness \n~Gives fresh perspective \n\n~Builds confidence! \n\n\n\n\n\nIn this workshop we will:\n~Thoroughly warm up the entire body\, especially the wrists\, shoulders\, core & spine \n~Play with fun ways of finding the specific muscles it takes to lift off\, without actually inverting \n~Discuss how to fall as safely as possible\n~Learn a step by step method for going into headstand/handstand without “kicking up” \n\n~Explore alternate inversions for beginners (such as waterfall & shoulder stand) & options for advanced practice (scorpion\, forearm balance)  \n\n\n\n\n\n\n\n\n\n\nCome learn how you can “Stand on the sky” and find the joy of going up-side-down! \nFor more information on Leaflin\, please see her teacher profile here!  Leaflin teaches weekly donation-based Gentle Flow on Wednesdays from 6:15-7:15pm. \n  \n\n\n\n\n\n\n\n\n\n\n\n \nCost: $25 per personFinancial Aid Available- Please stop by the front desk\, call\, or email kelsey@ashevillecommunityyoga.org. \nPLEASE NOTE: We encourage pre-registration for all programming. Registering in advance guarantees your spot and helps the studio have adequate staffing. If fewer than 5 participants register the event may be canceled. \nRefund Policy: We understand that life happens and unforeseen circumstances come up. If life offers up an unexpected event and you need to withdraw from the workshop: \n\nA full refund will be issued if you need to withdraw 4+ days before the workshop. Please reach out for your refund\, as it will not be automatically applied to your account.\nIf you need to withdraw within 3 days or fewer\, no refund is provided.\n\nPlease create a Mindbody account for each participant if registering more than 1 person. If you have any questions regarding registration\, please email Kelsey at  kelsey@ashevillecommunityyoga.org \n \nLate Policy: Doors will close at the workshop start time. We encourage you to arrive at least 15 minutes before the workshop start time to ensure there is ample time to park\, check in and settle in to your space. We do have a 10 minute grace period\, and we encourage you to call the studio to let us know if you are running behind. If you are later than 10 minutes after the start of the workshop\, there is a chance you will not be able to enter and no refund will be given. \n\nCapacity: Please note: Some workshops will fill to capacity of 28 students.
URL:https://ashevillecommunityyoga.org/event/standing-on-the-sky-an-approach-to-headstand-w-leaflin-winecoff-2/
LOCATION:Asheville Community Yoga\, 8 Brookdale Rd\, Asheville\, North Carolina\, 28804\, United States
CATEGORIES:Workshops
ATTACH;FMTTYPE=image/jpeg:https://ashevillecommunityyoga.org/wp-content/uploads/2024/12/Leaflin.jpeg
END:VEVENT
END:VCALENDAR