BEGIN:VCALENDAR
VERSION:2.0
PRODID:-//Asheville Community Yoga - ECPv6.15.20//NONSGML v1.0//EN
CALSCALE:GREGORIAN
METHOD:PUBLISH
X-WR-CALNAME:Asheville Community Yoga
X-ORIGINAL-URL:https://ashevillecommunityyoga.org
X-WR-CALDESC:Events for Asheville Community Yoga
REFRESH-INTERVAL;VALUE=DURATION:PT1H
X-Robots-Tag:noindex
X-PUBLISHED-TTL:PT1H
BEGIN:VTIMEZONE
TZID:America/New_York
BEGIN:DAYLIGHT
TZOFFSETFROM:-0500
TZOFFSETTO:-0400
TZNAME:EDT
DTSTART:20250309T070000
END:DAYLIGHT
BEGIN:STANDARD
TZOFFSETFROM:-0400
TZOFFSETTO:-0500
TZNAME:EST
DTSTART:20251102T060000
END:STANDARD
BEGIN:DAYLIGHT
TZOFFSETFROM:-0500
TZOFFSETTO:-0400
TZNAME:EDT
DTSTART:20260308T070000
END:DAYLIGHT
BEGIN:STANDARD
TZOFFSETFROM:-0400
TZOFFSETTO:-0500
TZNAME:EST
DTSTART:20261101T060000
END:STANDARD
BEGIN:DAYLIGHT
TZOFFSETFROM:-0500
TZOFFSETTO:-0400
TZNAME:EDT
DTSTART:20270314T070000
END:DAYLIGHT
BEGIN:STANDARD
TZOFFSETFROM:-0400
TZOFFSETTO:-0500
TZNAME:EST
DTSTART:20271107T060000
END:STANDARD
END:VTIMEZONE
BEGIN:VEVENT
DTSTART;TZID=America/New_York:20260621T101500
DTEND;TZID=America/New_York:20260621T121500
DTSTAMP:20260423T171217
CREATED:20260317T145721Z
LAST-MODIFIED:20260318T151919Z
UID:242675-1782036900-1782044100@ashevillecommunityyoga.org
SUMMARY:The Yoga of Sound w/ Mackenzie Alistar
DESCRIPTION:This workshop will explore various dimensions of Nada Yoga\, the Yoga of sound. \n\nAs Irena Sterna puts it\, “Nada Yoga\, translated as “Unity through Sound\,” is not just a practice but a journey into inner harmony\, where sound serves as a bridge to spiritual consciousness.”\n \nThis soundbath and meditation will welcome the Summer Solstice in community\, embracing the longest day of the year together.   \n\nWe will begin with 10-15 minutes of gentle movement to help us arrive in our bodies. From here we will enter into a vibratory journey (sound bath) into the realms of tibetan bowls\, crystal bowls\, handpan\, flutes\, didgeridoo\, harmonium\, guitar\, drum\, chimes\, bells\, rattles\, voice\, and other sound healing instruments. This will flow into a more participatory soundsploration in which we will unite our voices in toning and mantra. We will have slow time at the end to process.\n\n\n\nThis is a great opportunity to rest\, relax\, come back to yourself\, and meditate on the nature of the universe.  \n  \n\n\n\n\nFor more info on Mackenzie\, please see his teacher profile here. He teaches donation-based Hot Vinyasa Flow weekly on Mondays 7:45-8:45pm.\nCost: $30 \nFinancial Aid Available- Please stop by the front desk or email Kelsey@ashevillecommunityyoga.org  \n \nPLEASE NOTE: We encourage pre-registration for all programming. Registering in advance guarantees your spot and helps the studio have adequate staffing. If fewer than 5 participants register the event may be canceled. \nRefund Policy: We understand that life happens and unforeseen circumstances come up. If life offers up an unexpected event and you need to withdraw from the workshop:  \n\nA full refund will be issued if you need to withdraw 4+ days before the workshop. Please reach out for your refund\, as it will not be automatically applied to your account.\n\n\nIf you need to withdraw within 3 days or fewer\, no refund is provided.  \n\n\nPlease create a Mindbody account for each participant if registering more than 1 person. If you have any questions regarding registration\, or financial aid\, please email Kelsey at  kelsey@ashevillecommunityyoga.org  \nLate Policy: Doors will close at the workshop start time. We encourage you to arrive at least 15 minutes before the workshop start time to ensure there is ample time to park\, check in and settle in to your space. We do have a 10 minute grace period\, and we encourage you to call the studio to let us know if you are running behind. If you are later than 10 minutes after the start of the workshop\, there is a chance you will not be able to enter and no refund will be given. \n\nCapacity: Please note: Some workshops will fill to capacity of 28 students.
URL:https://ashevillecommunityyoga.org/event/the-yoga-of-sound-w-mackenzie-alistar/
LOCATION:Asheville Community Yoga\, 8 Brookdale Rd\, Asheville\, North Carolina\, 28804\, United States
CATEGORIES:Workshops
ATTACH;FMTTYPE=image/png:https://ashevillecommunityyoga.org/wp-content/uploads/2026/03/Mackenzie.png
END:VEVENT
END:VCALENDAR