BEGIN:VCALENDAR
VERSION:2.0
PRODID:-//Asheville Community Yoga - ECPv6.15.20//NONSGML v1.0//EN
CALSCALE:GREGORIAN
METHOD:PUBLISH
X-ORIGINAL-URL:https://ashevillecommunityyoga.org
X-WR-CALDESC:Events for Asheville Community Yoga
REFRESH-INTERVAL;VALUE=DURATION:PT1H
X-Robots-Tag:noindex
X-PUBLISHED-TTL:PT1H
BEGIN:VTIMEZONE
TZID:America/New_York
BEGIN:DAYLIGHT
TZOFFSETFROM:-0500
TZOFFSETTO:-0400
TZNAME:EDT
DTSTART:20240310T070000
END:DAYLIGHT
BEGIN:STANDARD
TZOFFSETFROM:-0400
TZOFFSETTO:-0500
TZNAME:EST
DTSTART:20241103T060000
END:STANDARD
BEGIN:DAYLIGHT
TZOFFSETFROM:-0500
TZOFFSETTO:-0400
TZNAME:EDT
DTSTART:20250309T070000
END:DAYLIGHT
BEGIN:STANDARD
TZOFFSETFROM:-0400
TZOFFSETTO:-0500
TZNAME:EST
DTSTART:20251102T060000
END:STANDARD
BEGIN:DAYLIGHT
TZOFFSETFROM:-0500
TZOFFSETTO:-0400
TZNAME:EDT
DTSTART:20260308T070000
END:DAYLIGHT
BEGIN:STANDARD
TZOFFSETFROM:-0400
TZOFFSETTO:-0500
TZNAME:EST
DTSTART:20261101T060000
END:STANDARD
END:VTIMEZONE
BEGIN:VEVENT
DTSTART;VALUE=DATE:20250609
DTEND;VALUE=DATE:20250616
DTSTAMP:20260424T030835
CREATED:20250603T143557Z
LAST-MODIFIED:20250603T143557Z
UID:240541-1749427200-1750031999@ashevillecommunityyoga.org
SUMMARY:Volunteer Yoga Teacher Appreciation Week!
DESCRIPTION:We’re honoring the heart of our studio: our incredible volunteer yoga teachers!\n \nJoin in the celebration! \n\nWhether it’s a kind word after class\, a thank-you note\, a small token of appreciation\, or simply showing up with your presence & gratitude — every gesture makes a difference. \n\nLet’s uplift those who uplift us.
URL:https://ashevillecommunityyoga.org/event/volunteer-yoga-teacher-appreciation-week/
LOCATION:Asheville Community Yoga\, 8 Brookdale Rd\, Asheville\, North Carolina\, 28804\, United States
CATEGORIES:Community Events
END:VEVENT
BEGIN:VEVENT
DTSTART;TZID=America/New_York:20250614T134500
DTEND;TZID=America/New_York:20250614T154500
DTSTAMP:20260424T030835
CREATED:20250603T140412Z
LAST-MODIFIED:20250603T141410Z
UID:240530-1749908700-1749915900@ashevillecommunityyoga.org
SUMMARY:Volunteer: Prop Wash Party
DESCRIPTION:Come out in Support!We’d love to have community support for our upcoming Prop Wash Party! \nWhile we ask our community to clean the mats and props that they use for class\, it’s always helpful to give them all a little extra love here and there! \nPlease consider helping us give our mats\, blocks\, and knee pads that extra deep clean on Saturday\, June 14th from 1:45pm-3:45pm. \nEmail Volunteering@AshevilleCommunityYoga.org to sign-up!
URL:https://ashevillecommunityyoga.org/event/volunteer-prop-wash-party/
LOCATION:Asheville Community Yoga\, 8 Brookdale Rd\, Asheville\, North Carolina\, 28804\, United States
CATEGORIES:Community Events
ATTACH;FMTTYPE=image/png:https://ashevillecommunityyoga.org/wp-content/uploads/2025/06/Prop-Wash-2025.png
END:VEVENT
END:VCALENDAR