BEGIN:VCALENDAR
VERSION:2.0
PRODID:-//Asheville Community Yoga - ECPv6.15.20//NONSGML v1.0//EN
CALSCALE:GREGORIAN
METHOD:PUBLISH
X-ORIGINAL-URL:https://ashevillecommunityyoga.org
X-WR-CALDESC:Events for Asheville Community Yoga
REFRESH-INTERVAL;VALUE=DURATION:PT1H
X-Robots-Tag:noindex
X-PUBLISHED-TTL:PT1H
BEGIN:VTIMEZONE
TZID:America/New_York
BEGIN:DAYLIGHT
TZOFFSETFROM:-0500
TZOFFSETTO:-0400
TZNAME:EDT
DTSTART:20250309T070000
END:DAYLIGHT
BEGIN:STANDARD
TZOFFSETFROM:-0400
TZOFFSETTO:-0500
TZNAME:EST
DTSTART:20251102T060000
END:STANDARD
BEGIN:DAYLIGHT
TZOFFSETFROM:-0500
TZOFFSETTO:-0400
TZNAME:EDT
DTSTART:20260308T070000
END:DAYLIGHT
BEGIN:STANDARD
TZOFFSETFROM:-0400
TZOFFSETTO:-0500
TZNAME:EST
DTSTART:20261101T060000
END:STANDARD
BEGIN:DAYLIGHT
TZOFFSETFROM:-0500
TZOFFSETTO:-0400
TZNAME:EDT
DTSTART:20270314T070000
END:DAYLIGHT
BEGIN:STANDARD
TZOFFSETFROM:-0400
TZOFFSETTO:-0500
TZNAME:EST
DTSTART:20271107T060000
END:STANDARD
END:VTIMEZONE
BEGIN:VEVENT
DTSTART;TZID=America/New_York:20260424T173000
DTEND;TZID=America/New_York:20260424T193000
DTSTAMP:20260423T115231
CREATED:20251127T151453Z
LAST-MODIFIED:20260126T182318Z
UID:241544-1777051800-1777059000@ashevillecommunityyoga.org
SUMMARY:Yogi Book Club: The Surrender Experiment: My Journey into Life's Perfection by Michael A. Singer
DESCRIPTION:Free Community Event!\n \nGrab your book and save the date! Community Members are welcome to join even if they are unable to finish the book\, as there is much value to be gained from discussion.  \nPlease sign up in advance so we know to expect you! \n*ACY does not provide copies of the book. Please consider checking out from your local library\, or buying used. The audiobook is available as well. \nFrom GoodReads.com: \nSpirituality is meant to bring about harmony and peace. But the diversity of our philosophies\, beliefs\, concepts\, and views about the soul often leads to confusion. To reconcile the noise that clouds spirituality\, Michael Singer combines accounts of his own life journey to enlightenment—from his years as a hippie-loner to his success as a computer program engineer to his work in spiritual and humanitarian efforts—with lessons on how to put aside conflicting beliefs\, let go of worries\, and transform misdirected desires. Singer provides a road map to a new way of living not in the moment\, but to exist in a state of perpetual happiness. \n\n \nFor more information on the book club facilitator Stephen\, please see his teacher profile here!  He teaches donation-based Warm Vinyasa Flow Mondays 7:30am-8:30am\, Gentle Flow Mondays 12:15-1:15pm\, and Warm Vinyasa Flow Tuesdays 4:15pm-5:15pm. \nPlease create a Mindbody account for each participant if registering more than 1 person. If you have any questions regarding registration\, please email Kelsey at  kelsey@ashevillecommunityyoga.org \n  \nLate Policy: Doors will close at the workshop start time. We encourage you to arrive at least 15 minutes before the workshop start time to ensure there is ample time to park\, check in and settle in to your space. We do have a 10 minute grace period\, and we encourage you to call the studio to let us know if you are running behind. If you are later than 10 minutes after the start of the workshop\, there is a chance you will not be able to enter and no refund will be given. \n\nCapacity: Please note: Some workshops will fill to capacity of 28 students.
URL:https://ashevillecommunityyoga.org/event/yogi-book-club-the-surrender-experiment-my-journey-into-lifes-perfection-by-michael-a-singer/
LOCATION:Asheville Community Yoga\, 8 Brookdale Rd\, Asheville\, North Carolina\, 28804\, United States
CATEGORIES:Community Events
ATTACH;FMTTYPE=image/jpeg:https://ashevillecommunityyoga.org/wp-content/uploads/2025/11/the-surrender-experiment.jpg
END:VEVENT
BEGIN:VEVENT
DTSTART;TZID=America/New_York:20260612T173000
DTEND;TZID=America/New_York:20260612T193000
DTSTAMP:20260423T115231
CREATED:20260305T225500Z
LAST-MODIFIED:20260413T162347Z
UID:242532-1781285400-1781292600@ashevillecommunityyoga.org
SUMMARY:Yogi Book Club: The Yamas & Niyamas by Deborah Adele
DESCRIPTION:Free Community Event!\n\n\nWill meet TWICE on this book! June 12th and June 26th. \nGrab your book and save the dates! Community Members are welcome to join even if they are unable to finish the book\, as there is much value to be gained from discussion.  \nPlease sign up in advance so we know to expect you! \n*ACY does not provide copies of the book. Please consider checking out from your local library\, or buying used. The audiobook is available as well. \nFrom GoodReads.com: \nThe first two limbs of the eight-fold path of yoga sutras—the basic text for classical yoga—are examined in this spiritual guide to the practice of yoga. Foundational to all yogic thought\, they are considered to be the guidelines to the yoga way of living that free individuals to take ownership of their lives\, direct them toward the fulfillment they seek\, and gain the skills to choose attitude\, thought\, and action. \n The first five guidelines are referred to as the yamas—a Sanskrit word that translates to “restraints”—and encompass nonviolence\, truthfulness\, not stealing\, nonexcess\, and nonpossessiveness. The last five are referred to as the niyamas\, or observances—purity\, contentment\, self-discipline\, self-study\, and surrender. A self-study section at the end of each chapter may also be used by instructors for group discussion. \n \nFor more information on the book club facilitator Stephen\, please see his teacher profile here!  He teaches donation-based Warm Vinyasa Flow Mondays 7:30am-8:30am\, Gentle Flow Mondays 12:15-1:15pm\, and Warm Vinyasa Flow Tuesdays 4:15pm-5:15pm. \nPlease create a Mindbody account for each participant if registering more than 1 person. If you have any questions regarding registration\, please email Kelsey at  kelsey@ashevillecommunityyoga.org \n  \nLate Policy: Doors will close at the workshop start time. We encourage you to arrive at least 15 minutes before the workshop start time to ensure there is ample time to park\, check in and settle in to your space. We do have a 10 minute grace period\, and we encourage you to call the studio to let us know if you are running behind. If you are later than 10 minutes after the start of the workshop\, there is a chance you will not be able to enter and no refund will be given. \n\nCapacity: Please note: Some workshops will fill to capacity of 28 students.
URL:https://ashevillecommunityyoga.org/event/yogi-book-club-the-yamas-niyamas-by-deborah-adele/
LOCATION:Asheville Community Yoga\, 8 Brookdale Rd\, Asheville\, North Carolina\, 28804\, United States
CATEGORIES:Community Events
ATTACH;FMTTYPE=image/jpeg:https://ashevillecommunityyoga.org/wp-content/uploads/2026/03/yamas.jpg
END:VEVENT
BEGIN:VEVENT
DTSTART;TZID=America/New_York:20260724T173000
DTEND;TZID=America/New_York:20260724T193000
DTSTAMP:20260423T115231
CREATED:20260413T163742Z
LAST-MODIFIED:20260415T175410Z
UID:242841-1784914200-1784921400@ashevillecommunityyoga.org
SUMMARY:Yogi Book Club: Bhagavad Gita
DESCRIPTION:Free Community Event!\n\n\nGrab your book and save the dates! Community Members are welcome to join even if they are unable to finish the book\, as there is much value to be gained from discussion.  We will be reviewing this version of the text. \nPlease sign up in advance so we know to expect you! \n*ACY does not provide copies of the book. Please consider checking out from your local library\, or buying used. The audiobook is available as well. \nFrom Good Reads: \nThis book doesn’t preach—it awakens. More than a sacred text\, it becomes a mirror: a still moment amid the storm\, a return to the self beneath all stories. A quiet reminder of the strength you’ve always had. \nWhether you’ve struggled through ancient translations or never dared to open the Gita at all\, this edition was made for now—for you.Alive with clarity\, rich in emotion\, and free from dogma\, it speaks directly to the seeker in a modern soul. \nWhy This Gita Is Different💠 Not a rulebook. A revelation. It doesn’t preach—it walks beside you\, like a trusted inner guide.💠 Poetic\, not preachy. Each chapter begins with a modern epigraph and flows into immersive storytelling.💠 The Gita\, reawakened. Timeless wisdom—now alive\, clear\, and real.💠 Spiritual\, not religious. No dogma. No gurus. Just resonance.💠 Read it as a journey—or a remedy. Open it when you need clarity. Let it speak to the moment you’re in. \nInside You’ll ✅ 18 modern reimaginings of each original chapter✅ Deep Insight sections to transform—not just inform✅ Wisdom in Brief bullets to distill ancient power into daily clarity✅ Final Insight closings to leave your soul still\, strong\, and ready✅ A voice that speaks to seekers\, creatives\, and quiet warriors—not scholars✅ A format built to be returned to—again and again \n🔍 This isn’t about understanding every verse. It’s about remembering what you’ve always known. \n \nFor more information on the book club facilitator Stephen\, please see his teacher profile here!  He teaches donation-based Warm Vinyasa Flow Mondays 7:30am-8:30am\, Gentle Flow Mondays 12:15-1:15pm\, and Warm Vinyasa Flow Tuesdays 4:15pm-5:15pm. \nPlease create a Mindbody account for each participant if registering more than 1 person. If you have any questions regarding registration\, please email Kelsey at  kelsey@ashevillecommunityyoga.org \n  \nLate Policy: Doors will close at the workshop start time. We encourage you to arrive at least 15 minutes before the workshop start time to ensure there is ample time to park\, check in and settle in to your space. We do have a 10 minute grace period\, and we encourage you to call the studio to let us know if you are running behind. If you are later than 10 minutes after the start of the workshop\, there is a chance you will not be able to enter and no refund will be given. \n\nCapacity: Please note: Some workshops will fill to capacity of 28 students.
URL:https://ashevillecommunityyoga.org/event/yogi-book-club-bhagavad-gita/
LOCATION:Asheville Community Yoga\, 8 Brookdale Rd\, Asheville\, North Carolina\, 28804\, United States
CATEGORIES:Community Events
ATTACH;FMTTYPE=image/jpeg:https://ashevillecommunityyoga.org/wp-content/uploads/2026/04/bhagavad.jpg
END:VEVENT
END:VCALENDAR