BEGIN:VCALENDAR
VERSION:2.0
PRODID:-//Asheville Community Yoga - ECPv6.15.20//NONSGML v1.0//EN
CALSCALE:GREGORIAN
METHOD:PUBLISH
X-ORIGINAL-URL:https://ashevillecommunityyoga.org
X-WR-CALDESC:Events for Asheville Community Yoga
REFRESH-INTERVAL;VALUE=DURATION:PT1H
X-Robots-Tag:noindex
X-PUBLISHED-TTL:PT1H
BEGIN:VTIMEZONE
TZID:America/New_York
BEGIN:DAYLIGHT
TZOFFSETFROM:-0500
TZOFFSETTO:-0400
TZNAME:EDT
DTSTART:20230312T070000
END:DAYLIGHT
BEGIN:STANDARD
TZOFFSETFROM:-0400
TZOFFSETTO:-0500
TZNAME:EST
DTSTART:20231105T060000
END:STANDARD
BEGIN:DAYLIGHT
TZOFFSETFROM:-0500
TZOFFSETTO:-0400
TZNAME:EDT
DTSTART:20240310T070000
END:DAYLIGHT
BEGIN:STANDARD
TZOFFSETFROM:-0400
TZOFFSETTO:-0500
TZNAME:EST
DTSTART:20241103T060000
END:STANDARD
BEGIN:DAYLIGHT
TZOFFSETFROM:-0500
TZOFFSETTO:-0400
TZNAME:EDT
DTSTART:20250309T070000
END:DAYLIGHT
BEGIN:STANDARD
TZOFFSETFROM:-0400
TZOFFSETTO:-0500
TZNAME:EST
DTSTART:20251102T060000
END:STANDARD
BEGIN:DAYLIGHT
TZOFFSETFROM:-0500
TZOFFSETTO:-0400
TZNAME:EDT
DTSTART:20260308T070000
END:DAYLIGHT
BEGIN:STANDARD
TZOFFSETFROM:-0400
TZOFFSETTO:-0500
TZNAME:EST
DTSTART:20261101T060000
END:STANDARD
END:VTIMEZONE
BEGIN:VEVENT
DTSTART;TZID=America/New_York:20250106T193000
DTEND;TZID=America/New_York:20250127T203000
DTSTAMP:20260423T131822
CREATED:20241202T194402Z
LAST-MODIFIED:20241203T144640Z
UID:238847-1736191800-1738009800@ashevillecommunityyoga.org
SUMMARY:Yoga & Somatic Experiencing Speciality Class (4-Week Drop-In Series) w/ Ocean Gettys LCSW
DESCRIPTION:Join Ocean in this drop-in series offered every Monday of January!  Explore the intersections between hatha yoga and Somatic Experiencing through the lens of nervous system repair. We will practice asana\, pranayama\, and mindful social engagement in service to healing our connection with our bodies\, hearts\, and each other. All of you is welcome. \nCost: Donation based suggested $10-$20 per class \nClick here to sign up for January 6Click here to sign up for January 13Click here to sign up for January 20Click here to sign up for January 27 \nPLEASE NOTE: We encourage pre-registration for all programming. Registering in advance guarantees your spot and helps the studio have adequate staffing. If fewer than 5 participants register the event may be canceled.  \nPlease create a Mindbody account for each participant if registering more than 1 person. If you have any questions regarding registration\, or financial aid\, please email Kelsey at  kelsey@ashevillecommunityyoga.org 
URL:https://ashevillecommunityyoga.org/event/4-week-class-offering-yoga-somatic-experiencing-w-ocean-gettys-lcsw/
LOCATION:Asheville Community Yoga\, 8 Brookdale Rd\, Asheville\, North Carolina\, 28804\, United States
CATEGORIES:Series
ATTACH;FMTTYPE=image/jpeg:https://ashevillecommunityyoga.org/wp-content/uploads/2024/04/ocean-photo-scaled.jpg
END:VEVENT
BEGIN:VEVENT
DTSTART;TZID=America/New_York:20250106T100000
DTEND;TZID=America/New_York:20250106T113000
DTSTAMP:20260423T131822
CREATED:20241107T154605Z
LAST-MODIFIED:20241125T162335Z
UID:238758-1736157600-1736163000@ashevillecommunityyoga.org
SUMMARY:6 Week Balance Series for Falls Prevention w/ Diane Saccone
DESCRIPTION:Please note: This date refers to the first of 6 sessions. This course will occur over 6 consecutive Mondays from January 6th- February 10th from 10:00 a.m.- 11:30 a.m. \nFalls are the #1 cause of unintentional death in adults 65 and above and a leading cause of death for adults living with chronic conditions such as heart disease.\nThis 6 week series works to improve balance\, build muscle strength\, flexibility and mobility to enhance overall physical health\, which leads to better functioning in daily activities. Participation in the program may also result in better mental health\, reduced stress\, improved memory and cognition\, and increased self-esteem.\n\nThis program is based on 8 forms of Tai Chi that were adapted to focus on falls prevention. There will be no time spent on the floor; all the exercises will be either sitting or standing. In each class\, there will be seated warm ups and cool downs that focus on building lower and upper body strength. We will focus on how sleep\, nutrition\, stress\, shoes and a sedentary lifestyle contribute to increased falls risk. With over 100 people through our program in the last 18 months we have seen a 91% decrease in falls risk.  \n\n\n\n\n\n\nThe program was founded by the US Administration for Community Living\, The Robert Woods Johnson Foundation and Centers for Disease and Control Prevention. \n\n\n\n\n\nThe program is taught in a safe and supported group setting which will provide participants the opportunity to feel engaged while having fun and making new friends.\nDiane Saccone\, MS MT (ASACP) ERYT 500 spent the majority of her career in the field of Clinical Laboratory medicine changing careers after her move with her husband to Western North Carolina in 2005. She also developed the active older adult program at the YMCA of Western North Carolina where she served as the Director of Healthy Aging Initiatives and traveled through the Y of the USA as a subject matter expert on aging; lecturing and teaching evidence based falls prevention programs across the country.\nCost: $100 for entire course\n(participants must register for entire series\, no drop-in attendance)\nFinancial Aid Available \nYACEP CEU’s available to Yoga Instructors through this course. Email Diane at grdngrl54@gmail.com for more information regarding CE credits\n \n\n \n \nPLEASE NOTE: We encourage pre-registration for all programming. Registering in advance guarantees your spot and helps the studio have adequate staffing. If fewer than 5 participants register the event may be canceled. \nRefund Policy: We understand that life happens and unforeseen circumstances come up. If life offers up an unexpected event and you need to withdraw from the workshop:  \n\nA full refund will be issued if you need to withdraw 4+ days before the workshop.\n\n\nIf you need to withdraw within 3 days or fewer\, no refund is provided.  \n\n\nPlease create a Mindbody account for each participant if registering more than 1 person. If you have any questions regarding registration\, or financial aid\, please email Kelsey@AshevilleCommunityYoga.org
URL:https://ashevillecommunityyoga.org/event/6-week-balance-series-for-falls-prevention-w-diane-saccone-7/
LOCATION:Asheville Community Yoga\, 8 Brookdale Rd\, Asheville\, North Carolina\, 28804\, United States
CATEGORIES:Series
ATTACH;FMTTYPE=image/jpeg:https://ashevillecommunityyoga.org/wp-content/uploads/2022/07/diane-head-shot-e1673632365258.jpeg
END:VEVENT
BEGIN:VEVENT
DTSTART;TZID=America/New_York:20241209T111500
DTEND;TZID=America/New_York:20241209T121500
DTSTAMP:20260423T131822
CREATED:20240902T172407Z
LAST-MODIFIED:20241202T213854Z
UID:238374-1733742900-1733746500@ashevillecommunityyoga.org
SUMMARY:Snuggle & Stretch: Baby and Me Yoga w/ Jocilyn & Josie
DESCRIPTION:Click here to register! \n \nThe journey into parenthood\, whether for the first time or with multiple children\, is an ever-evolving and never-ending adventure.  \nIn order to cater to those experiencing the first year of this transition\, we developed this course designed for new parents/caregivers seeking a safe and nurturing space to breathe\, stretch and bond with their new bundle of joy. We wish to create an experience that will allow parents/caregivers to benefit from the physical\, emotional and spiritual connection between themselves and their little ones.  \nOne can anticipate light breathwork\, gentle movements\, restorative postures\, baby massages\, and more.  \nThis class is for 0-12 month old babies or pre-walkers. Crawlers are welcome. If you have twins\, please consider bringing an additional person with you\, if possible.  \nGuardians\, please bring your own blankets.  Mats and blocks will be provided for this class.  For sanitation purposes\, bolsters can only be used if covered/protected by a blanket brought by parents/caregivers.   \n \nOpening circleCentering/Breathwork/ConnectionGentle YogaBaby Yoga/MassageClosing Song \n \nSuggested donation of $10-$20. \n \nClick here to register!
URL:https://ashevillecommunityyoga.org/event/snuggle-stretch-baby-and-me-yoga-w-jocilyn/
LOCATION:Asheville Community Yoga\, 8 Brookdale Rd\, Asheville\, North Carolina\, 28804\, United States
CATEGORIES:Series
ATTACH;FMTTYPE=image/jpeg:https://ashevillecommunityyoga.org/wp-content/uploads/2024/09/IMG_5988-scaled.jpg
END:VEVENT
BEGIN:VEVENT
DTSTART;TZID=America/New_York:20241118T193000
DTEND;TZID=America/New_York:20241209T203000
DTSTAMP:20260423T131822
CREATED:20241107T143753Z
LAST-MODIFIED:20241202T213826Z
UID:238723-1731958200-1733776200@ashevillecommunityyoga.org
SUMMARY:Collective Rest Specialty Class w/ Cassandra Lam (4-Week Drop-In Series)
DESCRIPTION:^^ Please note that this is a weekly class offering on Mondays between 11/18 and 12/9 from 7:30pm-8:30pm. Please register in advance if you are able. Class drop ins are welcome. \nClick here to register for Monday\, Nov. 18Click here to register for Monday\, Nov. 25Click here to register for Monday\, Dec. 2Click here to register for Monday\, Dec. 9 \nCollective Rest is a judgment-free space to come together in our struggles to rest\, practice in community\, and discover what you need to feel safe enough to slow down.\n \nEach session will offer a trauma-informed guided relaxation practice designed to systematically prepare the body-mind for deep states of rest and recovery. Through a combination of modalities such as vocal toning\, breathwork\, somatics\, visualization\, mindfulness\, and yoga nidra\, you’ll systematically soothe the mind chatter\, discharge stress\, and nourish the nervous system. \n \n\nThe intention is to help you journey to that dreamy space between awake and asleep where all sorts of magic can happen: cellular-level restoration\, intuitive messages\, creative insights\, spiritual connection\, and more. You’ll walk away ready to unwind for the evening and prepare for a great night’s sleep. \n  \n \n\n\nFor more information on Cassandra and Collective Rest\, please see her bio here. \nCost: $10-$20 suggested donation \nClick here to register for Monday\, Nov. 18Click here to register for Monday\, Nov. 25Click here to register for Monday\, Dec. 2Click here to register for Monday\, Dec. 9 \nPLEASE NOTE: We encourage pre-registration for all programming. Registering in advance guarantees your spot and helps the studio have adequate staffing. If fewer than 5 participants register the event may be canceled. \nPlease create a Mindbody account for each participant if registering more than 1 person. If you have any questions regarding registration\, or financial aid\, please email Kelsey at  kelsey@ashevillecommunityyoga.org 
URL:https://ashevillecommunityyoga.org/event/collective-rest-4-week-series-w-cassandra-lam/
LOCATION:Asheville Community Yoga\, 8 Brookdale Rd\, Asheville\, North Carolina\, 28804\, United States
CATEGORIES:Series
ATTACH;FMTTYPE=image/jpeg:https://ashevillecommunityyoga.org/wp-content/uploads/2024/09/Cassandra-scaled.jpg
END:VEVENT
BEGIN:VEVENT
DTSTART;TZID=America/New_York:20241113T130000
DTEND;TZID=America/New_York:20241204T140000
DTSTAMP:20260423T131822
CREATED:20241107T150251Z
LAST-MODIFIED:20241202T213831Z
UID:238739-1731502800-1733320800@ashevillecommunityyoga.org
SUMMARY:Weekly Community Support Group with Margaret Kirschner & Eddie LeShure (4-Week Drop-in Series)
DESCRIPTION:^^ Please note that this is a weekly class offering on Wednesdays between 11/13 and 12/4 from 1:00pm-2:00pm. Please register in advance if you are able. Class drop ins are welcome. \nClick here to register for Wednesday\, Nov. 13Click here to register for Wednesday\, Nov. 20Click here to register for Wednesday\, Nov. 27Click here to register for Wednesday\, Dec. 4 \n \nCome together in community with these questions as a framework for contemplation: \n* This is what happened\n* This is what I did to survive\n* This has been the cost\n* This is what I’m learning\n\n* This is how I can respond to life now. \n  \n\n\n\n\n\nMargaret Kirschner is a Certified Trauma-Sensitive Yoga Therapist (E-RYT 500 C-IAYT)\, Certified Alcohol and Drug Counselor (CADC)\, ACISTE Certified Mental Health Professional (ACMHP)\, Peer Support Specialist (CPSS)\, Breathwork Facilitator and Birth Doula. Margaret safely supports individuals in learning to listen to and trust their bodies with an attitude of curiosity and compassion. Says Margaret\, “My greatest joy is witnessing people reclaiming their lives through the simple and profound practices of yoga\, breathwork\, and mindfulness.” \nEddie LeShure is a Certified Yoga Instructor (RYT 200)\, Meditation Teacher\, Certified Alcohol and Drug Counselor (CADC)\, Certified Peer Support Specialist (CPSS)\, Spiritual Emergence Coach ® (IMHU)\,and Breathwork Facilitator. Eddie’s personal journey took him deep into the throes of active addiction and incarceration on a drug arrest. His two years behind bars were mostly spent in the notorious Attica Prison where he survived a rebellion in 1971 that killed 43 inmates and employees. As a survivor of extreme trauma\, his personal healing and how he works with others has always been guided by deep understanding and compassion. As co-owner of A Mindful Emergence LLC\, he provides preparation\, facilitation and integration for those intentionally using plant medicines and other psychedelics. His primary passion is providing trauma-sensitive\, somatic mindfulness and self-compassion practices to support us effectively embracing our full range of thoughts\, feelings and physical sensations. \nFor more information on Margaret and Eddie\, please see their website here. \nCost: Suggested Donation $10-$20\, no one turned away for lack of funds. \nPlease create a Mindbody account for each participant if registering more than 1 person. If you have any questions regarding registration\, or financial aid\, please email Kelsey at  kelsey@ashevillecommunityyoga.org 
URL:https://ashevillecommunityyoga.org/event/community-support-group-with-margaret-kirschner-eddie-leshure/
LOCATION:Asheville Community Yoga\, 8 Brookdale Rd\, Asheville\, North Carolina\, 28804\, United States
CATEGORIES:Series
ATTACH;FMTTYPE=image/png:https://ashevillecommunityyoga.org/wp-content/uploads/2024/03/Eddie-and-Margaret.png
END:VEVENT
END:VCALENDAR