BEGIN:VCALENDAR
VERSION:2.0
PRODID:-//Asheville Community Yoga - ECPv6.15.20//NONSGML v1.0//EN
CALSCALE:GREGORIAN
METHOD:PUBLISH
X-WR-CALNAME:Asheville Community Yoga
X-ORIGINAL-URL:https://ashevillecommunityyoga.org
X-WR-CALDESC:Events for Asheville Community Yoga
REFRESH-INTERVAL;VALUE=DURATION:PT1H
X-Robots-Tag:noindex
X-PUBLISHED-TTL:PT1H
BEGIN:VTIMEZONE
TZID:America/New_York
BEGIN:DAYLIGHT
TZOFFSETFROM:-0500
TZOFFSETTO:-0400
TZNAME:EDT
DTSTART:20240310T070000
END:DAYLIGHT
BEGIN:STANDARD
TZOFFSETFROM:-0400
TZOFFSETTO:-0500
TZNAME:EST
DTSTART:20241103T060000
END:STANDARD
BEGIN:DAYLIGHT
TZOFFSETFROM:-0500
TZOFFSETTO:-0400
TZNAME:EDT
DTSTART:20250309T070000
END:DAYLIGHT
BEGIN:STANDARD
TZOFFSETFROM:-0400
TZOFFSETTO:-0500
TZNAME:EST
DTSTART:20251102T060000
END:STANDARD
BEGIN:DAYLIGHT
TZOFFSETFROM:-0500
TZOFFSETTO:-0400
TZNAME:EDT
DTSTART:20260308T070000
END:DAYLIGHT
BEGIN:STANDARD
TZOFFSETFROM:-0400
TZOFFSETTO:-0500
TZNAME:EST
DTSTART:20261101T060000
END:STANDARD
END:VTIMEZONE
BEGIN:VEVENT
DTSTART;TZID=America/New_York:20250607T090000
DTEND;TZID=America/New_York:20250607T150000
DTSTAMP:20260424T030503
CREATED:20250331T155150Z
LAST-MODIFIED:20250605T223428Z
UID:240206-1749286800-1749308400@ashevillecommunityyoga.org
SUMMARY:Yin Yoga Workshop w/ Kelly Gilmore
DESCRIPTION:Are you feeling the call to slow your practice down?Are you looking for a therapeutic style of  yoga?Are you desiring greater mobility?Are you wanting to incorporate Yin into your Yoga classes but are seeking more training?  \nThis in-depth workshop is designed to provide you with a deeper understanding of Yin Yoga and how it can inspire self awareness and acceptance. You will walk away with knowledge and an embodied experience of the transformative nature of this practice.  \nIt is appropriate for anyone looking for a deeper understanding of Yin Yoga as a therapeutic technique and/or Yoga teachers looking to incorporate Yin in their classes. \nIn this Yin Yoga experience\, you will gain a deeper understanding of: \n\nThe principles and philosophy of Yin Yoga\nThe function of Connective Tissue\nMeridians and Chi\nTaoism\nSafe Sequencing for teaching or home practice\n\nThere will be a lunch break from 12pm-1pm. Please bring your own lunch\, we have picnic tables out back. \n5 CEUs are available through Yoga Alliance. A handout will be provided. If you would like to\, please consider reading any book on Yin Yoga before this workshop. \n*This workshop is SOLD OUT. \nPLEASE NOTE: We encourage pre-registration for all programming. Registering in advance guarantees your spot and helps the studio have adequate staffing. If fewer than 5 participants register the event may be canceled.\nRefund Policy: We understand that life happens and unforeseen circumstances come up. If life offers up an unexpected event and you need to withdraw from the workshop: \n\nA full refund will be issued if you need to withdraw 4+ days before the workshop. Please reach out for your refund\, as it will not be automatically applied to your account.\nIf you need to withdraw within 3 days or fewer\, no refund is provided.\n\nIf you have any questions regarding registration\, please email Kelsey at  kelsey@ashevillecommunityyoga.org 
URL:https://ashevillecommunityyoga.org/event/introduction-to-yin-yoga-w-kelly-gilmore/
LOCATION:Asheville Community Yoga\, 8 Brookdale Rd\, Asheville\, North Carolina\, 28804\, United States
CATEGORIES:CE Courses,Workshops
ATTACH;FMTTYPE=image/jpeg:https://ashevillecommunityyoga.org/wp-content/uploads/2024/08/kelly.jpg
END:VEVENT
BEGIN:VEVENT
DTSTART;TZID=America/New_York:20250608T130000
DTEND;TZID=America/New_York:20250608T150000
DTSTAMP:20260424T030503
CREATED:20250304T183042Z
LAST-MODIFIED:20250521T184650Z
UID:240033-1749387600-1749394800@ashevillecommunityyoga.org
SUMMARY:Mini-Retreat for Moms w/ Troy Marjenhoff
DESCRIPTION:Motherhood can be a lot.  \nIt’s time to pause. To breathe. To take an afternoon just for you. \nBy spending time deeply relaxing and refilling\, everything shifts—you think more clearly\, have more patience\, feel more peace\, and connect more easily with your children. And all of this goodness fills your cup\, and rubs off on your kids. \nIn this Mini-Retreat for Moms\, you’ll be guided through a nourishing yoga practice with guided meditation\, as well as journaling and personal reflection\, all designed to replenish your energy. You’ll connect with other mamas in a real and heartfelt community. You’ll take home simple\, effective tools to help you find calm in the busyness of daily life. Every mother\, at every stage of motherhood—including pregnancy—is invited into this space of renewal and connection.  \nThe magic comes from personal reflection time for yourself\, and then sharing\, and listening with other moms\, to be seen and heard\, and feel connected.  \nCome as you are. You are welcome to bring a mama friend along\, and meet new ones here. Please bring a journal if you have one–if not\, paper will be provided. No previous yoga experience is needed. \nFor more information on Troy\, please visit her website at: www.TroyMarjenhoff.com \nCost: $30Financial Aid Available- Please stop by the front desk\, call\, or email kelsey@ashevillecommunityyoga.org. \n \n  \nPLEASE NOTE: We encourage pre-registration for all programming. Registering in advance guarantees your spot and helps the studio have adequate staffing. If fewer than 5 participants register the event may be canceled. \nRefund Policy: We understand that life happens and unforeseen circumstances come up. If life offers up an unexpected event and you need to withdraw from the workshop:  \n\nA full refund will be issued if you need to withdraw 4+ days before the workshop. Refund are not automatically sent by Mindbody\, so please reach out for your refund.\nIf you need to withdraw within 3 days or fewer\, no refund is provided.\n\nPlease create a Mindbody account for each participant if registering more than 1 person. If you have any questions regarding registration\, please email Kelsey at  kelsey@ashevillecommunityyoga.org 
URL:https://ashevillecommunityyoga.org/event/mini-retreat-for-moms-w-troy-marjenhoff/
LOCATION:Asheville Community Yoga\, 8 Brookdale Rd\, Asheville\, North Carolina\, 28804\, United States
CATEGORIES:Workshops
ATTACH;FMTTYPE=image/jpeg:https://ashevillecommunityyoga.org/wp-content/uploads/2024/11/TroyMarjenhoff-scaled.jpg
END:VEVENT
BEGIN:VEVENT
DTSTART;TZID=America/New_York:20250614T101500
DTEND;TZID=America/New_York:20250614T121500
DTSTAMP:20260424T030503
CREATED:20250305T235758Z
LAST-MODIFIED:20250311T163536Z
UID:240080-1749896100-1749903300@ashevillecommunityyoga.org
SUMMARY:Yoga for Healing Trauma w/ Alexandra Culotta
DESCRIPTION:Trauma impacts everyone at some point in their life. These experiences are stored in the body and can contribute to lasting symptoms.  \nIn this workshop\, we will address the ways traumatic events impact the body. We will find safety in our bodies and with each other. We will practice techniques for nervous system regulation and pain relief. We will practice deeper stretching to access trauma stored in the fascia of the body.  \nThis workshop will begin with a discussion and handouts on the effects of trauma on the nervous system and body\, states of arousal\, tools for self regulation\, and methods for healing trauma. We will then move into a gentle Asana practice\, focused on breathwork\, centering\, and finding calm within the body. Participants will be invited to journal about their experience before a brief break.  \nThe second half will begin with slightly more active practice involving bilateral hemisphere switching and release. As a group\, we will practice safety with others through optional shared contact exercises.  \nOur final phase on our mats will be deeper gentle stretching\, to begin accessing the trauma stored within the body. Participants will be invited to journal once again\, before we close with a sharing circle.  \nParticipants in this workshop will leave with:  \n\nTools for self-regulation in moments of distress as well as general anxiety\nA renewed sense of safety in their bodies as well as with others\nPoses to calm and relieve pain associated with trauma and stress\nEnhanced understanding of how trauma impacts the body\nThe knowledge that they can opt out of any part of the workshop and/or do whatever makes them feel safe\, without criticism or judgement.\n\n\n\nCost: $30 \n\nFinancial Aid Available- Please stop by the front desk or email Kelsey@ashevillecommunityyoga.org \n \nPLEASE NOTE: We encourage pre-registration for all programming. Registering in advance guarantees your spot and helps the studio have adequate staffing. If fewer than 5 participants register the event may be canceled. \nRefund Policy: We understand that life happens and unforeseen circumstances come up. If life offers up an unexpected event and you need to withdraw from the workshop: \n\nA full refund will be issued if you need to withdraw 4+ days before the workshop. Please reach out for your refund\, as it will not be automatically applied to your account.\nIf you need to withdraw within 3 days or fewer\, no refund is provided.\n\nPlease create a Mindbody account for each participant if registering more than 1 person. If you have any questions regarding registration\, please email Kelsey at  kelsey@ashevillecommunityyoga.org 
URL:https://ashevillecommunityyoga.org/event/yoga-for-healing-trauma-w-alexandra-culotta/
LOCATION:Asheville Community Yoga\, 8 Brookdale Rd\, Asheville\, North Carolina\, 28804\, United States
CATEGORIES:Workshops
ATTACH;FMTTYPE=image/jpeg:https://ashevillecommunityyoga.org/wp-content/uploads/2025/03/Alexandra-1-scaled.jpg
END:VEVENT
BEGIN:VEVENT
DTSTART;TZID=America/New_York:20250621T130000
DTEND;TZID=America/New_York:20250621T150000
DTSTAMP:20260424T030503
CREATED:20250304T191118Z
LAST-MODIFIED:20250514T220321Z
UID:240054-1750510800-1750518000@ashevillecommunityyoga.org
SUMMARY:Building an at Home Chair Yoga Practice (In-Person & Virtual) w/ Diane Saccone
DESCRIPTION:Chair yoga is a modified form of yoga that allows you to practice traditional yoga poses while sitting on or standing with the support of a chair. These modifications make yoga more accessible and gentler for people with limited mobility or balance. \n Like traditional yoga\, chair yoga helps build flexibility\, strength\, and balance. And it can also promote relaxation through breath. Almost any type of yoga pose from twists to backbends can be modified using a chair that allows people of all abilities to reap the benefits of yoga anywhere there is an available chair.  \nIn this workshop we will explore how chair yoga: •Can serve as a form of low-impact exercise which is easier on the body especially if you have age-related changes in your joints and muscles •Benefits muscle strength•Improves balance and reduces falls risk•Improves our mood•Lowers the risk of chronic disease•Relieves aches and pains \nThe first hour will be primarily lecture and the 2nd hour will be practice. \nAn e book will be included as a guide along with a home practice you can use after the workshop. \nThis workshop is appropriate for anyone new to yoga\, those with limited mobility and balance issues as well as anyone recovering from surgery as a post rehabilitation practice \nCost: $30Financial Aid Available- Please stop by the front desk\, call\, or email kelsey@ashevillecommunityyoga.org. \nClick here to register for IN-PERSON\nClick here to register for VIRTUAL\n \nPLEASE NOTE: We encourage pre-registration for all programming. Registering in advance guarantees your spot and helps the studio have adequate staffing. If fewer than 5 participants register the event may be canceled. \nRefund Policy: We understand that life happens and unforeseen circumstances come up. If life offers up an unexpected event and you need to withdraw from the workshop: \n\nA full refund will be issued if you need to withdraw 4+ days before the workshop. Please reach out for your refund\, as it will not be automatically applied to your account.\nIf you need to withdraw within 3 days or fewer\, no refund is provided.\n\nPlease create a Mindbody account for each participant if registering more than 1 person. If you have any questions regarding registration\, please email Kelsey at  kelsey@ashevillecommunityyoga.org
URL:https://ashevillecommunityyoga.org/event/building-a-chair-yoga-home-practice-in-person-virtual-w-diane-saccone/
LOCATION:Asheville Community Yoga\, 8 Brookdale Rd\, Asheville\, North Carolina\, 28804\, United States
CATEGORIES:Workshops
ATTACH;FMTTYPE=image/jpeg:https://ashevillecommunityyoga.org/wp-content/uploads/2022/07/diane-head-shot-e1673632365258.jpeg
END:VEVENT
BEGIN:VEVENT
DTSTART;TZID=America/New_York:20250622T100000
DTEND;TZID=America/New_York:20250622T130000
DTSTAMP:20260424T030503
CREATED:20250324T145554Z
LAST-MODIFIED:20250324T145746Z
UID:240156-1750586400-1750597200@ashevillecommunityyoga.org
SUMMARY:Sail Through the Summer w/ Ayurveda: Ayurvedic Wisdom for Heat Relief w/ Irmi Presutto
DESCRIPTION:Summer heat can feel invigorating or overwhelming—but the key to staying comfortable is keeping your body and mind cool. \nIn this workshop\, we’ll explore simple\, yet powerful\, ways to adjust your diet and lifestyle to beat the heat. Ayurveda offers time-tested wisdom and strategies\, from refreshing foods and cooling herbal drinks\, to specific breathing techniques and yoga postures designed to regulate body temperature and promote relaxation. \nDiscover: Kitchen herbs that naturally cool the body Summer-friendly foods for easy digestion Pranayama techniques to soothe the GI tract Yoga poses that calm\, cool\, and restore balance \nThis workshop is perfect for anyone who struggles with summer heat\, feels overheated year-round\, or simply wants to deepen their understanding of seasonal wellness and Ayurveda. \nJoin Irmi for an interactive experience filled with movement\, breathwork\, and engaging discussions. Leave feeling refreshed\, supported\, and in harmony with nature and community. \n\n  \n\nCost: $45Financial aid is always available- Please stop by the front desk\, call\, or email kelsey@ashevillecommunityyoga.org. \n \nPLEASE NOTE: We encourage pre-registration for all programming. Registering in advance guarantees your spot and helps the studio have adequate staffing. If fewer than 5 participants register the event may be canceled. \nRefund Policy: We understand that life happens and unforeseen circumstances come up. If life offers up an unexpected event and you need to withdraw from the workshop: \n\nA full refund will be issued if you need to withdraw 4+ days before the workshop. Please reach out for your refund\, as it will not be automatically applied to your account.\nIf you need to withdraw within 3 days or fewer\, no refund is provided.\n\nPlease create a Mindbody account for each participant if registering more than 1 person. If you have any questions regarding registration\, please email Kelsey at  kelsey@ashevillecommunityyoga.org 
URL:https://ashevillecommunityyoga.org/event/sail-through-the-summer-w-ayurveda-ayurvedic-wisdom-for-heat-relief-w-irmi-presutto/
LOCATION:Asheville Community Yoga\, 8 Brookdale Rd\, Asheville\, North Carolina\, 28804\, United States
CATEGORIES:Workshops
ATTACH;FMTTYPE=image/jpeg:https://ashevillecommunityyoga.org/wp-content/uploads/2024/09/irmi-1-scaled.jpg
END:VEVENT
BEGIN:VEVENT
DTSTART;TZID=America/New_York:20250628T130000
DTEND;TZID=America/New_York:20250628T150000
DTSTAMP:20260424T030503
CREATED:20250304T184628Z
LAST-MODIFIED:20250304T185045Z
UID:240049-1751115600-1751122800@ashevillecommunityyoga.org
SUMMARY:Partner Yoga & Easy Thai Massage w/ Leaflin Winecoff
DESCRIPTION:Partner yoga is a great way to connect with your asana practice in a new way\, while deepening connection with a loved one. Thai yoga massage (sometimes called “lazy person’s yoga”) is an ancient practice that can be described as a symbiotic healing dance\, where the benefits of yoga are experienced by both the giver and the receiver.  \nWe use hands\, feet\, elbows\, knees\, rhythm and gravity to gently open the energetic channels of the body\, restoring ease and flow. This practice is done fully clothed on a mat on the floor\, and typically does not use oils. The aim of this workshop is to foster connection through curiosity\, compassion\, and communication\, and awaken our innate healing capabilities! \nWe’ll warm up with a few simple partner yoga practices before delving into some basic (but extremely effective!) Thai massage techniques. The basics of intelligent body mechanics\, giving and receiving\, and cultivation of loving kindness are paramount to to this practice\, and will be cultivated throughout. \nThis is not a training to become a professional bodyworker\, but is meant to provide participants with useful tools to be shared with friends and loved ones. The hope is that you’ll leave feeling great in your own body\, and inspired to help others feel great in theirs! *Please do come with a partner you feel comfortable practicing with.  \nPlease note: This workshop is limited to 20 participants and you must come with a partner in order to participate.  \nBoth people need to register on Mindbody to reserve your space!\n*Modifications and variations will be shared for every technique taught as there is no one-size-fits-all massage. Please arrive in good health and ability to communicate your body’s needs. \n*You must be a Licensed Massage Therapist in the state of North Carolina to charge for bodywork. Please share this practice responsibly with those you trust. \n \nCost: $30 per personFinancial Aid Available- Please stop by the front desk\, call\, or email kelsey@ashevillecommunityyoga.org. \nPLEASE NOTE: We encourage pre-registration for all programming. Registering in advance guarantees your spot and helps the studio have adequate staffing. If fewer than 5 participants register the event may be canceled. \nRefund Policy: We understand that life happens and unforeseen circumstances come up. If life offers up an unexpected event and you need to withdraw from the workshop: \n\nA full refund will be issued if you need to withdraw 4+ days before the workshop. Please reach out for your refund\, as it will not be automatically applied to your account.\nIf you need to withdraw within 3 days or fewer\, no refund is provided.\n\nPlease create a Mindbody account for each participant if registering more than 1 person. If you have any questions regarding registration\, please email Kelsey at  kelsey@ashevillecommunityyoga.org
URL:https://ashevillecommunityyoga.org/event/partner-yoga-easy-thai-massage-w-leaflin-winecoff-2/
LOCATION:Asheville Community Yoga\, 8 Brookdale Rd\, Asheville\, North Carolina\, 28804\, United States
CATEGORIES:Workshops
ATTACH;FMTTYPE=image/jpeg:https://ashevillecommunityyoga.org/wp-content/uploads/2024/12/Leaflin.jpeg
END:VEVENT
BEGIN:VEVENT
DTSTART;TZID=America/New_York:20250629T100000
DTEND;TZID=America/New_York:20250629T130000
DTSTAMP:20260424T030504
CREATED:20250304T183826Z
LAST-MODIFIED:20250311T145824Z
UID:240039-1751191200-1751202000@ashevillecommunityyoga.org
SUMMARY:Happy Hips & Hamstrings w/  Jot Anant
DESCRIPTION:The session will begin with an in-depth lecture\, diving into the anatomy of these areas to help you gain a better understanding of your unique and individual body structure. This foundational knowledge will empower you to support your own specific needs in your practice. \nTightness in the hips and hamstrings can stem from everyday activities like running\, sitting\, stress\, or even something as simple as walking. Often\, we carry unconscious movement patterns that may not serve us well\, leading to discomfort or even pain. By deepening your understanding of your anatomy\, postural habits\, and the mechanics of yoga poses\, you’ll begin to release the tension held in these regions\, creating more space and allowing energy to flow freely throughout the body. \nFollowing the lecture\, we’ll move into a dynamic flow. You’ll experience a deep\, Yang-style practice designed to create heat and length along the back line of the body\, with a focus on the full circumference of the hips. The session will also include Yin-style postures\, where you’ll rest and target the joints and connective tissues\, allowing for deep release and rejuvenation. Throughout\, props will be used to support all levels of practice\, ensuring that everyone feels both comfortable and challenged. \nIn this workshop\, you’ll learn how to strengthen and stabilize these areas to unlock greater mobility and freedom. As we work toward a variety of peak postures\, you’ll experience how the balance of Yin and Yang brings about spaciousness and ease in the body. \nEach participant will also receive a detailed PDF handout\, filled with valuable insights and tips to continue your journey beyond the workshop. \nAre you ready to stretch\, strengthen\, and unlock new possibilities in your body? I can’t wait to guide you through this transformative experience! \nPlease note: this workshop is 3 hours long. \nCost: $45Financial Aid Available \n \nFor more information on Jot Anant\, please visit her website at www.JotAnant.org. \nPLEASE NOTE: We encourage pre-registration for all programming. Registering in advance guarantees your spot and helps the studio have adequate staffing. If fewer than 5 participants register the event may be canceled. \nRefund Policy: We understand that life happens and unforeseen circumstances come up. If life offers up an unexpected event and you need to withdraw from the workshop: \n\nA full refund will be issued if you need to withdraw 4+ days before the workshop.\nIf you need to withdraw within 3 days or fewer\, no refund is provided.\n\nPlease create a Mindbody account for each participant if registering more than 1 person. If you have any questions regarding registration\, or financial aid\, please email Kelsey at  kelsey@ashevillecommunityyoga.org 
URL:https://ashevillecommunityyoga.org/event/happy-hips-hamstrings-w-jot-anant-2/
LOCATION:Asheville Community Yoga\, 8 Brookdale Rd\, Asheville\, North Carolina\, 28804\, United States
CATEGORIES:Workshops
ATTACH;FMTTYPE=image/jpeg:https://ashevillecommunityyoga.org/wp-content/uploads/2024/06/GW9A0212-scaled.jpg
END:VEVENT
END:VCALENDAR