BEGIN:VCALENDAR
VERSION:2.0
PRODID:-//Asheville Community Yoga - ECPv6.15.20//NONSGML v1.0//EN
CALSCALE:GREGORIAN
METHOD:PUBLISH
X-ORIGINAL-URL:https://ashevillecommunityyoga.org
X-WR-CALDESC:Events for Asheville Community Yoga
REFRESH-INTERVAL;VALUE=DURATION:PT1H
X-Robots-Tag:noindex
X-PUBLISHED-TTL:PT1H
BEGIN:VTIMEZONE
TZID:America/New_York
BEGIN:DAYLIGHT
TZOFFSETFROM:-0500
TZOFFSETTO:-0400
TZNAME:EDT
DTSTART:20210314T070000
END:DAYLIGHT
BEGIN:STANDARD
TZOFFSETFROM:-0400
TZOFFSETTO:-0500
TZNAME:EST
DTSTART:20211107T060000
END:STANDARD
BEGIN:DAYLIGHT
TZOFFSETFROM:-0500
TZOFFSETTO:-0400
TZNAME:EDT
DTSTART:20220313T070000
END:DAYLIGHT
BEGIN:STANDARD
TZOFFSETFROM:-0400
TZOFFSETTO:-0500
TZNAME:EST
DTSTART:20221106T060000
END:STANDARD
BEGIN:DAYLIGHT
TZOFFSETFROM:-0500
TZOFFSETTO:-0400
TZNAME:EDT
DTSTART:20230312T070000
END:DAYLIGHT
BEGIN:STANDARD
TZOFFSETFROM:-0400
TZOFFSETTO:-0500
TZNAME:EST
DTSTART:20231105T060000
END:STANDARD
END:VTIMEZONE
BEGIN:VEVENT
DTSTART;TZID=America/New_York:20221113T140000
DTEND;TZID=America/New_York:20221113T170000
DTSTAMP:20260425T201240
CREATED:20221102T155044Z
LAST-MODIFIED:20221109T204709Z
UID:23500-1668348000-1668358800@ashevillecommunityyoga.org
SUMMARY:Open Into Love: Embodying Relationship\, A Workshop For Couples
DESCRIPTION:w/ Michael Greenfield \n\n\n\nAll Proceeds go towards our Fall Fundraiser! \n\n\n\nSunday November 13th\, 2022 from 2:00 p.m. to 5:00 p.m. \n\n\n\n\n\n\n\nIn this workshop we will examine what it means to be in deep romantic connection with our partners. We will learn to listen to the wordless energy that our significant other communicates\, to create and sustain the force field of love\, and learn the art of embodied intimacy through yogic play. \n\n\n\nTogether we will move past ego in order to find ultimate bodily communion\, experience love that is pure and unconditional\, and learn how to use the body as the sacred instrument that it is. \n\n\n\nAs we cultivate deep listening to your partners wants and desires and transmute them into ultimate connection\, we will watch together as separation between the self and the other drop away and become a state of formless love. \n\n\n\nThere will be some asana\, so please dress for movement. \n\n\n\nMichael has been doing yoga and relationship work since 1995. He began assisting and leading workshops around the country in 2002\, and founded Asheville Community Yoga in 2010. Michael remains the Executive Director of ACY\, where he leads regular classes and men’s groups\, and has received Best Of awards through Mountain Xpress for the last 10 years. \n\n\n\n \n\n\n\n\nClick Here to Register Now\n\n\n\n\n \n\n\n\nCost: Sliding scale $75-$175 Financial Aid Available \n\n\n\n*Individuals will need to register separately. \n\n\n\nPLEASE NOTE: We encourage pre-registration for all programming. Registering in advance guarantees your spot and helps the studio have adequate staffing. If fewer than 5 participants register the event may be canceled. \n\n\n\nPlease create a mindbody account for each participant if registering more than 1 person. If you have any questions regarding registration\, drop-in fees\, financial assistance\, etc… please email Sarah at sarah@ashevillecommunityyoga.org \n\n\n\n Requests for financial assistance must be received 3 days prior to the event\, and financial assistance spots are limited.
URL:https://ashevillecommunityyoga.org/event/open-into-love-embodying-relationship-a-workshop-for-couples/
LOCATION:Asheville Community Yoga\, 8 Brookdale Rd\, Asheville\, NC\, 28804\, United States
CATEGORIES:Workshops
ATTACH;FMTTYPE=image/jpeg:https://ashevillecommunityyoga.org/wp-content/uploads/2022/11/michael-shoulders-up-featured.jpg
END:VEVENT
END:VCALENDAR