BEGIN:VCALENDAR
VERSION:2.0
PRODID:-//Asheville Community Yoga - ECPv6.15.20//NONSGML v1.0//EN
CALSCALE:GREGORIAN
METHOD:PUBLISH
X-WR-CALNAME:Asheville Community Yoga
X-ORIGINAL-URL:https://ashevillecommunityyoga.org
X-WR-CALDESC:Events for Asheville Community Yoga
REFRESH-INTERVAL;VALUE=DURATION:PT1H
X-Robots-Tag:noindex
X-PUBLISHED-TTL:PT1H
BEGIN:VTIMEZONE
TZID:America/New_York
BEGIN:DAYLIGHT
TZOFFSETFROM:-0500
TZOFFSETTO:-0400
TZNAME:EDT
DTSTART:20210314T070000
END:DAYLIGHT
BEGIN:STANDARD
TZOFFSETFROM:-0400
TZOFFSETTO:-0500
TZNAME:EST
DTSTART:20211107T060000
END:STANDARD
BEGIN:DAYLIGHT
TZOFFSETFROM:-0500
TZOFFSETTO:-0400
TZNAME:EDT
DTSTART:20220313T070000
END:DAYLIGHT
BEGIN:STANDARD
TZOFFSETFROM:-0400
TZOFFSETTO:-0500
TZNAME:EST
DTSTART:20221106T060000
END:STANDARD
BEGIN:DAYLIGHT
TZOFFSETFROM:-0500
TZOFFSETTO:-0400
TZNAME:EDT
DTSTART:20230312T070000
END:DAYLIGHT
BEGIN:STANDARD
TZOFFSETFROM:-0400
TZOFFSETTO:-0500
TZNAME:EST
DTSTART:20231105T060000
END:STANDARD
END:VTIMEZONE
BEGIN:VEVENT
DTSTART;TZID=America/New_York:20221203T100000
DTEND;TZID=America/New_York:20221203T120000
DTSTAMP:20260425T190218
CREATED:20221115T202944Z
LAST-MODIFIED:20221122T151319Z
UID:23643-1670061600-1670068800@ashevillecommunityyoga.org
SUMMARY:Inner Voice Activation w/ Brittany Leppert
DESCRIPTION:at Asheville Community Yoga \n\n\n\n\n\n\n\n \n\n\n\n“What is life like when you speak with your Inner Voice? \n\n\n\nSinging isn’t just for singers. Let this vocal practice empower the wondrous metaphorical aspects of singing- authenticity\, alignment\, creativity & communication. \n\n\n\nLearn a daily warm-up routine to sweeten the voice. \n\n\n\nPlay improvisational “sounding” games to engage confidence. \n\n\n\nPractice classical Indian vocal exercises to extend your range. \n\n\n\nTune to the energy of your own body for holistic health and authentic expression. \n\n\n\nSing with your whole heart to connect deeply to your soul.” \n\n\n\nCost: $30\, Financial Assistance Available \n\n\n\n\n\n\n\nPLEASE NOTE: We encourage pre-registration for all programming. Registering in advance guarantees your spot and helps the studio have adequate staffing. If fewer than 5 participants register the event may be canceled. \n\n\n\n If you have any questions regarding registration\, drop-in fees\, etc… please email Sarah sarah@ashevillecommunityyoga.org
URL:https://ashevillecommunityyoga.org/event/inner-voice-activation-w-brittany-leppert/
LOCATION:Asheville Community Yoga\, 8 Brookdale Rd\, Asheville\, North Carolina\, 28804\, United States
CATEGORIES:Workshops
END:VEVENT
END:VCALENDAR