BEGIN:VCALENDAR
VERSION:2.0
PRODID:-//Asheville Community Yoga - ECPv6.15.20//NONSGML v1.0//EN
CALSCALE:GREGORIAN
METHOD:PUBLISH
X-WR-CALNAME:Asheville Community Yoga
X-ORIGINAL-URL:https://ashevillecommunityyoga.org
X-WR-CALDESC:Events for Asheville Community Yoga
REFRESH-INTERVAL;VALUE=DURATION:PT1H
X-Robots-Tag:noindex
X-PUBLISHED-TTL:PT1H
BEGIN:VTIMEZONE
TZID:America/New_York
BEGIN:DAYLIGHT
TZOFFSETFROM:-0500
TZOFFSETTO:-0400
TZNAME:EDT
DTSTART:20220313T070000
END:DAYLIGHT
BEGIN:STANDARD
TZOFFSETFROM:-0400
TZOFFSETTO:-0500
TZNAME:EST
DTSTART:20221106T060000
END:STANDARD
BEGIN:DAYLIGHT
TZOFFSETFROM:-0500
TZOFFSETTO:-0400
TZNAME:EDT
DTSTART:20230312T070000
END:DAYLIGHT
BEGIN:STANDARD
TZOFFSETFROM:-0400
TZOFFSETTO:-0500
TZNAME:EST
DTSTART:20231105T060000
END:STANDARD
BEGIN:DAYLIGHT
TZOFFSETFROM:-0500
TZOFFSETTO:-0400
TZNAME:EDT
DTSTART:20240310T070000
END:DAYLIGHT
BEGIN:STANDARD
TZOFFSETFROM:-0400
TZOFFSETTO:-0500
TZNAME:EST
DTSTART:20241103T060000
END:STANDARD
END:VTIMEZONE
BEGIN:VEVENT
DTSTART;TZID=America/New_York:20230401T101500
DTEND;TZID=America/New_York:20230401T121500
DTSTAMP:20260425T142010
CREATED:20230309T013330Z
LAST-MODIFIED:20230309T013331Z
UID:24073-1680344100-1680351300@ashevillecommunityyoga.org
SUMMARY:Archetypal Wisdom For Spring
DESCRIPTION:Yoga + Women’s Circle w/ Johanna Bowen  \n\n\n\n\n\nat Asheville Community Yoga \n\n\n\n\n\n\n\n \n\n\n\nSpringtime is here\, bringing a sense of aliveness & refreshment to the Earth. As we step into Spring\, we also step into the realm of the Maiden archetype for women. She is here to lead us through this season\, inspire us\, bring us joy\, & exert an energy of excitement & curiosity into our lives. \n\n\n\nThe Maiden is a young woman\, full of curiosity & hopefulness for the future. She is learning who she is\, ready to jump into experiencing life\, enraptured with curiosity\, & willing to give new things a try. The Maiden is within us all & during the season of Spring\, we find access to her very easily. \n\n\n\nJoin Johanna with Womxn in the Pines for a special gathering as we tap into the Maiden archetype within ourselves to find inspiration & play this season. Learn about the Maiden\, participate in seasonal ritual\, & enjoy guided discussion\, yoga\, journal work\, + more. Sink into seasonal alignment in a safe space with sisters to support you. \n\n\n\nOpen to all that identify as a woman. \n\n\n\nCost: $30\, Financial Assistance Available \n\n\n\n\n\n\n\nPLEASE NOTE: We encourage pre-registration for all programming. Registering in advance guarantees your spot and helps the studio have adequate staffing. If fewer than 5 participants register the event may be canceled. \n\n\n\nPlease create a mindbody account for each participant if registering more than 1 person. If you have any questions regarding registration\, drop-in fees\, etc… please email Sarah sarah@ashevillecommunityyoga.org 
URL:https://ashevillecommunityyoga.org/event/archetypal-wisdom-for-spring/
LOCATION:Asheville Community Yoga\, 8 Brookdale Rd\, Asheville\, North Carolina\, 28804\, United States
CATEGORIES:Workshops
END:VEVENT
END:VCALENDAR