BEGIN:VCALENDAR
VERSION:2.0
PRODID:-//Asheville Community Yoga - ECPv6.15.20//NONSGML v1.0//EN
CALSCALE:GREGORIAN
METHOD:PUBLISH
X-WR-CALNAME:Asheville Community Yoga
X-ORIGINAL-URL:https://ashevillecommunityyoga.org
X-WR-CALDESC:Events for Asheville Community Yoga
REFRESH-INTERVAL;VALUE=DURATION:PT1H
X-Robots-Tag:noindex
X-PUBLISHED-TTL:PT1H
BEGIN:VTIMEZONE
TZID:America/New_York
BEGIN:DAYLIGHT
TZOFFSETFROM:-0500
TZOFFSETTO:-0400
TZNAME:EDT
DTSTART:20220313T070000
END:DAYLIGHT
BEGIN:STANDARD
TZOFFSETFROM:-0400
TZOFFSETTO:-0500
TZNAME:EST
DTSTART:20221106T060000
END:STANDARD
BEGIN:DAYLIGHT
TZOFFSETFROM:-0500
TZOFFSETTO:-0400
TZNAME:EDT
DTSTART:20230312T070000
END:DAYLIGHT
BEGIN:STANDARD
TZOFFSETFROM:-0400
TZOFFSETTO:-0500
TZNAME:EST
DTSTART:20231105T060000
END:STANDARD
BEGIN:DAYLIGHT
TZOFFSETFROM:-0500
TZOFFSETTO:-0400
TZNAME:EDT
DTSTART:20240310T070000
END:DAYLIGHT
BEGIN:STANDARD
TZOFFSETFROM:-0400
TZOFFSETTO:-0500
TZNAME:EST
DTSTART:20241103T060000
END:STANDARD
END:VTIMEZONE
BEGIN:VEVENT
DTSTART;TZID=America/New_York:20230429T101500
DTEND;TZID=America/New_York:20230429T121500
DTSTAMP:20260425T141906
CREATED:20221229T202750Z
LAST-MODIFIED:20230316T193535Z
UID:23736-1682763300-1682770500@ashevillecommunityyoga.org
SUMMARY:Strong Core\, Happy Low Back w/ Sonya Burres
DESCRIPTION:It is estimated that up to 84 percent of adults have low back pain at some time in their lives.The good news means you are not alone! Lower back pain can happen for many differentreasons\, yet how we move\, sleep\, and sit can dramatically impact our backs’ health. Often\,proper balancing of the deep flexor muscles of the “core” with the extensor muscles of thelower back/pelvis can improve low back pain—and yoga is a wonderful medium for this tooccur! This two-hour workshop will give you some tools and practices to alleviate/prevent andtroubleshoot lower back pain. \n\n\n\nSonya Burres received her RYT-200hr teacher training in Los Angeles\, CA fromPure Flow Yoga in 2016. She has been teaching since and relocated to Asheville\,NC in January of 2022. \n\n\n\nSonya spent years as a gymnast\, which is the basis for her attention to alignmentand form. This workshop is designed to incorporate finding the strength of yourcore (not easy) while keeping your low back safe. This is a skill that is cultivatedover time\, once you have the tools to do so. \n\n\n\nCost: $30 \n\n\n\n Financial Assistance Available \n\n\n\n\n\n\n\nPLEASE NOTE: We encourage pre-registration for all programming. Registering in advance guarantees your spot and helps the studio have adequate staffing. If fewer than 5 participants register the event may be canceled. \n\n\n\nPlease create a mindbody account for each participant if registering more than 1 person. If you have any questions regarding registration\, drop-in fees\, financial aid\, etc… please email Sarah sarah@ashevillecommunityyoga.org 
URL:https://ashevillecommunityyoga.org/event/strong-core-happy-low-back-w-sonya-burres/
LOCATION:Asheville Community Yoga\, 8 Brookdale Rd\, Asheville\, North Carolina\, 28804\, United States
CATEGORIES:Workshops
END:VEVENT
END:VCALENDAR