BEGIN:VCALENDAR
VERSION:2.0
PRODID:-//Asheville Community Yoga - ECPv6.15.20//NONSGML v1.0//EN
CALSCALE:GREGORIAN
METHOD:PUBLISH
X-ORIGINAL-URL:https://ashevillecommunityyoga.org
X-WR-CALDESC:Events for Asheville Community Yoga
REFRESH-INTERVAL;VALUE=DURATION:PT1H
X-Robots-Tag:noindex
X-PUBLISHED-TTL:PT1H
BEGIN:VTIMEZONE
TZID:America/New_York
BEGIN:DAYLIGHT
TZOFFSETFROM:-0500
TZOFFSETTO:-0400
TZNAME:EDT
DTSTART:20220313T070000
END:DAYLIGHT
BEGIN:STANDARD
TZOFFSETFROM:-0400
TZOFFSETTO:-0500
TZNAME:EST
DTSTART:20221106T060000
END:STANDARD
BEGIN:DAYLIGHT
TZOFFSETFROM:-0500
TZOFFSETTO:-0400
TZNAME:EDT
DTSTART:20230312T070000
END:DAYLIGHT
BEGIN:STANDARD
TZOFFSETFROM:-0400
TZOFFSETTO:-0500
TZNAME:EST
DTSTART:20231105T060000
END:STANDARD
BEGIN:DAYLIGHT
TZOFFSETFROM:-0500
TZOFFSETTO:-0400
TZNAME:EDT
DTSTART:20240310T070000
END:DAYLIGHT
BEGIN:STANDARD
TZOFFSETFROM:-0400
TZOFFSETTO:-0500
TZNAME:EST
DTSTART:20241103T060000
END:STANDARD
END:VTIMEZONE
BEGIN:VEVENT
DTSTART;TZID=America/New_York:20230430T100000
DTEND;TZID=America/New_York:20230430T123000
DTSTAMP:20260425T142122
CREATED:20230330T164013Z
LAST-MODIFIED:20230330T164054Z
UID:24148-1682848800-1682857800@ashevillecommunityyoga.org
SUMMARY:Happy Hips & Hamstrings w/ Jot Anant
DESCRIPTION:at Asheville Community Yoga \n\n\n\n  \n\n\n\n\n\n\n\nAn array of things can contribute to tightness in the hips & hamstrings; running\, stress\, sitting\, even simple daily activities such as walking! We often carry patterns within our movements\, not all of which are good or healthy for our bodies. Restrictions within these regions can cause significant discomfort\, even pain.  \n\n\n\nBy better understanding our anatomy\, our postural & movement habits\, as well as the mechanics of Yoga poses\, we can begin to unravel held tension in the hips & hamstrings\, creating space for energy to flow more freely throughout the body. \n\n\n\nIn this playful workshop we will cover basic anatomy for these regions of the body to gain a better understanding of our own unique anatomical structure and how to support our individual needs. We’ll flow deeply in a yang style to create heat and length through the back line of the body as well as the full circumference of the hip. We’ll also rest into yin style postures to target the joints and connective tissues. Throughout the workshop we will utilize props to support all levels of practice. \n\n\n\n You’ll learn how to strengthen and stabilize in order to find more flexibility and freedom in this powerful region of the body. As we work systematically and artfully towards a number of peak postures you’ll experience how this balance of yin and yang creates more spaciousness and ease. \n\n\n\nCost: $30\, Financial Assistance Available \n\n\n\n\n\n\n\nPLEASE NOTE: We encourage pre-registration for all programming. Registering in advance guarantees your spot and helps the studio have adequate staffing. If fewer than 5 participants register the event may be canceled. \n\n\n\nPlease create a mindbody account for each participant if registering more than 1 person. If you have any questions regarding registration\, drop-in fees\, etc… please email Sarah sarah@ashevillecommunityyoga.org 
URL:https://ashevillecommunityyoga.org/event/happy-hips-hamstrings-w-jot-anant/
LOCATION:Asheville Community Yoga\, 8 Brookdale Rd\, Asheville\, North Carolina\, 28804\, United States
CATEGORIES:Workshops
ATTACH;FMTTYPE=image/jpeg:https://ashevillecommunityyoga.org/wp-content/uploads/2022/07/GW9A0182-7-scaled.jpg
END:VEVENT
END:VCALENDAR