BEGIN:VCALENDAR
VERSION:2.0
PRODID:-//Asheville Community Yoga - ECPv6.15.20//NONSGML v1.0//EN
CALSCALE:GREGORIAN
METHOD:PUBLISH
X-ORIGINAL-URL:https://ashevillecommunityyoga.org
X-WR-CALDESC:Events for Asheville Community Yoga
REFRESH-INTERVAL;VALUE=DURATION:PT1H
X-Robots-Tag:noindex
X-PUBLISHED-TTL:PT1H
BEGIN:VTIMEZONE
TZID:America/New_York
BEGIN:DAYLIGHT
TZOFFSETFROM:-0500
TZOFFSETTO:-0400
TZNAME:EDT
DTSTART:20220313T070000
END:DAYLIGHT
BEGIN:STANDARD
TZOFFSETFROM:-0400
TZOFFSETTO:-0500
TZNAME:EST
DTSTART:20221106T060000
END:STANDARD
BEGIN:DAYLIGHT
TZOFFSETFROM:-0500
TZOFFSETTO:-0400
TZNAME:EDT
DTSTART:20230312T070000
END:DAYLIGHT
BEGIN:STANDARD
TZOFFSETFROM:-0400
TZOFFSETTO:-0500
TZNAME:EST
DTSTART:20231105T060000
END:STANDARD
BEGIN:DAYLIGHT
TZOFFSETFROM:-0500
TZOFFSETTO:-0400
TZNAME:EDT
DTSTART:20240310T070000
END:DAYLIGHT
BEGIN:STANDARD
TZOFFSETFROM:-0400
TZOFFSETTO:-0500
TZNAME:EST
DTSTART:20241103T060000
END:STANDARD
END:VTIMEZONE
BEGIN:VEVENT
DTSTART;TZID=America/New_York:20230514T101500
DTEND;TZID=America/New_York:20230514T121500
DTSTAMP:20260425T130542
CREATED:20230428T152851Z
LAST-MODIFIED:20230428T160813Z
UID:236240-1684059300-1684066500@ashevillecommunityyoga.org
SUMMARY:Back to Basics w/ Sonya Burres
DESCRIPTION:This workshop is designed for anyone new to yoga\, anyone who has been away for a while dueto Covid or Life\, or\, for those who do other things but just want to see what this Yogabusiness is about. Learn how yoga can be beneficial to you.We will go over the basics and much\, much more. You know your body better than anyone so you will find out what works for you. Learn modifications and how props can be used to benefit you inyour practice. \n\n\n\nDo I have to be flexible? NO.Do I have to be in good shape? NODo I have to do everything with straight legs? NODo I have to have great balance? NOCan your breath be useful? YESFind ways to take care of yourself in practice\, what you like and don’t\, and how you feel aboutthis practice. Everyone can do yoga. \n\n\n\nCost: $30 \n\n\n\n Financial Assistance Available \n\n\n\n\n\n\n\nPLEASE NOTE: We encourage pre-registration for all programming. Registering in advance guarantees your spot and helps the studio have adequate staffing. If fewer than 5 participants register the event may be canceled. \n\n\n\nPlease create a mindbody account for each participant if registering more than 1 person. If you have any questions regarding registration\, drop-in fees\, financial aid\, etc… please email Sarah sarah@ashevillecommunityyoga.org 
URL:https://ashevillecommunityyoga.org/event/back-to-basics-w-sonya-burres/
LOCATION:Asheville Community Yoga\, 8 Brookdale Rd\, Asheville\, North Carolina\, 28804\, United States
CATEGORIES:Workshops
END:VEVENT
END:VCALENDAR