BEGIN:VCALENDAR
VERSION:2.0
PRODID:-//Asheville Community Yoga - ECPv6.15.20//NONSGML v1.0//EN
CALSCALE:GREGORIAN
METHOD:PUBLISH
X-WR-CALNAME:Asheville Community Yoga
X-ORIGINAL-URL:https://ashevillecommunityyoga.org
X-WR-CALDESC:Events for Asheville Community Yoga
REFRESH-INTERVAL;VALUE=DURATION:PT1H
X-Robots-Tag:noindex
X-PUBLISHED-TTL:PT1H
BEGIN:VTIMEZONE
TZID:America/New_York
BEGIN:DAYLIGHT
TZOFFSETFROM:-0500
TZOFFSETTO:-0400
TZNAME:EDT
DTSTART:20220313T070000
END:DAYLIGHT
BEGIN:STANDARD
TZOFFSETFROM:-0400
TZOFFSETTO:-0500
TZNAME:EST
DTSTART:20221106T060000
END:STANDARD
BEGIN:DAYLIGHT
TZOFFSETFROM:-0500
TZOFFSETTO:-0400
TZNAME:EDT
DTSTART:20230312T070000
END:DAYLIGHT
BEGIN:STANDARD
TZOFFSETFROM:-0400
TZOFFSETTO:-0500
TZNAME:EST
DTSTART:20231105T060000
END:STANDARD
BEGIN:DAYLIGHT
TZOFFSETFROM:-0500
TZOFFSETTO:-0400
TZNAME:EDT
DTSTART:20240310T070000
END:DAYLIGHT
BEGIN:STANDARD
TZOFFSETFROM:-0400
TZOFFSETTO:-0500
TZNAME:EST
DTSTART:20241103T060000
END:STANDARD
END:VTIMEZONE
BEGIN:VEVENT
DTSTART;TZID=America/New_York:20230610T101500
DTEND;TZID=America/New_York:20230610T121500
DTSTAMP:20260425T115139
CREATED:20230506T152411Z
LAST-MODIFIED:20230506T152413Z
UID:236277-1686392100-1686399300@ashevillecommunityyoga.org
SUMMARY:Cacao Ceremony & Heart Opening Flow w/ Annalise Yagya Jyoti
DESCRIPTION:Come sip\, play\, breath\, move\, and connect.  \n\n\n\nCacao is a gentle heart medicine with the incredible capacity to help us connect to our hearts\, release grief\, and tap into child-like joy.  \n\n\n\nWe will start with a cacao ceremony (outside if weather permits) during which we will bless and drink our cacao\, journey on a guided meditation to help you connect to your heart space\, and connect with ourselves and others through gentle connection activities.  \n\n\n\nThen we will move inside the studio for a gentle heart opening yoga flow and end our class with a crystal alchemy bowl sound bath. All are welcome. \n\n\n\nThe cacao beverage will be mixed with water\, tahini\, cinnamon\, cayenne\, maple syrup\, and a dash of salt. If you would like your beverage to leave out any of these ingredients please let me know at least 24 hours ahead of time by emailing me at mysticfemininefertility@gmail.com \n\n\n\nCost: $30 \n\n\n\n Financial Assistance Available \n\n\n\n\n\n\n\nPLEASE NOTE: We encourage pre-registration for all programming. Registering in advance guarantees your spot and helps the studio have adequate staffing. If fewer than 5 participants register the event may be canceled. \n\n\n\nPlease create a mindbody account for each participant if registering more than 1 person. If you have any questions regarding registration\, drop-in fees\, financial aid\, etc… please email Sarah sarah@ashevillecommunityyoga.org 
URL:https://ashevillecommunityyoga.org/event/cacao-ceremony-heart-opening-flow-w-annalise-yagya-jyoti/
LOCATION:Asheville Community Yoga\, 8 Brookdale Rd\, Asheville\, North Carolina\, 28804\, United States
CATEGORIES:Workshops
END:VEVENT
END:VCALENDAR