BEGIN:VCALENDAR
VERSION:2.0
PRODID:-//Asheville Community Yoga - ECPv6.15.20//NONSGML v1.0//EN
CALSCALE:GREGORIAN
METHOD:PUBLISH
X-WR-CALNAME:Asheville Community Yoga
X-ORIGINAL-URL:https://ashevillecommunityyoga.org
X-WR-CALDESC:Events for Asheville Community Yoga
REFRESH-INTERVAL;VALUE=DURATION:PT1H
X-Robots-Tag:noindex
X-PUBLISHED-TTL:PT1H
BEGIN:VTIMEZONE
TZID:America/New_York
BEGIN:DAYLIGHT
TZOFFSETFROM:-0500
TZOFFSETTO:-0400
TZNAME:EDT
DTSTART:20220313T070000
END:DAYLIGHT
BEGIN:STANDARD
TZOFFSETFROM:-0400
TZOFFSETTO:-0500
TZNAME:EST
DTSTART:20221106T060000
END:STANDARD
BEGIN:DAYLIGHT
TZOFFSETFROM:-0500
TZOFFSETTO:-0400
TZNAME:EDT
DTSTART:20230312T070000
END:DAYLIGHT
BEGIN:STANDARD
TZOFFSETFROM:-0400
TZOFFSETTO:-0500
TZNAME:EST
DTSTART:20231105T060000
END:STANDARD
BEGIN:DAYLIGHT
TZOFFSETFROM:-0500
TZOFFSETTO:-0400
TZNAME:EDT
DTSTART:20240310T070000
END:DAYLIGHT
BEGIN:STANDARD
TZOFFSETFROM:-0400
TZOFFSETTO:-0500
TZNAME:EST
DTSTART:20241103T060000
END:STANDARD
END:VTIMEZONE
BEGIN:VEVENT
DTSTART;TZID=America/New_York:20230611T100000
DTEND;TZID=America/New_York:20230611T123000
DTSTAMP:20260425T120222
CREATED:20230429T154420Z
LAST-MODIFIED:20230512T165748Z
UID:236255-1686477600-1686486600@ashevillecommunityyoga.org
SUMMARY:Reset Your Nervous System For Relaxation w/ Jot Anant
DESCRIPTION:Yoga teaches us that we are each born whole\, complete\, and perfect!! Due to our many life experiences we tend to forget this state of wholeness\, we forget who we truly are\, and we get lost in our physical\, mental\, and emotional reactions to life. It is important for us to remember that the human nervous system simply cannot evolve at the rapid pace that society and technology has. Hopefully through what you learn in this workshop you can begin to extend yourself a bit more grace during natural moments of challenge and upset. \n\n\n\nDuring this experiential workshop we will utilize a holistic and traditional approach. Working with breath-work techniques alongside intuitive Yin\, Yoga Nidra\, sound healing\, and shaking meditation to reset the nervous system back to a state of ease and relaxation. \n\n\n\nWe’ll begin with a brief exploration of how a holistic Yoga practice impacts the nervous system. We’ll delve into multiple techniques\, unpacking each one before putting them into practice.  \n\n\n\nWe’ll explore:THE NERVOUS SYSTEM: Learn about the different aspects of the nervous system\, the basic functions\, & how to gauge when your nervous system is out of balance. \n\n\n\nTHE PANCHA KOSHA THEORY: Learn about & experience the 5 layers of Being: Physical\, Energetic\, Mental/Emotional\, Intuitive\, & Spiritual. Learn practices to work with each layer. \n\n\n\nTHE MAHA VAYUS: Learn about & experience the 5 main energetics within\, the Vayus (or Pranas): Grounding\, Uplifting\, Centering/Balancing\, Expansion\, & Connection to the Whole. Learn pranayama (breathing) techniques to connect to each one. \n\n\n\nMy hope is that through this workshop you’ll acquire a wide array of simple yet profound tools that you can skillfully use as you learn to access your current state of being and what your needs truly are. \n\n\n\nCost: $30 \n\n\n\n Financial Assistance Available \n\n\n\n\n\n\n\nPLEASE NOTE: We encourage pre-registration for all programming. Registering in advance guarantees your spot and helps the studio have adequate staffing. If fewer than 5 participants register the event may be canceled. \n\n\n\nPlease create a mindbody account for each participant if registering more than 1 person. If you have any questions regarding registration\, drop-in fees\, financial aid\, etc… please email Sarah sarah@ashevillecommunityyoga.org 
URL:https://ashevillecommunityyoga.org/event/reset-your-nervous-system-for-relaxation-w-jot-anant/
LOCATION:Asheville Community Yoga\, 8 Brookdale Rd\, Asheville\, North Carolina\, 28804\, United States
CATEGORIES:Workshops
ATTACH;FMTTYPE=image/jpeg:https://ashevillecommunityyoga.org/wp-content/uploads/2023/02/Jot-Anant-e1676138444199.jpg
END:VEVENT
END:VCALENDAR