BEGIN:VCALENDAR
VERSION:2.0
PRODID:-//Asheville Community Yoga - ECPv6.15.20//NONSGML v1.0//EN
CALSCALE:GREGORIAN
METHOD:PUBLISH
X-WR-CALNAME:Asheville Community Yoga
X-ORIGINAL-URL:https://ashevillecommunityyoga.org
X-WR-CALDESC:Events for Asheville Community Yoga
REFRESH-INTERVAL;VALUE=DURATION:PT1H
X-Robots-Tag:noindex
X-PUBLISHED-TTL:PT1H
BEGIN:VTIMEZONE
TZID:America/New_York
BEGIN:DAYLIGHT
TZOFFSETFROM:-0500
TZOFFSETTO:-0400
TZNAME:EDT
DTSTART:20220313T070000
END:DAYLIGHT
BEGIN:STANDARD
TZOFFSETFROM:-0400
TZOFFSETTO:-0500
TZNAME:EST
DTSTART:20221106T060000
END:STANDARD
BEGIN:DAYLIGHT
TZOFFSETFROM:-0500
TZOFFSETTO:-0400
TZNAME:EDT
DTSTART:20230312T070000
END:DAYLIGHT
BEGIN:STANDARD
TZOFFSETFROM:-0400
TZOFFSETTO:-0500
TZNAME:EST
DTSTART:20231105T060000
END:STANDARD
BEGIN:DAYLIGHT
TZOFFSETFROM:-0500
TZOFFSETTO:-0400
TZNAME:EDT
DTSTART:20240310T070000
END:DAYLIGHT
BEGIN:STANDARD
TZOFFSETFROM:-0400
TZOFFSETTO:-0500
TZNAME:EST
DTSTART:20241103T060000
END:STANDARD
END:VTIMEZONE
BEGIN:VEVENT
DTSTART;TZID=America/New_York:20230827T130000
DTEND;TZID=America/New_York:20230827T150000
DTSTAMP:20260425T092741
CREATED:20230710T152828Z
LAST-MODIFIED:20230815T163323Z
UID:236459-1693141200-1693148400@ashevillecommunityyoga.org
SUMMARY:Intro to Yoga For Vets w/ Pete West
DESCRIPTION:at Asheville Community Yoga  \n\n\n\n\n\n\n\nJoin Pete in connecting the mind and body while exploring the health benefits of Yoga.  \n\n\n\nThis class is suitable for beginners and first-timers.  The class will aspire to help people discover the physical\, mental\, and emotional benefits of yoga.  We will focus on flexibility\, strength\, and the basic flow of a yoga practice.  We will explore yoga as a means to find our center\, connect our mind and body\, and explore the self.  Instructor has extensive experience working with Veterans.  All are welcome to attend… \n\n\n\nESPECIALLY CRUSTY OLD VETS! \n\n\n\nCost: Donation Based (no minimum amount) \n\n\n\n\n\n\n\nPLEASE NOTE: We encourage pre-registration for all programming. Registering in advance guarantees your spot and helps the studio have adequate staffing. If fewer than 5 participants register the event may be canceled. \n\n\n\nPlease create a mindbody account for each participant if registering more than 1 person. If you have any questions regarding registration\, need help registering\, or would like to request financial aid\, please email Sarah Newsome: Sarah@AshevilleCommunityYoga.org 
URL:https://ashevillecommunityyoga.org/event/intro-to-yoga-for-vets-w-pete-west/
LOCATION:Asheville Community Yoga\, 8 Brookdale Rd\, Asheville\, North Carolina\, 28804\, United States
CATEGORIES:Workshops
END:VEVENT
END:VCALENDAR