BEGIN:VCALENDAR
VERSION:2.0
PRODID:-//Asheville Community Yoga - ECPv6.15.20//NONSGML v1.0//EN
CALSCALE:GREGORIAN
METHOD:PUBLISH
X-ORIGINAL-URL:https://ashevillecommunityyoga.org
X-WR-CALDESC:Events for Asheville Community Yoga
REFRESH-INTERVAL;VALUE=DURATION:PT1H
X-Robots-Tag:noindex
X-PUBLISHED-TTL:PT1H
BEGIN:VTIMEZONE
TZID:America/New_York
BEGIN:DAYLIGHT
TZOFFSETFROM:-0500
TZOFFSETTO:-0400
TZNAME:EDT
DTSTART:20230312T070000
END:DAYLIGHT
BEGIN:STANDARD
TZOFFSETFROM:-0400
TZOFFSETTO:-0500
TZNAME:EST
DTSTART:20231105T060000
END:STANDARD
BEGIN:DAYLIGHT
TZOFFSETFROM:-0500
TZOFFSETTO:-0400
TZNAME:EDT
DTSTART:20240310T070000
END:DAYLIGHT
BEGIN:STANDARD
TZOFFSETFROM:-0400
TZOFFSETTO:-0500
TZNAME:EST
DTSTART:20241103T060000
END:STANDARD
BEGIN:DAYLIGHT
TZOFFSETFROM:-0500
TZOFFSETTO:-0400
TZNAME:EDT
DTSTART:20250309T070000
END:DAYLIGHT
BEGIN:STANDARD
TZOFFSETFROM:-0400
TZOFFSETTO:-0500
TZNAME:EST
DTSTART:20251102T060000
END:STANDARD
END:VTIMEZONE
BEGIN:VEVENT
DTSTART;TZID=America/New_York:20240318T100000
DTEND;TZID=America/New_York:20240318T113000
DTSTAMP:20260425T001502
CREATED:20240117T175636Z
LAST-MODIFIED:20240130T135725Z
UID:237168-1710756000-1710761400@ashevillecommunityyoga.org
SUMMARY:6 Week Balance Series                                                                                      for Falls Prevention w/ Diane Saccone
DESCRIPTION:^ Please note this date refers to the first of 6 sessions. ( This course will occur over 6 consecutive Mondays from March 18th- April 22th from 10 a.m.- 11:30 p.m.) \n\n\n\nat Asheville Community Yoga \n\n\n\n\n\n\n\nFalls are the #1 cause of unintentional death in adults 65 andabove and a leading cause of death for adults living with chronicconditions such as heart disease. \n\n\n\nThis 6 week series works to improve balance\, build muscle strength\, flexibilityand mobility to enhance overall physical health\, which leads to better functioningin daily activities. Participation in the program may also result in better mentalhealth\, reduced stress\, improved memory and cognition\, and increasedself-esteem. \n\n\n\nThe program is taught in a safe and supported group setting which will provideparticipants the opportunity to feel engaged while having fun and making newfriends. \n\n\n\nDiane Saccone\, MS MT (ASACP) ERYT 500 spent the majority of her career in the field of Clinical Laboratory medicine changing careers after her move with her husband to Western North Carolina in 2005. She also developed the active older adult program at the YMCA of Western North Carolina where she served as the Director of Healthy Aging Initiatives and traveled through the Y of the USA as a subject matter expert on aging; lecturing and teaching evidence based falls prevention programs across the country. \n\n\n\nCost: $100 for entire course  \n\n\n\n(participants must register for entire series\, no drop-in attendance) \n\n\n\nFinancial Aid Available  \n\n\n\nYACEP CEU’s available to Yoga Instructors through this course. Email Diane at grdngrl54@gmail.com for more information regarding CE credits.  \n\n\n\n\n\n\n\nPLEASE NOTE: We encourage pre-registration for all programming. Registering in advance guarantees your spot and helps the studio have adequate staffing. If fewer than 5 participants register the event may be canceled. \n\n\n\nPlease create a mindbody account for each participant if registering more than 1 person. If you have any questions regarding registration\, or financial aid\, please email Sarah sarah@ashevillecommunityyoga.org 
URL:https://ashevillecommunityyoga.org/event/6-week-balance-series-for-falls-prevention-w-diane-saccone-4/
LOCATION:Asheville Community Yoga\, 8 Brookdale Rd\, Asheville\, North Carolina\, 28804\, United States
CATEGORIES:Workshops
ATTACH;FMTTYPE=image/jpeg:https://ashevillecommunityyoga.org/wp-content/uploads/2022/07/diane-head-shot-e1673632365258.jpeg
END:VEVENT
END:VCALENDAR