BEGIN:VCALENDAR
VERSION:2.0
PRODID:-//Asheville Community Yoga - ECPv6.15.20//NONSGML v1.0//EN
CALSCALE:GREGORIAN
METHOD:PUBLISH
X-ORIGINAL-URL:https://ashevillecommunityyoga.org
X-WR-CALDESC:Events for Asheville Community Yoga
REFRESH-INTERVAL;VALUE=DURATION:PT1H
X-Robots-Tag:noindex
X-PUBLISHED-TTL:PT1H
BEGIN:VTIMEZONE
TZID:America/New_York
BEGIN:DAYLIGHT
TZOFFSETFROM:-0500
TZOFFSETTO:-0400
TZNAME:EDT
DTSTART:20230312T070000
END:DAYLIGHT
BEGIN:STANDARD
TZOFFSETFROM:-0400
TZOFFSETTO:-0500
TZNAME:EST
DTSTART:20231105T060000
END:STANDARD
BEGIN:DAYLIGHT
TZOFFSETFROM:-0500
TZOFFSETTO:-0400
TZNAME:EDT
DTSTART:20240310T070000
END:DAYLIGHT
BEGIN:STANDARD
TZOFFSETFROM:-0400
TZOFFSETTO:-0500
TZNAME:EST
DTSTART:20241103T060000
END:STANDARD
BEGIN:DAYLIGHT
TZOFFSETFROM:-0500
TZOFFSETTO:-0400
TZNAME:EDT
DTSTART:20250309T070000
END:DAYLIGHT
BEGIN:STANDARD
TZOFFSETFROM:-0400
TZOFFSETTO:-0500
TZNAME:EST
DTSTART:20251102T060000
END:STANDARD
END:VTIMEZONE
BEGIN:VEVENT
DTSTART;TZID=America/New_York:20240602T101500
DTEND;TZID=America/New_York:20240602T121500
DTSTAMP:20260424T204559
CREATED:20240325T145234Z
LAST-MODIFIED:20240418T192113Z
UID:237470-1717323300-1717330500@ashevillecommunityyoga.org
SUMMARY:Foundation of Ayurveda w/ Irmi Presutto
DESCRIPTION:Ayurveda is the sister science of Yoga and both sciences have developed side by side in ancient India thousands of years ago.People in Western societies deal with more and more health problems\, especially digestive issues.We can benefit from the wisdom of an uncorrupted\, ancient mindset. The key tool for a healthier and calmer life is to know how to achieve proper digestion. \nIn this workshop you will learn:– How to improve your digestion– How to balance indigestion\, constipation\, bloating\, flatulence\, diarrhea.– What’s your ayurvedic body type?– Principles of Ayurveda – what are the five elements? What are the three doshas?– Ayurvedic food staples for everyone to see\, taste and smell.Come and join us and learn easy and natural ways to improve your life!Be healthier – be happier! \nCost: $30Financial Aid AvailablePLEASE NOTE: We encourage pre-registration for all programming. Registering in advance guarantees your spot and helps the studio have adequate staffing. If fewer than 5 participants register the event may be canceled. \nRefund Policy: We understand that life happens and unforeseen circumstances come up. If life offers up an unexpected event and you need to withdraw from the workshop:  \n\nA full refund will be issued if you need to withdraw 4+ days before the workshop.\n\n\nIf you need to withdraw within 3 days or fewer\, no refund is provided.  \n\n\nPlease create a Mindbody account for each participant if registering more than 1 person. If you have any questions regarding registration\, or financial aid\, please email Kelsey at kelsey@ashevillecommunityyoga.org  
URL:https://ashevillecommunityyoga.org/event/foundation-of-ayurveda-w-irmi-presutto/
LOCATION:Asheville Community Yoga\, 8 Brookdale Rd\, Asheville\, North Carolina\, 28804\, United States
CATEGORIES:Workshops
ATTACH;FMTTYPE=image/jpeg:https://ashevillecommunityyoga.org/wp-content/uploads/2024/03/Irmi-e1711378317929.jpg
END:VEVENT
END:VCALENDAR