BEGIN:VCALENDAR
VERSION:2.0
PRODID:-//Asheville Community Yoga - ECPv6.15.20//NONSGML v1.0//EN
CALSCALE:GREGORIAN
METHOD:PUBLISH
X-ORIGINAL-URL:https://ashevillecommunityyoga.org
X-WR-CALDESC:Events for Asheville Community Yoga
REFRESH-INTERVAL;VALUE=DURATION:PT1H
X-Robots-Tag:noindex
X-PUBLISHED-TTL:PT1H
BEGIN:VTIMEZONE
TZID:America/New_York
BEGIN:DAYLIGHT
TZOFFSETFROM:-0500
TZOFFSETTO:-0400
TZNAME:EDT
DTSTART:20230312T070000
END:DAYLIGHT
BEGIN:STANDARD
TZOFFSETFROM:-0400
TZOFFSETTO:-0500
TZNAME:EST
DTSTART:20231105T060000
END:STANDARD
BEGIN:DAYLIGHT
TZOFFSETFROM:-0500
TZOFFSETTO:-0400
TZNAME:EDT
DTSTART:20240310T070000
END:DAYLIGHT
BEGIN:STANDARD
TZOFFSETFROM:-0400
TZOFFSETTO:-0500
TZNAME:EST
DTSTART:20241103T060000
END:STANDARD
BEGIN:DAYLIGHT
TZOFFSETFROM:-0500
TZOFFSETTO:-0400
TZNAME:EDT
DTSTART:20250309T070000
END:DAYLIGHT
BEGIN:STANDARD
TZOFFSETFROM:-0400
TZOFFSETTO:-0500
TZNAME:EST
DTSTART:20251102T060000
END:STANDARD
END:VTIMEZONE
BEGIN:VEVENT
DTSTART;TZID=America/New_York:20240615T101500
DTEND;TZID=America/New_York:20240615T121500
DTSTAMP:20260424T204202
CREATED:20240321T174704Z
LAST-MODIFIED:20240426T003027Z
UID:237467-1718446500-1718453700@ashevillecommunityyoga.org
SUMMARY:Overcoming Addictive Behavior w/ Margaret Kirschner and Eddie LeShure
DESCRIPTION:What if you discovered a way to feel relief from disturbing thoughts\, uncomfortable emotions\, insistent cravings and impulsive reactions? Have you completed a treatment program and want to strengthen your recovery? Are you curious about how trauma-sensitive movement\, mindful meditation\, and various breathing practices create healthy neuroplasticity?  \nIf we are going to free ourselves from addictive behavior\, we must learn how to embrace our full range of thoughts\, feelings and physical sensations. You will learn the most practical\, effective\, and simple body-based practices that quickly shift you from your distracted mind into your intelligent body where you can feel safe to breathe easily\, move from your center\, and make wise decisions that guide you forward to be the person you know yourself to be. Learn how to rewire your nervous system for maximum resilience and holistic well-being for every part of you. \nCost: $30Financial Aid AvailablePLEASE NOTE: We encourage pre-registration for all programming. Registering in advance guarantees your spot and helps the studio have adequate staffing. If fewer than 5 participants register the event may be canceled. \nRefund Policy: We understand that life happens and unforeseen circumstances come up. If life offers up an unexpected event and you need to withdraw from the workshop:  \n\nA full refund will be issued if you need to withdraw 4+ days before the workshop.\n\n\nIf you need to withdraw within 3 days or fewer\, no refund is provided.  \n\n\nPlease create a Mindbody account for each participant if registering more than 1 person. If you have any questions regarding registration\, or financial aid\, please email Kelsey at  kelsey@ashevillecommunityyoga.org 
URL:https://ashevillecommunityyoga.org/event/overcoming-addictive-behavior-w-margaret-kirschner-and-eddie-leshure/
LOCATION:Asheville Community Yoga\, 8 Brookdale Rd\, Asheville\, North Carolina\, 28804\, United States
CATEGORIES:Workshops
ATTACH;FMTTYPE=image/png:https://ashevillecommunityyoga.org/wp-content/uploads/2024/03/Eddie-and-Margaret.png
END:VEVENT
END:VCALENDAR