BEGIN:VCALENDAR
VERSION:2.0
PRODID:-//Asheville Community Yoga - ECPv6.15.20//NONSGML v1.0//EN
CALSCALE:GREGORIAN
METHOD:PUBLISH
X-ORIGINAL-URL:https://ashevillecommunityyoga.org
X-WR-CALDESC:Events for Asheville Community Yoga
REFRESH-INTERVAL;VALUE=DURATION:PT1H
X-Robots-Tag:noindex
X-PUBLISHED-TTL:PT1H
BEGIN:VTIMEZONE
TZID:America/New_York
BEGIN:DAYLIGHT
TZOFFSETFROM:-0500
TZOFFSETTO:-0400
TZNAME:EDT
DTSTART:20230312T070000
END:DAYLIGHT
BEGIN:STANDARD
TZOFFSETFROM:-0400
TZOFFSETTO:-0500
TZNAME:EST
DTSTART:20231105T060000
END:STANDARD
BEGIN:DAYLIGHT
TZOFFSETFROM:-0500
TZOFFSETTO:-0400
TZNAME:EDT
DTSTART:20240310T070000
END:DAYLIGHT
BEGIN:STANDARD
TZOFFSETFROM:-0400
TZOFFSETTO:-0500
TZNAME:EST
DTSTART:20241103T060000
END:STANDARD
BEGIN:DAYLIGHT
TZOFFSETFROM:-0500
TZOFFSETTO:-0400
TZNAME:EDT
DTSTART:20250309T070000
END:DAYLIGHT
BEGIN:STANDARD
TZOFFSETFROM:-0400
TZOFFSETTO:-0500
TZNAME:EST
DTSTART:20251102T060000
END:STANDARD
END:VTIMEZONE
BEGIN:VEVENT
DTSTART;TZID=America/New_York:20240824T101500
DTEND;TZID=America/New_York:20240824T121500
DTSTAMP:20260424T181919
CREATED:20240610T153906Z
LAST-MODIFIED:20240610T153906Z
UID:237895-1724494500-1724501700@ashevillecommunityyoga.org
SUMMARY:Raise Your Vibration With Yoga and Positive Psychology with Timothy Burgin
DESCRIPTION:In this 2-hour workshop\, we will explore how the ancient wisdom of yoga\, dynamic asana sequences\, revitalizing pranayama exercises\, and principles of positive psychology can help you raise your vibration to a higher frequency. \nWHAT YOU’LL LEARN: \n\n Understand the concept of vibrational frequency and how it influences your emotions\, thoughts\, and experiences.\n Explore specific yoga asanas\, breathing techniques\, and meditations to boost your vitality and energy and to remove any blockages that hold your vibration down.\n Apply evidence-based positive psychology strategies to cultivate a positive mindset\, increase resilience\, and let go of negative emotions.\n Discover simple yet effective adjustments you can integrate into your daily routine to maintain a high vibration and stay ‘in tune’ with the Universe.\n\nCost: $30Financial Aid AvailablePLEASE NOTE: We encourage pre-registration for all programming. Registering in advance guarantees your spot and helps the studio have adequate staffing. If fewer than 5 participants register the event may be canceled. \nRefund Policy: We understand that life happens and unforeseen circumstances come up. If life offers up an unexpected event and you need to withdraw from the workshop:  \n\nA full refund will be issued if you need to withdraw 4+ days before the workshop.\n\n\nIf you need to withdraw within 3 days or fewer\, no refund is provided.  \n\n\nPlease create a Mindbody account for each participant if registering more than 1 person. If you have any questions regarding registration\, or financial aid\, please email Kelsey at  kelsey@ashevillecommunityyoga.org 
URL:https://ashevillecommunityyoga.org/event/raise-your-vibration-with-yoga-and-positive-psychology-with-timothy-burgin/
LOCATION:Asheville Community Yoga\, 8 Brookdale Rd\, Asheville\, North Carolina\, 28804\, United States
CATEGORIES:Workshops
ATTACH;FMTTYPE=image/jpeg:https://ashevillecommunityyoga.org/wp-content/uploads/2024/06/Timothy.jpg
END:VEVENT
END:VCALENDAR