BEGIN:VCALENDAR
VERSION:2.0
PRODID:-//Asheville Community Yoga - ECPv6.15.20//NONSGML v1.0//EN
CALSCALE:GREGORIAN
METHOD:PUBLISH
X-WR-CALNAME:Asheville Community Yoga
X-ORIGINAL-URL:https://ashevillecommunityyoga.org
X-WR-CALDESC:Events for Asheville Community Yoga
REFRESH-INTERVAL;VALUE=DURATION:PT1H
X-Robots-Tag:noindex
X-PUBLISHED-TTL:PT1H
BEGIN:VTIMEZONE
TZID:America/New_York
BEGIN:DAYLIGHT
TZOFFSETFROM:-0500
TZOFFSETTO:-0400
TZNAME:EDT
DTSTART:20240310T070000
END:DAYLIGHT
BEGIN:STANDARD
TZOFFSETFROM:-0400
TZOFFSETTO:-0500
TZNAME:EST
DTSTART:20241103T060000
END:STANDARD
BEGIN:DAYLIGHT
TZOFFSETFROM:-0500
TZOFFSETTO:-0400
TZNAME:EDT
DTSTART:20250309T070000
END:DAYLIGHT
BEGIN:STANDARD
TZOFFSETFROM:-0400
TZOFFSETTO:-0500
TZNAME:EST
DTSTART:20251102T060000
END:STANDARD
BEGIN:DAYLIGHT
TZOFFSETFROM:-0500
TZOFFSETTO:-0400
TZNAME:EDT
DTSTART:20260308T070000
END:DAYLIGHT
BEGIN:STANDARD
TZOFFSETFROM:-0400
TZOFFSETTO:-0500
TZNAME:EST
DTSTART:20261101T060000
END:STANDARD
END:VTIMEZONE
BEGIN:VEVENT
DTSTART;TZID=America/New_York:20250105T100000
DTEND;TZID=America/New_York:20250105T140000
DTSTAMP:20260424T114938
CREATED:20241028T162850Z
LAST-MODIFIED:20250103T213115Z
UID:238646-1736071200-1736085600@ashevillecommunityyoga.org
SUMMARY:Yoga For Osteoporosis w/ Diane Saccone
DESCRIPTION:Osteoporosis is a disease in which bones become less dense\, predisposing them to fractures. This 4 hour evidence based workshop will focus on how specific yoga poses help not only slow the progression of bone loss but create strong bones\, and at the same time improve balance. \nThis workshop is perfect for all age groups and anyone living with bone health challenges. 4 CEUs are available for yoga teachers. \nCost: $60Financial Aid Available- Please stop by the front desk\, call\, or email kelsey@ashevillecommunityyoga.org. \n  \n \n \n \n \n \nPLEASE NOTE: We encourage pre-registration for all programming. Registering in advance guarantees your spot and helps the studio have adequate staffing. If fewer than 5 participants register the event may be canceled. \nRefund Policy: We understand that life happens and unforeseen circumstances come up. If life offers up an unexpected event and you need to withdraw from the workshop: \n\nA full refund will be issued if you need to withdraw 4+ days before the workshop.\nIf you need to withdraw within 3 days or fewer\, no refund is provided.\n\nPlease create a Mindbody account for each participant if registering more than 1 person. If you have any questions regarding registration\, please email Kelsey at  kelsey@ashevillecommunityyoga.org
URL:https://ashevillecommunityyoga.org/event/yoga-for-osteoporosis-w-diane-saccone/
LOCATION:Asheville Community Yoga\, 8 Brookdale Rd\, Asheville\, North Carolina\, 28804\, United States
CATEGORIES:CE Courses,Workshops
ATTACH;FMTTYPE=image/jpeg:https://ashevillecommunityyoga.org/wp-content/uploads/2022/07/diane-head-shot-e1673632365258.jpeg
END:VEVENT
BEGIN:VEVENT
DTSTART;TZID=America/New_York:20250105T143000
DTEND;TZID=America/New_York:20250105T163000
DTSTAMP:20260424T114938
CREATED:20241202T195543Z
LAST-MODIFIED:20241203T144134Z
UID:238855-1736087400-1736094600@ashevillecommunityyoga.org
SUMMARY:Wring In The New Year w/ Dana Maria
DESCRIPTION:Ring in the New Year by “wringing” out the body and mind in this special class that is designed to do just that.  \nThis 2 hour all levels workshop is an opportunity to reset after the holidays. You will learn a variety of yoga postures that aim to stimulate digestive\, lymphatic and circulatory systems\, helping to release toxins and restore balance in the body. Through meditation\, mindfulness\, relaxation and breath work\, we observe and release thought patterns that no longer serve us while setting healthy aligned new intentions for the upcoming year. \n \nCost: $30Financial Aid Available- Please stop by the front desk or email Kelsey@ashevillecommunityyoga.org \nPLEASE NOTE: We encourage pre-registration for all programming. Registering in advance guarantees your spot and helps the studio have adequate staffing. If fewer than 5 participants register the event may be canceled. \nRefund Policy: We understand that life happens and unforeseen circumstances come up. If life offers up an unexpected event and you need to withdraw from the workshop:  \n\nA full refund will be issued if you need to withdraw 4+ days before the workshop.\n\nIf you need to withdraw within 3 days or fewer\, no refund is provided.  \n\n\nPlease create a Mindbody account for each participant if registering more than 1 person. If you have any questions regarding registration\, please email Kelsey at  kelsey@ashevillecommunityyoga.org  \n \n \n 
URL:https://ashevillecommunityyoga.org/event/wring-in-the-new-year-w-dana-maria/
LOCATION:Asheville Community Yoga\, 8 Brookdale Rd\, Asheville\, North Carolina\, 28804\, United States
CATEGORIES:Workshops
ATTACH;FMTTYPE=image/jpeg:https://ashevillecommunityyoga.org/wp-content/uploads/2024/12/IMG_8685-scaled.jpeg
END:VEVENT
END:VCALENDAR