BEGIN:VCALENDAR
VERSION:2.0
PRODID:-//Asheville Community Yoga - ECPv6.15.20//NONSGML v1.0//EN
CALSCALE:GREGORIAN
METHOD:PUBLISH
X-WR-CALNAME:Asheville Community Yoga
X-ORIGINAL-URL:https://ashevillecommunityyoga.org
X-WR-CALDESC:Events for Asheville Community Yoga
REFRESH-INTERVAL;VALUE=DURATION:PT1H
X-Robots-Tag:noindex
X-PUBLISHED-TTL:PT1H
BEGIN:VTIMEZONE
TZID:America/New_York
BEGIN:DAYLIGHT
TZOFFSETFROM:-0500
TZOFFSETTO:-0400
TZNAME:EDT
DTSTART:20240310T070000
END:DAYLIGHT
BEGIN:STANDARD
TZOFFSETFROM:-0400
TZOFFSETTO:-0500
TZNAME:EST
DTSTART:20241103T060000
END:STANDARD
BEGIN:DAYLIGHT
TZOFFSETFROM:-0500
TZOFFSETTO:-0400
TZNAME:EDT
DTSTART:20250309T070000
END:DAYLIGHT
BEGIN:STANDARD
TZOFFSETFROM:-0400
TZOFFSETTO:-0500
TZNAME:EST
DTSTART:20251102T060000
END:STANDARD
BEGIN:DAYLIGHT
TZOFFSETFROM:-0500
TZOFFSETTO:-0400
TZNAME:EDT
DTSTART:20260308T070000
END:DAYLIGHT
BEGIN:STANDARD
TZOFFSETFROM:-0400
TZOFFSETTO:-0500
TZNAME:EST
DTSTART:20261101T060000
END:STANDARD
END:VTIMEZONE
BEGIN:VEVENT
DTSTART;TZID=America/New_York:20250322T101500
DTEND;TZID=America/New_York:20250322T121500
DTSTAMP:20260424T090528
CREATED:20250113T150121Z
LAST-MODIFIED:20250224T141650Z
UID:239241-1742638500-1742645700@ashevillecommunityyoga.org
SUMMARY:Rooted in the Present: Grounding for Clarity & Calm w/ Kasia Kane
DESCRIPTION:Grounding is the practice of reconnecting with the present moment and one’s physical body to reduce stress\, anxiety\, and mental overwhelm. It involves techniques that help shift focus away from distracting thoughts or emotions\, promoting a sense of stability\, calm\, and balance. \nCommon methods include: -deep breathing-mindfulness-physical sensations (like feeling the ground beneath you)-and visualization exercises. \nGrounding helps individuals feel more centered\, focused\, and in control. \n\n\n\nThis grounding workshop is designed to help individuals reconnect with the present moment\, reduce stress\, and promote mindfulness. It begins with a brief overview of the key concepts behind grounding\, followed by a variety of techniques\, including meditation\, breathwork\, and body awareness exercises.  \nParticipants will learn to anchor themselves in the here and now\, fostering emotional balance and mental clarity. This workshop is ideal for those seeking to enhance focus\, relaxation\, and overall well-being. \n\nCost: $30Financial Aid Available \n \nPLEASE NOTE: We encourage pre-registration for all programming. Registering in advance guarantees your spot and helps the studio have adequate staffing. If fewer than 5 participants register the event may be canceled. \nRefund Policy: We understand that life happens and unforeseen circumstances come up. If life offers up an unexpected event and you need to withdraw from the workshop:  \n\nA full refund will be issued if you need to withdraw 4+ days before the workshop. Please reach out for your refund\, as it will not be automatically applied to your account.\n\n\nIf you need to withdraw within 3 days or fewer\, no refund is provided.  \n\n\nPlease create a Mindbody account for each participant if registering more than 1 person. If you have any questions regarding registration\, or financial aid\, please email Kelsey at  kelsey@ashevillecommunityyoga.org 
URL:https://ashevillecommunityyoga.org/event/rooted-in-the-present-grounding-for-clarity-calm-w-kasia-kane/
LOCATION:Asheville Community Yoga\, 8 Brookdale Rd\, Asheville\, North Carolina\, 28804\, United States
CATEGORIES:Workshops
ATTACH;FMTTYPE=image/jpeg:https://ashevillecommunityyoga.org/wp-content/uploads/2024/06/Kasia-scaled.jpg
END:VEVENT
END:VCALENDAR