BEGIN:VCALENDAR
VERSION:2.0
PRODID:-//Asheville Community Yoga - ECPv6.15.20//NONSGML v1.0//EN
CALSCALE:GREGORIAN
METHOD:PUBLISH
X-ORIGINAL-URL:https://ashevillecommunityyoga.org
X-WR-CALDESC:Events for Asheville Community Yoga
REFRESH-INTERVAL;VALUE=DURATION:PT1H
X-Robots-Tag:noindex
X-PUBLISHED-TTL:PT1H
BEGIN:VTIMEZONE
TZID:America/New_York
BEGIN:DAYLIGHT
TZOFFSETFROM:-0500
TZOFFSETTO:-0400
TZNAME:EDT
DTSTART:20240310T070000
END:DAYLIGHT
BEGIN:STANDARD
TZOFFSETFROM:-0400
TZOFFSETTO:-0500
TZNAME:EST
DTSTART:20241103T060000
END:STANDARD
BEGIN:DAYLIGHT
TZOFFSETFROM:-0500
TZOFFSETTO:-0400
TZNAME:EDT
DTSTART:20250309T070000
END:DAYLIGHT
BEGIN:STANDARD
TZOFFSETFROM:-0400
TZOFFSETTO:-0500
TZNAME:EST
DTSTART:20251102T060000
END:STANDARD
BEGIN:DAYLIGHT
TZOFFSETFROM:-0500
TZOFFSETTO:-0400
TZNAME:EDT
DTSTART:20260308T070000
END:DAYLIGHT
BEGIN:STANDARD
TZOFFSETFROM:-0400
TZOFFSETTO:-0500
TZNAME:EST
DTSTART:20261101T060000
END:STANDARD
END:VTIMEZONE
BEGIN:VEVENT
DTSTART;TZID=America/New_York:20250614T101500
DTEND;TZID=America/New_York:20250614T121500
DTSTAMP:20260424T043145
CREATED:20250305T235758Z
LAST-MODIFIED:20250311T163536Z
UID:240080-1749896100-1749903300@ashevillecommunityyoga.org
SUMMARY:Yoga for Healing Trauma w/ Alexandra Culotta
DESCRIPTION:Trauma impacts everyone at some point in their life. These experiences are stored in the body and can contribute to lasting symptoms.  \nIn this workshop\, we will address the ways traumatic events impact the body. We will find safety in our bodies and with each other. We will practice techniques for nervous system regulation and pain relief. We will practice deeper stretching to access trauma stored in the fascia of the body.  \nThis workshop will begin with a discussion and handouts on the effects of trauma on the nervous system and body\, states of arousal\, tools for self regulation\, and methods for healing trauma. We will then move into a gentle Asana practice\, focused on breathwork\, centering\, and finding calm within the body. Participants will be invited to journal about their experience before a brief break.  \nThe second half will begin with slightly more active practice involving bilateral hemisphere switching and release. As a group\, we will practice safety with others through optional shared contact exercises.  \nOur final phase on our mats will be deeper gentle stretching\, to begin accessing the trauma stored within the body. Participants will be invited to journal once again\, before we close with a sharing circle.  \nParticipants in this workshop will leave with:  \n\nTools for self-regulation in moments of distress as well as general anxiety\nA renewed sense of safety in their bodies as well as with others\nPoses to calm and relieve pain associated with trauma and stress\nEnhanced understanding of how trauma impacts the body\nThe knowledge that they can opt out of any part of the workshop and/or do whatever makes them feel safe\, without criticism or judgement.\n\n\n\nCost: $30 \n\nFinancial Aid Available- Please stop by the front desk or email Kelsey@ashevillecommunityyoga.org \n \nPLEASE NOTE: We encourage pre-registration for all programming. Registering in advance guarantees your spot and helps the studio have adequate staffing. If fewer than 5 participants register the event may be canceled. \nRefund Policy: We understand that life happens and unforeseen circumstances come up. If life offers up an unexpected event and you need to withdraw from the workshop: \n\nA full refund will be issued if you need to withdraw 4+ days before the workshop. Please reach out for your refund\, as it will not be automatically applied to your account.\nIf you need to withdraw within 3 days or fewer\, no refund is provided.\n\nPlease create a Mindbody account for each participant if registering more than 1 person. If you have any questions regarding registration\, please email Kelsey at  kelsey@ashevillecommunityyoga.org 
URL:https://ashevillecommunityyoga.org/event/yoga-for-healing-trauma-w-alexandra-culotta/
LOCATION:Asheville Community Yoga\, 8 Brookdale Rd\, Asheville\, North Carolina\, 28804\, United States
CATEGORIES:Workshops
ATTACH;FMTTYPE=image/jpeg:https://ashevillecommunityyoga.org/wp-content/uploads/2025/03/Alexandra-1-scaled.jpg
END:VEVENT
END:VCALENDAR