BEGIN:VCALENDAR
VERSION:2.0
PRODID:-//Asheville Community Yoga - ECPv6.15.20//NONSGML v1.0//EN
CALSCALE:GREGORIAN
METHOD:PUBLISH
X-ORIGINAL-URL:https://ashevillecommunityyoga.org
X-WR-CALDESC:Events for Asheville Community Yoga
REFRESH-INTERVAL;VALUE=DURATION:PT1H
X-Robots-Tag:noindex
X-PUBLISHED-TTL:PT1H
BEGIN:VTIMEZONE
TZID:America/New_York
BEGIN:DAYLIGHT
TZOFFSETFROM:-0500
TZOFFSETTO:-0400
TZNAME:EDT
DTSTART:20240310T070000
END:DAYLIGHT
BEGIN:STANDARD
TZOFFSETFROM:-0400
TZOFFSETTO:-0500
TZNAME:EST
DTSTART:20241103T060000
END:STANDARD
BEGIN:DAYLIGHT
TZOFFSETFROM:-0500
TZOFFSETTO:-0400
TZNAME:EDT
DTSTART:20250309T070000
END:DAYLIGHT
BEGIN:STANDARD
TZOFFSETFROM:-0400
TZOFFSETTO:-0500
TZNAME:EST
DTSTART:20251102T060000
END:STANDARD
BEGIN:DAYLIGHT
TZOFFSETFROM:-0500
TZOFFSETTO:-0400
TZNAME:EDT
DTSTART:20260308T070000
END:DAYLIGHT
BEGIN:STANDARD
TZOFFSETFROM:-0400
TZOFFSETTO:-0500
TZNAME:EST
DTSTART:20261101T060000
END:STANDARD
END:VTIMEZONE
BEGIN:VEVENT
DTSTART;TZID=America/New_York:20250803T101500
DTEND;TZID=America/New_York:20250803T121500
DTSTAMP:20260424T013206
CREATED:20250512T175925Z
LAST-MODIFIED:20250521T195020Z
UID:240385-1754216100-1754223300@ashevillecommunityyoga.org
SUMMARY:Sacred Rest: Yoga Nidra & Sound Healing Through the Chakras w/ Jot Anant (In-Person & Virtual)
DESCRIPTION:Join Jot Anant for a sacred journey through the chakras\, where stillness meets sound and rest becomes a portal inward.  \nGuided by the deep calm of Yoga Nidra and the resonant tones of Himalayan bowls & other accompanying instruments\, you’ll soften\, release\, and realign. No effort\, no striving—just come as you are and receive the quiet wisdom within.  \nThis deeply restorative experience invites you to journey through the seven major chakras using the powerful practices of Yoga Nidra and Sound Healing. This experiential workshop offers a calming space to explore your inner landscape\, release energetic blockages\, and reconnect with your natural rhythm.  \nWe’ll begin with gentle grounding techniques to settle the body and mind\, then ease into a guided Yoga Nidra—also known as yogic sleep—that brings you into a state of deep relaxation and inner awareness. As you journey through each chakra\, you’ll be supported by the soothing vibrations of the Himalayan singing bowls\, chimes\, and other therapeutic instruments\, each attuned to the energy of a specific chakra.  \nThis combination of guided meditation and sound creates space for balance\, calm\, and clarity—physically\, mentally\, and energetically. \n  \nWhat to Expect: \n\nGentle grounding movement & breathwork\nA uniquely guided Yoga Nidra session that relaxes and balances the hemispheres of the brain Immersive sound healing aligned with each chakra\nSpace for rest\, reflection\, and energetic reset\n\nWho This Is For: Open to all levels—no experience with meditation\, yoga\, or sound healing required. Come as you are\, and allow yourself to fully rest and receive. Leave feeling grounded\, nourished\, and aligned. \nFor more information on Jot Anant\, please visit her website at www.JotAnant.org. \nCost: $30Financial Aid Available \nClick here to register for In-Person\nClick here to register for Virtual\nPLEASE NOTE: We encourage pre-registration for all programming. Registering in advance guarantees your spot and helps the studio have adequate staffing. If fewer than 5 participants register the event may be canceled. \nRefund Policy: We understand that life happens and unforeseen circumstances come up. If life offers up an unexpected event and you need to withdraw from the workshop: \n\nA full refund will be issued if you need to withdraw 4+ days before the workshop.\nIf you need to withdraw within 3 days or fewer\, no refund is provided.\n\nPlease create a Mindbody account for each participant if registering more than 1 person. If you have any questions regarding registration\, or financial aid\, please email Kelsey at  kelsey@ashevillecommunityyoga.org 
URL:https://ashevillecommunityyoga.org/event/sacred-rest-yoga-nidra-sound-healing-through-the-chakras-w-jot-anant/
LOCATION:Asheville Community Yoga\, 8 Brookdale Rd\, Asheville\, North Carolina\, 28804\, United States
CATEGORIES:Workshops
ATTACH;FMTTYPE=image/jpeg:https://ashevillecommunityyoga.org/wp-content/uploads/2025/05/Rewilding-428-scaled.jpg
END:VEVENT
END:VCALENDAR