BEGIN:VCALENDAR
VERSION:2.0
PRODID:-//Asheville Community Yoga - ECPv6.15.20//NONSGML v1.0//EN
CALSCALE:GREGORIAN
METHOD:PUBLISH
X-WR-CALNAME:Asheville Community Yoga
X-ORIGINAL-URL:https://ashevillecommunityyoga.org
X-WR-CALDESC:Events for Asheville Community Yoga
REFRESH-INTERVAL;VALUE=DURATION:PT1H
X-Robots-Tag:noindex
X-PUBLISHED-TTL:PT1H
BEGIN:VTIMEZONE
TZID:America/New_York
BEGIN:DAYLIGHT
TZOFFSETFROM:-0500
TZOFFSETTO:-0400
TZNAME:EDT
DTSTART:20240310T070000
END:DAYLIGHT
BEGIN:STANDARD
TZOFFSETFROM:-0400
TZOFFSETTO:-0500
TZNAME:EST
DTSTART:20241103T060000
END:STANDARD
BEGIN:DAYLIGHT
TZOFFSETFROM:-0500
TZOFFSETTO:-0400
TZNAME:EDT
DTSTART:20250309T070000
END:DAYLIGHT
BEGIN:STANDARD
TZOFFSETFROM:-0400
TZOFFSETTO:-0500
TZNAME:EST
DTSTART:20251102T060000
END:STANDARD
BEGIN:DAYLIGHT
TZOFFSETFROM:-0500
TZOFFSETTO:-0400
TZNAME:EDT
DTSTART:20260308T070000
END:DAYLIGHT
BEGIN:STANDARD
TZOFFSETFROM:-0400
TZOFFSETTO:-0500
TZNAME:EST
DTSTART:20261101T060000
END:STANDARD
END:VTIMEZONE
BEGIN:VEVENT
DTSTART;TZID=America/New_York:20250808T200000
DTEND;TZID=America/New_York:20250808T213000
DTSTAMP:20260424T013100
CREATED:20250604T203438Z
LAST-MODIFIED:20250604T203511Z
UID:240495-1754683200-1754688600@ashevillecommunityyoga.org
SUMMARY:Lion's Gate Full Moon Blacklight Yoga w/ Kasia Kane
DESCRIPTION:Let the energy of the Full Moon meet the energy of the Lion’s Gate portal for this intentional Blacklight Yoga class! Find a sense of grounding\, connection and release as we move through yoga\, breathwork and dance to better align with the self.  \nLion’s Gate (August 8th) is when the Sun in Leo aligns with Sirius\, the brightest star in the sky. This alignment is believed to open a “portal” of energy\, making it a time for spiritual growth\, transformation\, and manifestation. The full moon has similar beliefs in astrology\, where it is said to represent culmination\, completion\, and release.  This Blacklight Yoga class will be a space to release what no longer serves you and focus on what is filling your cup. \nThrough this lens\, we can find deeper connection inside\, and allow that to transfer to our interactions with others. Allow this space to be an intentional container to reflect to one another and finally accept\, understand\, release attachments we have held onto.  \nBlacklight yoga is intended to be a playful and joyful space\, fueled by the glowing lights\, your energy\, and your bright\, colorful clothing!  \n\n\nCost: $20Financial Aid Available \n \nPLEASE NOTE: We encourage pre-registration for all programming. Registering in advance guarantees your spot and helps the studio have adequate staffing. If fewer than 5 participants register the event may be canceled. \nRefund Policy: We understand that life happens and unforeseen circumstances come up. If life offers up an unexpected event and you need to withdraw from the workshop:  \n\nA full refund will be issued if you need to withdraw 4+ days before the workshop. Please reach out for your refund\, as it will not be automatically applied to your account.\n\n\nIf you need to withdraw within 3 days or fewer\, no refund is provided.  \n\n\nPlease create a Mindbody account for each participant if registering more than 1 person. If you have any questions regarding registration\, or financial aid\, please email Kelsey at  kelsey@ashevillecommunityyoga.org 
URL:https://ashevillecommunityyoga.org/event/lions-gate-full-moon-blacklight-yoga-w-kasia-kane/
LOCATION:Asheville Community Yoga\, 8 Brookdale Rd\, Asheville\, North Carolina\, 28804\, United States
CATEGORIES:Workshops
ATTACH;FMTTYPE=image/jpeg:https://ashevillecommunityyoga.org/wp-content/uploads/2024/06/Kasia-scaled.jpg
END:VEVENT
END:VCALENDAR