BEGIN:VCALENDAR
VERSION:2.0
PRODID:-//Asheville Community Yoga - ECPv6.15.20//NONSGML v1.0//EN
CALSCALE:GREGORIAN
METHOD:PUBLISH
X-WR-CALNAME:Asheville Community Yoga
X-ORIGINAL-URL:https://ashevillecommunityyoga.org
X-WR-CALDESC:Events for Asheville Community Yoga
REFRESH-INTERVAL;VALUE=DURATION:PT1H
X-Robots-Tag:noindex
X-PUBLISHED-TTL:PT1H
BEGIN:VTIMEZONE
TZID:America/New_York
BEGIN:DAYLIGHT
TZOFFSETFROM:-0500
TZOFFSETTO:-0400
TZNAME:EDT
DTSTART:20240310T070000
END:DAYLIGHT
BEGIN:STANDARD
TZOFFSETFROM:-0400
TZOFFSETTO:-0500
TZNAME:EST
DTSTART:20241103T060000
END:STANDARD
BEGIN:DAYLIGHT
TZOFFSETFROM:-0500
TZOFFSETTO:-0400
TZNAME:EDT
DTSTART:20250309T070000
END:DAYLIGHT
BEGIN:STANDARD
TZOFFSETFROM:-0400
TZOFFSETTO:-0500
TZNAME:EST
DTSTART:20251102T060000
END:STANDARD
BEGIN:DAYLIGHT
TZOFFSETFROM:-0500
TZOFFSETTO:-0400
TZNAME:EDT
DTSTART:20260308T070000
END:DAYLIGHT
BEGIN:STANDARD
TZOFFSETFROM:-0400
TZOFFSETTO:-0500
TZNAME:EST
DTSTART:20261101T060000
END:STANDARD
END:VTIMEZONE
BEGIN:VEVENT
DTSTART;TZID=America/New_York:20250907T100000
DTEND;TZID=America/New_York:20250907T130000
DTSTAMP:20260423T225047
CREATED:20250625T230338Z
LAST-MODIFIED:20251008T182151Z
UID:240616-1757239200-1757250000@ashevillecommunityyoga.org
SUMMARY:Yoga & Somatic Experiencing with Ocean Gettys LCSW
DESCRIPTION:In this workshop\, we will explore the intersections between yoga and Somatic Experiencing through the lens of nervous system repair. \nWe will practice asana and mindful social engagement utilizing SE skills and themes in service to healing our connection with our bodies\, hearts\, planet\, and each other. \nThis three hour window will allow for deeper regulation\, connection\, and integration. We will explore several themes collaboratively through mindful sharing & reflection in circle format throughout the workshop\, with partner and small group connection as well . We’ll review trauma from a nervous system lens\, as well as common dysregulation patterns. This workshop aims to provide tools for self regulation & coregulation\, while applying foundational SE principles in yoga application.  \nThis offering is distinct from the Friday weekly class and previous 2-hour workshops in that there will be more opportunity for: \n\n\nQ&A w/ teaching portions \n\n\nJournaling reflection \n\n\nBlend of large group\, partner\, and small group discussion \n\n\nLonger individual practice portion \n\n\nMultiple co-regulatory practices \n\n\nOpening and closing sharing to promote integration and community connectedness \n\n\nSlower pace overall\, more time for each section of workshop \n\n\nYou are an integral part of our human community\, and your presence is welcomed and celebrated in this space.  \nOcean is a Licensed Clinical Social Worker who also offers individual somatic based therapy sessions in private practice. For more information on Ocean’s work as a Somatic Experiencing Practitioner please visit Psychology Today. \nCost: $45Financial Aid Available- Please stop by the front desk or email kelsey@ashevillecommunityyoga.org  \n \nPLEASE NOTE: We encourage pre-registration for all programming. Registering in advance guarantees your spot and helps the studio have adequate staffing. If fewer than 5 participants register the event may be canceled. \nRefund Policy: We understand that life happens and unforeseen circumstances come up. If life offers up an unexpected event and you need to withdraw from the workshop:  \n\nA full refund will be issued if you need to withdraw 4+ days before the workshop. Please reach out for your refund\, as it will not be automatically applied to your account.\n\nIf you need to withdraw within 3 days or fewer\, no refund is provided.  \n\n\nPlease create a Mindbody account for each participant if registering more than 1 person. If you have any questions regarding registration\, or financial aid\, please email Kelsey at  kelsey@ashevillecommunityyoga.org 
URL:https://ashevillecommunityyoga.org/event/yoga-somatic-experiencing-with-ocean-gettys-lcsw/
LOCATION:Asheville Community Yoga\, 8 Brookdale Rd\, Asheville\, North Carolina\, 28804\, United States
CATEGORIES:Workshops
ATTACH;FMTTYPE=image/jpeg:https://ashevillecommunityyoga.org/wp-content/uploads/2024/04/ocean-photo-scaled.jpg
END:VEVENT
END:VCALENDAR