BEGIN:VCALENDAR
VERSION:2.0
PRODID:-//Asheville Community Yoga - ECPv6.15.20//NONSGML v1.0//EN
CALSCALE:GREGORIAN
METHOD:PUBLISH
X-ORIGINAL-URL:https://ashevillecommunityyoga.org
X-WR-CALDESC:Events for Asheville Community Yoga
REFRESH-INTERVAL;VALUE=DURATION:PT1H
X-Robots-Tag:noindex
X-PUBLISHED-TTL:PT1H
BEGIN:VTIMEZONE
TZID:America/New_York
BEGIN:DAYLIGHT
TZOFFSETFROM:-0500
TZOFFSETTO:-0400
TZNAME:EDT
DTSTART:20240310T070000
END:DAYLIGHT
BEGIN:STANDARD
TZOFFSETFROM:-0400
TZOFFSETTO:-0500
TZNAME:EST
DTSTART:20241103T060000
END:STANDARD
BEGIN:DAYLIGHT
TZOFFSETFROM:-0500
TZOFFSETTO:-0400
TZNAME:EDT
DTSTART:20250309T070000
END:DAYLIGHT
BEGIN:STANDARD
TZOFFSETFROM:-0400
TZOFFSETTO:-0500
TZNAME:EST
DTSTART:20251102T060000
END:STANDARD
BEGIN:DAYLIGHT
TZOFFSETFROM:-0500
TZOFFSETTO:-0400
TZNAME:EDT
DTSTART:20260308T070000
END:DAYLIGHT
BEGIN:STANDARD
TZOFFSETFROM:-0400
TZOFFSETTO:-0500
TZNAME:EST
DTSTART:20261101T060000
END:STANDARD
END:VTIMEZONE
BEGIN:VEVENT
DTSTART;TZID=America/New_York:20250920T101500
DTEND;TZID=America/New_York:20250920T121500
DTSTAMP:20260423T225324
CREATED:20250708T165608Z
LAST-MODIFIED:20250904T202642Z
UID:240686-1758363300-1758370500@ashevillecommunityyoga.org
SUMMARY:Embracing the Change: Yoga & Breath for Menopause & Perimenopause w/ Dana Maria
DESCRIPTION:This two hour workshop is designed for women experiencing perimenopause and menopause. Through yoga\, meditation\, breathwork\, and meaningful group connection\, participants will explore ways to ease common symptoms such as hot flashes\, anxiety\, mood swings\, fatigue\, and insomnia while cultivating a deeper understanding of this powerful life transition. \nWe’ll honor this phase not as a loss\, but as a rebirth: a time of wisdom\, intuition\, and renewal. \nWorkshop Goals \n\n\nOffer supportive\, accessible tools to manage physical and emotional symptoms \n\n\nCreate a safe and affirming space for open sharing and reflection \n\n\nReframe menopause as a rite of passage into deeper embodiment and inner knowing \n\n\nConnect participants with a supportive community of women walking a similar path \n\n\nWho This Is For \n\n\nWomen in perimenopause or menopause (approx. ages 40–65) \n\n\nThose seeking natural tools for managing symptoms \n\n\nAnyone wanting to feel more empowered\, connected\, and informed \n\n\nFor more information on Dana\, please see her teacher profile here! \n*2 CE credits for registered yoga teachers \n\nCost: $30 \nFinancial Aid Available- Please stop by the front desk or email Kelsey@ashevillecommunityyoga.org \n \nPLEASE NOTE: We encourage pre-registration for all programming. Registering in advance guarantees your spot and helps the studio have adequate staffing. If fewer than 5 participants register the event may be canceled. \nRefund Policy: We understand that life happens and unforeseen circumstances come up. If life offers up an unexpected event and you need to withdraw from the workshop: \n\nA full refund will be issued if you need to withdraw 4+ days before the workshop. Please reach out for your refund\, as it will not be automatically applied to your account.\nIf you need to withdraw within 3 days or fewer\, no refund is provided.\n\nPlease create a Mindbody account for each participant if registering more than 1 person. If you have any questions regarding registration\, please email Kelsey at  kelsey@ashevillecommunityyoga.org 
URL:https://ashevillecommunityyoga.org/event/embracing-the-change-yoga-breath-for-menopause-perimenopause-w-dana-maria/
LOCATION:Asheville Community Yoga\, 8 Brookdale Rd\, Asheville\, North Carolina\, 28804\, United States
CATEGORIES:CE Courses,Workshops
ATTACH;FMTTYPE=image/jpeg:https://ashevillecommunityyoga.org/wp-content/uploads/2024/12/IMG_8685-scaled.jpeg
END:VEVENT
END:VCALENDAR