BEGIN:VCALENDAR
VERSION:2.0
PRODID:-//Asheville Community Yoga - ECPv6.15.20//NONSGML v1.0//EN
CALSCALE:GREGORIAN
METHOD:PUBLISH
X-WR-CALNAME:Asheville Community Yoga
X-ORIGINAL-URL:https://ashevillecommunityyoga.org
X-WR-CALDESC:Events for Asheville Community Yoga
REFRESH-INTERVAL;VALUE=DURATION:PT1H
X-Robots-Tag:noindex
X-PUBLISHED-TTL:PT1H
BEGIN:VTIMEZONE
TZID:America/New_York
BEGIN:DAYLIGHT
TZOFFSETFROM:-0500
TZOFFSETTO:-0400
TZNAME:EDT
DTSTART:20240310T070000
END:DAYLIGHT
BEGIN:STANDARD
TZOFFSETFROM:-0400
TZOFFSETTO:-0500
TZNAME:EST
DTSTART:20241103T060000
END:STANDARD
BEGIN:DAYLIGHT
TZOFFSETFROM:-0500
TZOFFSETTO:-0400
TZNAME:EDT
DTSTART:20250309T070000
END:DAYLIGHT
BEGIN:STANDARD
TZOFFSETFROM:-0400
TZOFFSETTO:-0500
TZNAME:EST
DTSTART:20251102T060000
END:STANDARD
BEGIN:DAYLIGHT
TZOFFSETFROM:-0500
TZOFFSETTO:-0400
TZNAME:EDT
DTSTART:20260308T070000
END:DAYLIGHT
BEGIN:STANDARD
TZOFFSETFROM:-0400
TZOFFSETTO:-0500
TZNAME:EST
DTSTART:20261101T060000
END:STANDARD
END:VTIMEZONE
BEGIN:VEVENT
DTSTART;TZID=America/New_York:20251102T100000
DTEND;TZID=America/New_York:20251102T130000
DTSTAMP:20260423T195405
CREATED:20250821T191724Z
LAST-MODIFIED:20251103T191156Z
UID:240889-1762077600-1762088400@ashevillecommunityyoga.org
SUMMARY:Resonant Release: A Yoga and Sound Healing Micro-Retreat w/ Heather Irene Smith
DESCRIPTION:In this micro-retreat\, we will explore the potent healing power of ​sound.\nThe first part of this micro-retreat will include a sound and mantra infused Vinyasa Yoga class with Heather Irene\, and the latter half will include a deep release\, 90 minute sound healing with Dawn Sagonias.\nThrough asana (Yoga poses)\, vocalization\, deep vibration\, global music\, and sound healing instruments (gongs\, singing bowls\, and harmonium)\, Heather Irene and Dawn will facilitate a “resonant release-” entraining the brain to the theta brainwave state for deep healing\, working with the subconscious mind\, and activating the parasympathetic nervous system so that the body can reset and direct its healing mechanisms where they are most needed\, physically\, emotionally\, and mentally.\nLeave feeling revitalized\, well rested\, and connected to Self\, Source\, and community. \nFor more information on Heather Irene\, please see her teacher profile here! \n\nCost: $45Financial Aid Available- Please stop by the front desk\, call\, or email kelsey@ashevillecommunityyoga.org. \n \n \nPLEASE NOTE: We encourage pre-registration for all programming. Registering in advance guarantees your spot and helps the studio have adequate staffing. If fewer than 5 participants register the event may be canceled. \nRefund Policy: We understand that life happens and unforeseen circumstances come up. If life offers up an unexpected event and you need to withdraw from the workshop: \n\nA full refund will be issued if you need to withdraw 4+ days before the workshop. Please reach out for your refund\, as it will not be automatically applied to your account.\nIf you need to withdraw within 3 days or fewer\, no refund is provided.\n\nPlease create a Mindbody account for each participant if registering more than 1 person. If you have any questions regarding registration\, please email Kelsey at  kelsey@ashevillecommunityyoga.org
URL:https://ashevillecommunityyoga.org/event/resonant-release-a-yoga-and-sound-healing-micro-retreat-w-heather-irene-smith/
LOCATION:Asheville Community Yoga\, 8 Brookdale Rd\, Asheville\, North Carolina\, 28804\, United States
CATEGORIES:Workshops
ATTACH;FMTTYPE=image/jpeg:https://ashevillecommunityyoga.org/wp-content/uploads/2025/02/Heather-Irene-Smith-cropped-1.jpeg
END:VEVENT
END:VCALENDAR