BEGIN:VCALENDAR
VERSION:2.0
PRODID:-//Asheville Community Yoga - ECPv6.15.20//NONSGML v1.0//EN
CALSCALE:GREGORIAN
METHOD:PUBLISH
X-WR-CALNAME:Asheville Community Yoga
X-ORIGINAL-URL:https://ashevillecommunityyoga.org
X-WR-CALDESC:Events for Asheville Community Yoga
REFRESH-INTERVAL;VALUE=DURATION:PT1H
X-Robots-Tag:noindex
X-PUBLISHED-TTL:PT1H
BEGIN:VTIMEZONE
TZID:America/New_York
BEGIN:DAYLIGHT
TZOFFSETFROM:-0500
TZOFFSETTO:-0400
TZNAME:EDT
DTSTART:20240310T070000
END:DAYLIGHT
BEGIN:STANDARD
TZOFFSETFROM:-0400
TZOFFSETTO:-0500
TZNAME:EST
DTSTART:20241103T060000
END:STANDARD
BEGIN:DAYLIGHT
TZOFFSETFROM:-0500
TZOFFSETTO:-0400
TZNAME:EDT
DTSTART:20250309T070000
END:DAYLIGHT
BEGIN:STANDARD
TZOFFSETFROM:-0400
TZOFFSETTO:-0500
TZNAME:EST
DTSTART:20251102T060000
END:STANDARD
BEGIN:DAYLIGHT
TZOFFSETFROM:-0500
TZOFFSETTO:-0400
TZNAME:EDT
DTSTART:20260308T070000
END:DAYLIGHT
BEGIN:STANDARD
TZOFFSETFROM:-0400
TZOFFSETTO:-0500
TZNAME:EST
DTSTART:20261101T060000
END:STANDARD
END:VTIMEZONE
BEGIN:VEVENT
DTSTART;TZID=America/New_York:20251214T101500
DTEND;TZID=America/New_York:20251214T121500
DTSTAMP:20260423T183134
CREATED:20250821T193205Z
LAST-MODIFIED:20251202T185429Z
UID:240888-1765707300-1765714500@ashevillecommunityyoga.org
SUMMARY:Mantra & Sound Bath on the Mat w/ Heather Irene Smith & Paul Gaeta
DESCRIPTION:Discover the profound connection between sound and consciousness in this mantra-infused All-Levels Yoga class.\nMantras\, powerful sound vibrations originating from ancient traditions\, can be used to cultivate inner peace\, enhance focus\, and deepen your connection to the divine or Source. Heather Irene and Paul Gaeta will weave sound through voice and instruments with movement to create a source of medicine for the body\, mind\, and spirit.  \nThis workshop will be experiential and guide you through: \n\n\nA mantra-themed All-Levels Bhakti Yoga class\, guided by Paul’s live music of ​20 different instruments including Native American flutes (that he makes himself)\, bowls\, gongs\, shakers​\, percussion instruments\, and other indigenous instruments from South America \n\n\nSinging/chanting together with others\, guided by Heather Irene on the harmonium \n\n\nYoga philosophy in relation to mantra \nYou will leave with: \n\n\nA powerful experience of voice\, live music and movement \n\n\nAn introduction to Sanskrit mantras and their holistic power \n\n\nKnowledge of local kirtan (musical mantra) artists and future opportunities to chant with others \n\nInner attunement- leave feeling rested\, attuned\, aligned\nCost: $30- Financial Aid Available- Please stop by the front desk\, call\, or email kelsey@ashevillecommunityyoga.org. \n\n\nFor more information on Heather Irene\, please see her teacher profile here! She teaches weekly donation-based Gentle flow on Mondays 6:15pm-7:15pm and Vinyasa Flow on Saturdays from 10:30-11:30am.  For more information on Paul\, please see his Instagram here. \n \n \nPLEASE NOTE: We encourage pre-registration for all programming. Registering in advance guarantees your spot and helps the studio have adequate staffing. If fewer than 5 participants register the event may be canceled. \nRefund Policy: We understand that life happens and unforeseen circumstances come up. If life offers up an unexpected event and you need to withdraw from the workshop: \n\nA full refund will be issued if you need to withdraw 4+ days before the workshop. Please reach out for your refund\, as it will not be automatically applied to your account.\nIf you need to withdraw within 3 days or fewer\, no refund is provided.\n\nPlease create a Mindbody account for each participant if registering more than 1 person. If you have any questions regarding registration\, please email Kelsey at  kelsey@ashevillecommunityyoga.org
URL:https://ashevillecommunityyoga.org/event/mantra-on-the-mat-w-heather-irene-smith/
LOCATION:Asheville Community Yoga\, 8 Brookdale Rd\, Asheville\, North Carolina\, 28804\, United States
CATEGORIES:Workshops
ATTACH;FMTTYPE=image/jpeg:https://ashevillecommunityyoga.org/wp-content/uploads/2025/02/Heather-Irene-Smith-cropped-1.jpeg
END:VEVENT
END:VCALENDAR