BEGIN:VCALENDAR
VERSION:2.0
PRODID:-//Asheville Community Yoga - ECPv6.15.20//NONSGML v1.0//EN
CALSCALE:GREGORIAN
METHOD:PUBLISH
X-WR-CALNAME:Asheville Community Yoga
X-ORIGINAL-URL:https://ashevillecommunityyoga.org
X-WR-CALDESC:Events for Asheville Community Yoga
REFRESH-INTERVAL;VALUE=DURATION:PT1H
X-Robots-Tag:noindex
X-PUBLISHED-TTL:PT1H
BEGIN:VTIMEZONE
TZID:America/New_York
BEGIN:DAYLIGHT
TZOFFSETFROM:-0500
TZOFFSETTO:-0400
TZNAME:EDT
DTSTART:20250309T070000
END:DAYLIGHT
BEGIN:STANDARD
TZOFFSETFROM:-0400
TZOFFSETTO:-0500
TZNAME:EST
DTSTART:20251102T060000
END:STANDARD
BEGIN:DAYLIGHT
TZOFFSETFROM:-0500
TZOFFSETTO:-0400
TZNAME:EDT
DTSTART:20260308T070000
END:DAYLIGHT
BEGIN:STANDARD
TZOFFSETFROM:-0400
TZOFFSETTO:-0500
TZNAME:EST
DTSTART:20261101T060000
END:STANDARD
BEGIN:DAYLIGHT
TZOFFSETFROM:-0500
TZOFFSETTO:-0400
TZNAME:EDT
DTSTART:20270314T070000
END:DAYLIGHT
BEGIN:STANDARD
TZOFFSETFROM:-0400
TZOFFSETTO:-0500
TZNAME:EST
DTSTART:20271107T060000
END:STANDARD
END:VTIMEZONE
BEGIN:VEVENT
DTSTART;TZID=America/New_York:20260322T090000
DTEND;TZID=America/New_York:20260322T120000
DTSTAMP:20260423T144521
CREATED:20260219T232333Z
LAST-MODIFIED:20260220T175443Z
UID:242346-1774170000-1774180800@ashevillecommunityyoga.org
SUMMARY:Happy Hips & Hamstrings w/  Jot Anant
DESCRIPTION:We’ll begin with an in-depth anatomical lecture to help you better understand the structure and function of your hips and hamstrings. Rather than offering a one-size-fits-all approach\, this workshop invites you to appreciate your own unique skeletal shape\, joint orientation\, and muscular patterns. With this foundational knowledge\, you’ll be empowered to adapt your practice in ways that truly serve your body. \nTightness in the hips and hamstrings often develops from everyday habits—running\, sitting\, walking\, stress\, or repetitive movement patterns. Over time\, unconscious compensation and postural habits can create restriction\, discomfort\, or pain. By deepening your understanding of anatomy and common yoga alignment cues\, you’ll begin to unravel tension and create sustainable\, functional mobility. \nA special highlight of this workshop is our partnered mobility exploration. You’ll team up to explore hip joint and hamstring mobility together\, using guided techniques to better understand your own anatomical structure. Through observation\, feedback\, and supported movement\, you’ll gain insight into how your bones move within the joint\, where your natural boundaries lie\, and how to work with—not against—your body. \nFollowing the lecture and partner work\, we’ll move into an integrated practice that weaves together Yang and Yin styles: \n\nYang flow to build heat\, strength\, and length\, particularly along the back line of the body and around the full circumference of the hips.\nYin postures to gently target the joints and connective tissues\, inviting deep release and restoration.\n\nProps will be thoughtfully incorporated to ensure that every participant feels both supported and appropriately challenged. \nThroughout the workshop\, you’ll learn how to strengthen and stabilize these regions while cultivating greater mobility and ease. As we work toward a variety of peak postures\, you’ll experience how balancing effort and surrender creates spaciousness\, resilience\, and freedom in the body. \nEach participant will receive a detailed PDF handout filled with key insights and practical tools to continue exploring long after the workshop ends. \nAre you ready to stretch\, strengthen\, and discover new possibilities within your body? We can’t wait to move\, learn\, and explore together. \nPlease note: this workshop is 3 hours long. \nCost: $45Financial Aid Available \n \nFor more information on Jot Anant\, please visit her website at www.JotAnant.org\, or see her teacher profile here. Jot Anant teaches weekly donation-based Vinyasa Flow Thursdays 9-10:30am\, Warm Yin Fridays 6-7:15pm and Gentle Flow Saturdays 9-10am. \nPLEASE NOTE: We encourage pre-registration for all programming. Registering in advance guarantees your spot and helps the studio have adequate staffing. If fewer than 5 participants register the event may be canceled. \nRefund Policy: We understand that life happens and unforeseen circumstances come up. If life offers up an unexpected event and you need to withdraw from the workshop: \n\nA full refund will be issued if you need to withdraw 4+ days before the workshop.\nIf you need to withdraw within 3 days or fewer\, no refund is provided.\n\nPlease create a Mindbody account for each participant if registering more than 1 person. If you have any questions regarding registration\, or financial aid\, please email Kelsey at  kelsey@ashevillecommunityyoga.org  \nLate Policy: Doors will close at the workshop start time. We encourage you to arrive at least 15 minutes before the workshop start time to ensure there is ample time to park\, check in and settle in to your space. We do have a 10 minute grace period\, and we encourage you to call the studio to let us know if you are running behind. If you are later than 10 minutes after the start of the workshop\, there is a chance you will not be able to enter and no refund will be given. \n\nCapacity: Please note: Some workshops will fill to capacity of 28 students.
URL:https://ashevillecommunityyoga.org/event/happy-hips-hamstrings-w-jot-anant-3/
LOCATION:Asheville Community Yoga\, 8 Brookdale Rd\, Asheville\, North Carolina\, 28804\, United States
CATEGORIES:Workshops
ATTACH;FMTTYPE=image/jpeg:https://ashevillecommunityyoga.org/wp-content/uploads/2024/06/GW9A0212-scaled.jpg
END:VEVENT
END:VCALENDAR