BEGIN:VCALENDAR
VERSION:2.0
PRODID:-//Asheville Community Yoga - ECPv6.15.20//NONSGML v1.0//EN
CALSCALE:GREGORIAN
METHOD:PUBLISH
X-ORIGINAL-URL:https://ashevillecommunityyoga.org
X-WR-CALDESC:Events for Asheville Community Yoga
REFRESH-INTERVAL;VALUE=DURATION:PT1H
X-Robots-Tag:noindex
X-PUBLISHED-TTL:PT1H
BEGIN:VTIMEZONE
TZID:America/New_York
BEGIN:DAYLIGHT
TZOFFSETFROM:-0500
TZOFFSETTO:-0400
TZNAME:EDT
DTSTART:20250309T070000
END:DAYLIGHT
BEGIN:STANDARD
TZOFFSETFROM:-0400
TZOFFSETTO:-0500
TZNAME:EST
DTSTART:20251102T060000
END:STANDARD
BEGIN:DAYLIGHT
TZOFFSETFROM:-0500
TZOFFSETTO:-0400
TZNAME:EDT
DTSTART:20260308T070000
END:DAYLIGHT
BEGIN:STANDARD
TZOFFSETFROM:-0400
TZOFFSETTO:-0500
TZNAME:EST
DTSTART:20261101T060000
END:STANDARD
BEGIN:DAYLIGHT
TZOFFSETFROM:-0500
TZOFFSETTO:-0400
TZNAME:EDT
DTSTART:20270314T070000
END:DAYLIGHT
BEGIN:STANDARD
TZOFFSETFROM:-0400
TZOFFSETTO:-0500
TZNAME:EST
DTSTART:20271107T060000
END:STANDARD
END:VTIMEZONE
BEGIN:VEVENT
DTSTART;TZID=America/New_York:20260402T183000
DTEND;TZID=America/New_York:20260430T200000
DTSTAMP:20260423T133331
CREATED:20260227T203010Z
LAST-MODIFIED:20260312T185051Z
UID:242437-1775154600-1777579200@ashevillecommunityyoga.org
SUMMARY:Fanciful Flows (5-Week Drop-In Series) w/ Leaflin Winecoff
DESCRIPTION:This special 90 minute class is designed for those craving a next level challenge with lots of play woven in!\nStudents can expect to experience: ~Creative sequencing ~Poetic prompts ~Fantastical yet very functional transitions ~Gentle encouragement towards super hero challenges ~Attention to subtleties of both physical and esoteric anatomy ~Pranayama woven throughout ~A supportive soundtrack ~Deep restorative savasana  \nThis class will be akin to our Vinyasa flows at a Level 1 and 2. There is no pre-requisite required for this class\, however\, it will be expected that students feel confident making personal modifications as needed\, to keep themselves safe and not infringe on the safety of others. \nJoin us any and every Thursday in April for 90 minutes of fun\, fanciful flows that will take you to new places! \nSliding Scale $15-$25 per person per class. Please use the drop-down menu to select the price that best fits what you can pay.  \n\nFor more information on Leaflin\, please see her teacher profile here!  Leaflin teaches weekly donation-based Gentle Flow on Wednesdays from 6:15-7:15pm. \nClick here to register for April 2Click here to register for April 9Click here to register for April 16Click here to register for April 23Click here to register for April 30  \n\n\n\n\n\n\n\n\n\n\n\nPLEASE NOTE: We encourage pre-registration for all programming. Registering in advance guarantees your spot and helps the studio have adequate staffing. If fewer than 5 participants register the event may be canceled. \nRefund Policy: We understand that life happens and unforeseen circumstances come up. If life offers up an unexpected event and you need to withdraw from the workshop: \n\nA full refund will be issued if you need to withdraw 4+ days before the workshop. Please reach out for your refund\, as it will not be automatically applied to your account.\nIf you need to withdraw within 3 days or fewer\, no refund is provided.\n\nPlease create a Mindbody account for each participant if registering more than 1 person. If you have any questions regarding registration\, please email Kelsey at  kelsey@ashevillecommunityyoga.org \n \nLate Policy: Doors will close at the workshop start time. We encourage you to arrive at least 15 minutes before the workshop start time to ensure there is ample time to park\, check in and settle in to your space. We do have a 10 minute grace period\, and we encourage you to call the studio to let us know if you are running behind. If you are later than 10 minutes after the start of the workshop\, there is a chance you will not be able to enter and no refund will be given. \n\nCapacity: Please note: Some workshops will fill to capacity of 28 students.
URL:https://ashevillecommunityyoga.org/event/fanciful-flows-5-week-drop-in-series-w-leaflin-winecoff/
LOCATION:Asheville Community Yoga\, 8 Brookdale Rd\, Asheville\, North Carolina\, 28804\, United States
CATEGORIES:Workshops
ATTACH;FMTTYPE=image/jpeg:https://ashevillecommunityyoga.org/wp-content/uploads/2024/12/Leaflin.jpeg
END:VEVENT
BEGIN:VEVENT
DTSTART;TZID=America/New_York:20260404T101500
DTEND;TZID=America/New_York:20260404T121500
DTSTAMP:20260423T133331
CREATED:20260226T194217Z
LAST-MODIFIED:20260310T125340Z
UID:242424-1775297700-1775304900@ashevillecommunityyoga.org
SUMMARY:Didgeridoo Meditation w/ Corey Costanzo
DESCRIPTION:The didgeridoo is the world’s oldest wind instrument. This deceptively simple hollow piece of wood produces a hauntingly rich sound laced with overtones and vibrations that facilitate a deep sense of relaxation and connection to one’s inner wisdom. Experience the ancient sound of the didgeridoo as you are guided along a journey of rhythm\, breath\, and soul. \nThis workshop will follow a similar structure to Corey’s weekly restorative yoga with didgeridoo class with added space for gentle pranayama and guided imagery to help enhance and deepen your relaxation journey. He will be playing multiple didgeridoos in different keys to flow through various meditative states. Join us for two hours to unwind and let the didgeridoo guide you to a deep place of relaxation and ease.\n\n\n  \nFor more information on Corey\, please see his teacher profile here!  Corey teaches weekly donation-based Restorative Yoga w/ Didgeridoo Fridays 4-5:15pm.  \n\n\n\n\n\n\n\n\n\n\n\n \nCost: $30 per personFinancial Aid Available- Please stop by the front desk\, call\, or email kelsey@ashevillecommunityyoga.org. \nPLEASE NOTE: We encourage pre-registration for all programming. Registering in advance guarantees your spot and helps the studio have adequate staffing. If fewer than 5 participants register the event may be canceled. \nRefund Policy: We understand that life happens and unforeseen circumstances come up. If life offers up an unexpected event and you need to withdraw from the workshop: \n\nA full refund will be issued if you need to withdraw 4+ days before the workshop. Please reach out for your refund\, as it will not be automatically applied to your account.\nIf you need to withdraw within 3 days or fewer\, no refund is provided.\n\nPlease create a Mindbody account for each participant if registering more than 1 person. If you have any questions regarding registration\, please email Kelsey at  kelsey@ashevillecommunityyoga.org \n \nLate Policy: Doors will close at the workshop start time. We encourage you to arrive at least 15 minutes before the workshop start time to ensure there is ample time to park\, check in and settle in to your space. We do have a 10 minute grace period\, and we encourage you to call the studio to let us know if you are running behind. If you are later than 10 minutes after the start of the workshop\, there is a chance you will not be able to enter and no refund will be given. \n\nCapacity: Please note: Some workshops will fill to capacity of 28 students.
URL:https://ashevillecommunityyoga.org/event/didgeridoo-meditation-w-corey-costanzo/
LOCATION:Asheville Community Yoga\, 8 Brookdale Rd\, Asheville\, North Carolina\, 28804\, United States
CATEGORIES:Workshops
ATTACH;FMTTYPE=image/png:https://ashevillecommunityyoga.org/wp-content/uploads/2026/02/Screen-Shot-2026-03-02-at-11.34.27-AM-e1772469315273.png
END:VEVENT
END:VCALENDAR