BEGIN:VCALENDAR
VERSION:2.0
PRODID:-//Asheville Community Yoga - ECPv6.15.20//NONSGML v1.0//EN
CALSCALE:GREGORIAN
METHOD:PUBLISH
X-ORIGINAL-URL:https://ashevillecommunityyoga.org
X-WR-CALDESC:Events for Asheville Community Yoga
REFRESH-INTERVAL;VALUE=DURATION:PT1H
X-Robots-Tag:noindex
X-PUBLISHED-TTL:PT1H
BEGIN:VTIMEZONE
TZID:America/New_York
BEGIN:DAYLIGHT
TZOFFSETFROM:-0500
TZOFFSETTO:-0400
TZNAME:EDT
DTSTART:20250309T070000
END:DAYLIGHT
BEGIN:STANDARD
TZOFFSETFROM:-0400
TZOFFSETTO:-0500
TZNAME:EST
DTSTART:20251102T060000
END:STANDARD
BEGIN:DAYLIGHT
TZOFFSETFROM:-0500
TZOFFSETTO:-0400
TZNAME:EDT
DTSTART:20260308T070000
END:DAYLIGHT
BEGIN:STANDARD
TZOFFSETFROM:-0400
TZOFFSETTO:-0500
TZNAME:EST
DTSTART:20261101T060000
END:STANDARD
BEGIN:DAYLIGHT
TZOFFSETFROM:-0500
TZOFFSETTO:-0400
TZNAME:EDT
DTSTART:20270314T070000
END:DAYLIGHT
BEGIN:STANDARD
TZOFFSETFROM:-0400
TZOFFSETTO:-0500
TZNAME:EST
DTSTART:20271107T060000
END:STANDARD
END:VTIMEZONE
BEGIN:VEVENT
DTSTART;TZID=America/New_York:20260503T130000
DTEND;TZID=America/New_York:20260503T150000
DTSTAMP:20260423T134216
CREATED:20260323T155108Z
LAST-MODIFIED:20260323T155303Z
UID:242607-1777813200-1777820400@ashevillecommunityyoga.org
SUMMARY:Malas For Mom: Gifts from the Heart w/ Sonya Costello
DESCRIPTION:Calling all tweens – it’s time to get crafty and show the moms and special bonus moms in your life some extra love this Mother’s Day! In this cozy\, fun\, welcoming workshop\, you’ll create beautiful mala bead bracelets to gift to your mom\, grandma\, aunt\, or any other important woman who supports and inspires you.\n\n\n\n\n\n\n\nWe’ll gather in a fun\, kind\, and judgment-free space to: \n\n\nOpen the Circle with kindness agreements  \n\n\nGround & Reset with simple breath work and gentle movement \n\n\nDesign your personalized mala bracelet using quality beads and charms \n\n\nClose the Circle with a gratitude reflection \n\n\nThis is a calm\, creative space to connect and celebrate the moms in your world. Both girls and boys are welcome to join the fun! \nGet ready to make a gift straight from the heart! \n\n\n\n\n\n\n\n  \n\nFor more information on Sonya\, please see her teacher profile here!  Sonya teaches weekly donation-based Vinyasa Flow on Tuesdays from 7:30-8:30am. \nPlease see this link for information on how to sign up your kiddo for this workshop! \n  \n\n\n\n\n\n\n\n\n\n\n\n \nCost: $35 per person (cost includes fees for Mala bead bracelet\, which retails at $23-$25.)Financial Aid Available- Please stop by the front desk\, call\, or email kelsey@ashevillecommunityyoga.org. \nPLEASE NOTE: We encourage pre-registration for all programming. Registering in advance guarantees your spot and helps the studio have adequate staffing. If fewer than 5 participants register the event may be canceled. \nRefund Policy: We understand that life happens and unforeseen circumstances come up. If life offers up an unexpected event and you need to withdraw from the workshop: \n\nA full refund will be issued if you need to withdraw 4+ days before the workshop. Please reach out for your refund\, as it will not be automatically applied to your account.\nIf you need to withdraw within 3 days or fewer\, no refund is provided.\n\nPlease create a Mindbody account for each participant if registering more than 1 person. If you have any questions regarding registration\, please email Kelsey at  kelsey@ashevillecommunityyoga.org \nLate Policy: Doors will close at the workshop start time. We encourage you to arrive at least 15 minutes before the workshop start time to ensure there is ample time to park\, check in and settle in to your space. We do have a 10 minute grace period\, and we encourage you to call the studio to let us know if you are running behind. If you are later than 10 minutes after the start of the workshop\, there is a chance you will not be able to enter and no refund will be given. \n\nCapacity: Please note: Some workshops will fill to capacity of 28 students.
URL:https://ashevillecommunityyoga.org/event/malas-for-mom-gifts-from-the-heart-w-sonya-costello/
LOCATION:Asheville Community Yoga\, 8 Brookdale Rd\, Asheville\, North Carolina\, 28804\, United States
CATEGORIES:Workshops
ATTACH;FMTTYPE=image/jpeg:https://ashevillecommunityyoga.org/wp-content/uploads/2013/12/Sonya_2022-202240170.jpg
END:VEVENT
END:VCALENDAR