BEGIN:VCALENDAR
VERSION:2.0
PRODID:-//Asheville Community Yoga - ECPv6.15.20//NONSGML v1.0//EN
CALSCALE:GREGORIAN
METHOD:PUBLISH
X-WR-CALNAME:Asheville Community Yoga
X-ORIGINAL-URL:https://ashevillecommunityyoga.org
X-WR-CALDESC:Events for Asheville Community Yoga
REFRESH-INTERVAL;VALUE=DURATION:PT1H
X-Robots-Tag:noindex
X-PUBLISHED-TTL:PT1H
BEGIN:VTIMEZONE
TZID:America/New_York
BEGIN:DAYLIGHT
TZOFFSETFROM:-0500
TZOFFSETTO:-0400
TZNAME:EDT
DTSTART:20250309T070000
END:DAYLIGHT
BEGIN:STANDARD
TZOFFSETFROM:-0400
TZOFFSETTO:-0500
TZNAME:EST
DTSTART:20251102T060000
END:STANDARD
BEGIN:DAYLIGHT
TZOFFSETFROM:-0500
TZOFFSETTO:-0400
TZNAME:EDT
DTSTART:20260308T070000
END:DAYLIGHT
BEGIN:STANDARD
TZOFFSETFROM:-0400
TZOFFSETTO:-0500
TZNAME:EST
DTSTART:20261101T060000
END:STANDARD
BEGIN:DAYLIGHT
TZOFFSETFROM:-0500
TZOFFSETTO:-0400
TZNAME:EDT
DTSTART:20270314T070000
END:DAYLIGHT
BEGIN:STANDARD
TZOFFSETFROM:-0400
TZOFFSETTO:-0500
TZNAME:EST
DTSTART:20271107T060000
END:STANDARD
END:VTIMEZONE
BEGIN:VEVENT
DTSTART;TZID=America/New_York:20260516T101500
DTEND;TZID=America/New_York:20260516T121500
DTSTAMP:20260423T144509
CREATED:20260304T184212Z
LAST-MODIFIED:20260305T000031Z
UID:242479-1778926500-1778933700@ashevillecommunityyoga.org
SUMMARY:Where Your Time Goes\, Your Energy Flows w/ Katbird Dunn
DESCRIPTION:A 2-Hour Experiential Workshop on Taking Back Your Time \nMost people aren’t short on time—they’re over-committed. Between work\, family\, social obligations\, and internal pressure to “keep up\,” many of us lose touch with what we actually want our time to support. This workshop offers a grounded\, practical opportunity to pause\, reconnect with your values\, and make intentional choices about where your time and energy are going. This is not about optimizing your schedule or doing more. It’s about taking back your time—on purpose.  \n \nWhat This Workshop Includes:  \nMindfulness of the Body  \nWe’ll begin with a guided mindfulness practice focused on the body and nervous system. Stress and over-commitment often show up physically before we consciously recognize them. Learning to notice these early signals helps interrupt burnout and chronic overextension.  \n☮️ Equanimity & Over-Commitment  \nRather than trying to eliminate stress\, we’ll explore equanimity—the ability to stay present and steady in the face of pressure. Participants will practice relating differently to urgency\, expectations\, and internalized responsibility\, creating more space for choice instead of reaction.  \n \nValues Clarification  \nThrough a simple\, accessible values exercise\, participants will identify what matters most to them right now. We’ll reflect on how clearly those values are—or aren’t—represented in daily commitments\, with a brief reflection on long-term perspective offered as food for thought.  \nCalendar Audit (Bring Your Planner or Device)  \nThis workshop is designed to be hands-on. Participants will review their actual calendars\, planners\, or scheduling apps to identify:  \n✨ Obligations versus optional commitments ✨ Energy-draining versus energy-supportive activities ✨ Patterns driven by habit\, fear\, or external expectations  \nWith guidance\, participants will identify at least one commitment to remove\, renegotiate\, or approach differently. \nScheduling What Sustains You \nSelf-care will be reframed as infrastructure—not a reward or luxury. Participants will intentionally schedule realistic\, supportive time into their calendars during the workshop\, reinforcing that sustainability requires structure.  \nWhat You’ll Take Away:✨ A clearer understanding of how your time and energy are currently being used ✨ Greater awareness of the patterns driving over-commitment ✨ Clarity around personal values and priorities ✨ At least one concrete boundary or calendar change you can implement immediately ✨ A scheduled act of self-care already on your calendar ✨ Practical tools for making intentional choices about commitments moving forward \nWho This Workshop Is For:This workshop is well-suited for anyone who: ✩ Feels overbooked\, stretched thin\, or constantly “on” ✩ Struggles to say no or protect personal time ✩ Wants practical tools without pressure\, shame\, or perfectionism ✩ Is ready to be more intentional about how their time is spent  \nNo prior mindfulness experience is required. Please bring your calendar\, planner\, or scheduling device to fully participate in the audit portion of the workshop. \n \nTaking Back Your Time—On Purpose\n \nFor more information on Katbird\, please see his teacher profile here! He teaches donation based Meditation weekly on Thursdays from 5:15-6pm. \nCost: $30Financial Aid Available- Please stop by the front desk\, call\, or email kelsey@ashevillecommunityyoga.org. \n \n \nPLEASE NOTE: We encourage pre-registration for all programming. Registering in advance guarantees your spot and helps the studio have adequate staffing. If fewer than 5 participants register the event may be canceled. \nRefund Policy: We understand that life happens and unforeseen circumstances come up. If life offers up an unexpected event and you need to withdraw from the workshop: \n\nA full refund will be issued if you need to withdraw 4+ days before the workshop. Please reach out for your refund\, as it will not be automatically applied to your account.\nIf you need to withdraw within 3 days or fewer\, no refund is provided.\n\nPlease create a Mindbody account for each participant if registering more than 1 person. If you have any questions regarding registration\, please email Kelsey at  kelsey@ashevillecommunityyoga.org \n \n \n \nLate Policy: Doors will close at the workshop start time. We encourage you to arrive at least 15 minutes before the workshop start time to ensure there is ample time to park\, check in and settle in to your space. We do have a 10 minute grace period\, and we encourage you to call the studio to let us know if you are running behind. If you are later than 10 minutes after the start of the workshop\, there is a chance you will not be able to enter and no refund will be given. \n \nCapacity: Please note: Some workshops will fill to capacity of 28 students.
URL:https://ashevillecommunityyoga.org/event/where-your-time-goes-your-energy-flows-w-katbird-dunn/
LOCATION:Asheville Community Yoga\, 8 Brookdale Rd\, Asheville\, North Carolina\, 28804\, United States
CATEGORIES:Workshops
ATTACH;FMTTYPE=image/jpeg:https://ashevillecommunityyoga.org/wp-content/uploads/2023/09/Katbird-scaled.jpg
END:VEVENT
END:VCALENDAR