BEGIN:VCALENDAR
VERSION:2.0
PRODID:-//Asheville Community Yoga - ECPv6.15.20//NONSGML v1.0//EN
CALSCALE:GREGORIAN
METHOD:PUBLISH
X-ORIGINAL-URL:https://ashevillecommunityyoga.org
X-WR-CALDESC:Events for Asheville Community Yoga
REFRESH-INTERVAL;VALUE=DURATION:PT1H
X-Robots-Tag:noindex
X-PUBLISHED-TTL:PT1H
BEGIN:VTIMEZONE
TZID:America/New_York
BEGIN:DAYLIGHT
TZOFFSETFROM:-0500
TZOFFSETTO:-0400
TZNAME:EDT
DTSTART:20250309T070000
END:DAYLIGHT
BEGIN:STANDARD
TZOFFSETFROM:-0400
TZOFFSETTO:-0500
TZNAME:EST
DTSTART:20251102T060000
END:STANDARD
BEGIN:DAYLIGHT
TZOFFSETFROM:-0500
TZOFFSETTO:-0400
TZNAME:EDT
DTSTART:20260308T070000
END:DAYLIGHT
BEGIN:STANDARD
TZOFFSETFROM:-0400
TZOFFSETTO:-0500
TZNAME:EST
DTSTART:20261101T060000
END:STANDARD
BEGIN:DAYLIGHT
TZOFFSETFROM:-0500
TZOFFSETTO:-0400
TZNAME:EDT
DTSTART:20270314T070000
END:DAYLIGHT
BEGIN:STANDARD
TZOFFSETFROM:-0400
TZOFFSETTO:-0500
TZNAME:EST
DTSTART:20271107T060000
END:STANDARD
END:VTIMEZONE
BEGIN:VEVENT
DTSTART;TZID=America/New_York:20260614T100000
DTEND;TZID=America/New_York:20260614T130000
DTSTAMP:20260423T155741
CREATED:20260305T234443Z
LAST-MODIFIED:20260312T214054Z
UID:242553-1781431200-1781442000@ashevillecommunityyoga.org
SUMMARY:Self Regulation: The Vagus Nerve w/ Diane Saccone
DESCRIPTION:The vagus is the tenth cranial nerve\, originating in the brain stem and traveling through the face\, neck\, lungs\, heart\, diaphragm\, and abdomen\, including the stomach\, spleen\, intestines\, colon\, liver\, and kidneys. The vagus nerve is intricately connected to mood\, immune response\, digestion\, and heart rate. \nWhen we engage with something greater than ourselves and feel a sense of connection to others and the outside world\, it activates the vagus nerve—which can help lower blood pressure\, inhibit the stress response and reduce inflammation. It can also increase heart rate variability (a biomarker of improved health)\, reduce pain and improve sleep and mood. \nThis workshop will help you become skilled at switching between the sympathetic and parasympathetic nervous system with greater ease and choice and help you reclaim the balance of your body and mind using tools of mindfulness\, conscious breathing\, and physical postures. \nThis workshop is appropriate for all levels of yoga and anyone wishing to learn more about the role of the nervous system and how to effectively control stress\, anxiety or negative emotions. A workbook will be included for all students and an online option will be available for anyone not able to attend. 3 CEU’s are offered for yoga teachers needing YACEP credits. \nDiane Saccone\, MS MT (ASACP) ERYT 500 spent the majority of her career in the field of Clinical Laboratory medicine changing careers after her move with her husband to Western North Carolina in 2005. She also developed the active older adult program at the YMCA of Western North Carolina where she served as the Director of Healthy Aging Initiatives and traveled through the Y of the USA as a subject matter expert on aging; lecturing and teaching evidence based falls prevention programs across the country. For more information on Diane\, please see her teacher profile here!\nCost: $45\nFinancial Aid Available- Please stop by the front desk or email Kelsey@AshevilleCommunityYoga.org\n3 YACEP CEU’s available to Yoga Instructors through this course. Email Diane at grdngrl54@gmail.com for more information regarding CE credits.\n \nCLICK HERE TO REGISTER FOR IN-PERSON \nPLEASE NOTE: We encourage pre-registration for all programming. Registering in advance guarantees your spot and helps the studio have adequate staffing. If fewer than 5 participants register the event may be canceled. \nRefund Policy: We understand that life happens and unforeseen circumstances come up. If life offers up an unexpected event and you need to withdraw from the workshop:  \n\nA full refund will be issued if you need to withdraw 4+ days before the workshop.\n\n\nIf you need to withdraw within 3 days or fewer\, no refund is provided.  \n\n\nPlease create a Mindbody account for each participant if registering more than 1 person. If you have any questions regarding registration\, or financial aid\, please email Kelsey@AshevilleCommunityYoga.org \nLate Policy: Doors will close at the workshop start time. We encourage you to arrive at least 15 minutes before the workshop start time to ensure there is ample time to park\, check in and settle in to your space. We do have a 10 minute grace period\, and we encourage you to call the studio to let us know if you are running behind. If you are later than 10 minutes after the start of the workshop\, there is a chance you will not be able to enter and no refund will be given. \n\nCapacity: Please note: Some workshops will fill to capacity of 28 students.
URL:https://ashevillecommunityyoga.org/event/self-regulation-the-vagus-nerve-w-diane-saccone-2/
LOCATION:Asheville Community Yoga\, 8 Brookdale Rd\, Asheville\, North Carolina\, 28804\, United States
CATEGORIES:Workshops
ATTACH;FMTTYPE=image/jpeg:https://ashevillecommunityyoga.org/wp-content/uploads/2022/07/diane-head-shot-e1673632365258.jpeg
END:VEVENT
END:VCALENDAR